Workbook
Name Abaroa: Hoja2!$BQ$3:$BQ$4
Name Abel_Iturralde: Hoja2!$AT$3:$AT$4
Name Abuná: Hoja2!$EB$3:$EB$4
Name Acasio: Hoja2!$EF$3
Name Achacachi: Hoja2!$EG$3
Name AGRICULTURA_SILVICULTURA_CAZA_PESCA: OECA!$CQ$21:$CQ$24
Name Alonso_de_Ibáñez: Hoja2!$CL$3:$CL$4
Name Andrés_Ibáñez: Hoja2!$DB$3:$DB$7
Name Ángel_Sandóval: Hoja2!$DM$3
Name Aniceto_Arce: Hoja2!$CW$3:$CW$4
Name Antonio_Quijarro: Hoja2!$CQ$3:$CQ$5
Name APICULTURA: OECA!$DO$20:$DO$21
Name Arani: Hoja2!$BD$3:$BD$4
Name Aroma: Hoja2!$AR$3:$AR$9
Name Arque: Hoja2!$BE$3:$BE$4
Name Aviles: Hoja2!$CY$3:$CY$4
Name Ayopaya: Hoja2!$BB$3:$BB$5
Name Azurduy: Hoja2!$W$3:$W$4
Name Bautista_Saavedra: Hoja2!$AU$3:$AU$4
Name Belisario_Boeto: Hoja2!$AC$3
Name Beni: Hoja1!$C$3:$C$21
Name Beni.: Hoja2!$L$3:$L$9
Name Beni1: Hoja2!$L$3:$L$9
Name Bernardino_Bilbao_Rioja: Hoja2!$CR$3:$CR$4
Name Bolívar: Hoja2!$BN$3
Name Burnet_O_Connor: Hoja2!$DA$3
Name Camacho: Hoja2!$AI$3:$AI$7
Name Campero: Hoja2!$BA$3:$BA$5
Name Capinota: Hoja2!$BF$3:$BF$5
Name Caranavi: Hoja2!$AY$3:$AY$4
Name Carangas: Hoja2!$BR$3:$BR$4
Name Carrasco: Hoja2!$BK$3:$BK$8
Name Cercado: Hoja2!$AZ$3
Name Cercado_Bn: Hoja2!$DQ$3:$DQ$4
Name Cercado_Or: Hoja2!$BP$3:$BP$6
Name Cercado_Tj: Hoja2!$CV$3
Name Chapare: Hoja2!$BI$3:$BI$5
Name Charcas: Hoja2!$CJ$3:$CJ$4
Name Chayanta: Hoja2!$CI$3:$CI$6
Name Chiquitos: Hoja2!$DF$3:$DF$5
Name Chuquisaca: Hoja1!$D$3:$D$31
Name Chuquisaca.: Hoja2!$M$3:$M$12
Name Chuquisaca1: Hoja2!$M$3:$M$12
Name Cochabamba: Hoja1!$E$3:$E$49
Name Cochabamba.: Hoja2!$N$3:$N$18
Name Cochabamba1: Hoja2!$N$3:$N$18
Name COMERCIO: OECA!$CN$21:$CN$25
Name CONSTRUCCIÓN: OECA!$CM$21
Name Cordillera: Hoja2!$DH$3:$DH$9
Name Cornelio_Saavedra: Hoja2!$CH$3:$CH$5
Name CRIA_DE_AVES.: OECA!$DM$20:$DM$21
Name CRÍA_DE_GANADO_CAMÉLIDO_O_AUQUÉNIDO.: OECA!$DH$20:$DH$22
Name CRÍA_DE_GANADO_CAPRINO.: OECA!$DJ$20:$DJ$22
Name CRÍA_DE_GANADO_EQUINO.: OECA!$DG$20:$DG$22
Name CRÍA_DE_GANADO_OVINO.: OECA!$DI$20:$DI$23
Name CRÍA_DE_GANADO_PORCINO.: OECA!$DK$20
Name CRÍA_Y_REPRODUCCIÓN_DE_AVES_DE_CORRAL.: OECA!$DL$20
Name CRÍA_Y_REPRODUCCIÓN_DE_GANADO_BOVINO_Y_BÚFALOS.: OECA!$DF$20:$DF$23
Name CUNICULTURA: OECA!$DQ$20
Name CUYICULTURA: OECA!$DP$20

Sheet OECA
D3: Ministerio de Desarrollo Productivo, Rural y Agua - MDPRyA Observatorio Agroambiental y Productivo - OAP | AQ3: RUNAF | BE3: Form. | BJ3: A2 | BV3: PEJERREY | BX3: BOVINO | BZ3: ACELGA
BV4: SABALO | BX4: CAPRINO | BZ4: ACEROLA
C5: Registro Único de la Agricultura Familiar Sustentable - OECA | BC5: CÓDIGO OECA | BV5: ISPI | BX5: OVINO | BZ5: ACHACHAIRÚ
BV6: MAURI | BX6: PORCINO | BZ6: ACHICORIA
D7: 1. Identificación de la OECA | BB7: NÚMERO CORRELATIVO | BV7: CARACHI NEGRO | BX7: CAMÉLIDOS | BZ7: ACHIOTE | CB7: @ | CC7: @ | CD7: 1. SI
BV8: TRUCHA | BX8: APICULTURA | BZ8: ACHIRA | CB8: Lb | CC8: Lb | CD8: 2. NO
BV9: ALEVINES | BX9: AVICULTURA | BZ9: ACHOJCHA | CB9: KG | CC9: KG
D10: Nombre/Razón Social: | AS10: Número de personería jurídica / Certificación de pertenencia | BG10: Expedido | BT10: CONFEDERACION SINDICAL UNICA DE TRABAJADORES CAMPESINOS DE BOLIVIA (CSUTCB) | BV10: SURUBI | BX10: CUYICULTURA | BZ10: AGAPANDO | CB10: TN | CC10: TN
BJ11: ç | BT11: CONFEDERACION DE PUEBLOS INDIGENAS DE BOLIVIA (CIDOB) | BV11: TAMBAQUI | BZ11: AJENJO | CB11: Litros
D12: Ubicación | BT12: CONCEJO NACIONAL DE AYLLUS Y MARKAS DEL QULLASUYO (CONAMAQ) | BV12: PAICHE | BZ12: AJIPA
D13: Representante Legal OECA | BT13: CONFEDERACION NACIONAL DE MUJERES CAMPESINAS INDIGENAS ORIGINARIAS DE BOLIVIA "BARTOLINA SISA" (CNMCIOB BS) | BV13: PACU | BZ13: AJO | CE13: Documentos con los que cuenta la OECA
BE14: Teléfono: | BT14: CONFEDERACION SINDICAL DE COMUNIDADES INTERCULTURALES ORIGINARIOS DE BOLIVIA (CSCIOB) | BV14: OTRO | BZ14: AJO SACHA | CE14: Certificación de pertenencia a la comunidad o personalidad juridica de la OECA | CF14: SI/NO
BC15: Año de Fundación: | BI15: Dia | BK15: Mes | BM15: Año | BZ15: ÁLAMO | CE15: Poder general amplio y suficiente del representante legal, o documento que acredite la representación según usos y costumbres. | CF15: SI/NO | DS15: =+UPPER(I16)
D16: Departamento: | Q16: Provincia: | AG16: Municipio: | AQ16: Comunidad | BZ16: ALBAHACA | CE16: nomina de afiliados a la OECA | CF16: SI/NO | DS16: =+IF(DS15="CHUQUISACA.","CH",IF(DS15="BENI.","BN",IF(DS15="LA_PAZ.","LP",IF(DS15="COCHABAMBA.","CBBA",IF(DS15="SANTA_CRUZ.","STZ",IF(DS15="PANDO.","PN",IF(DS15="TARIJA.","TJ",IF(DS15="ORURO.","OR",IF(DS15="POTOSÍ.","PT",))))))))) -> 0
BZ17: ALBARILLO
D18: N° Socios Activos de la OECA: | N18: N° Socios Pasivos de la OECA: | Z18: Dirección: OECA | BZ18: ALCACHOFA | CV18: NO MADERABLE | CZ18: MADERABLE | DD18: PECUARIO
BZ19: ALCANFOR | CE19: ACTIVIDAD ECONÓMICA/RUBRO | CV19: JATATA | CZ19: PINO | DD19: CRÍA_Y_REPRODUCCIÓN_DE_GANADO_BOVINO_Y_BÚFALOS. | DF19: CRÍA_Y_REPRODUCCIÓN_DE_GANADO_BOVINO_Y_BÚFALOS. | DG19: CRÍA_DE_GANADO_EQUINO. | DH19: CRÍA_DE_GANADO_CAMÉLIDO_O_AUQUÉNIDO. | DI19: CRÍA_DE_GANADO_OVINO. | DJ19: CRÍA_DE_GANADO_CAPRINO. | DK19: CRÍA_DE_GANADO_PORCINO. | DL19: CRÍA_Y_REPRODUCCIÓN_DE_AVES_DE_CORRAL. | DM19: CRIA_DE_AVES. | DN19: OTRO | DO19: APICULTURA | DP19: CUYICULTURA | DQ19: CUNICULTURA
BZ20: ALELÍ | CE20: 1. AGRICULTURA, SILVICULTURA, CAZA Y PESCA | CI20: GENERAL | CL20: EXTRACCIÓN_DE_MINAS_Y_CANTERAS. | CM20: CONSTRUCCIÓN | CN20: COMERCIO | CO20: TRANSPORTE | CP20: OTROS | CQ20: AGRICULTURA_SILVICULTURA_CAZA_PESCA | CV20: PAJA BRABA | CZ20: NOGAL | DD20: CRÍA_DE_GANADO_EQUINO. | DF20: LECHE | DG20: CARNE | DH20: CARNE | DI20: CARNE | DJ20: CARNE | DK20: CARNE | DL20: CARNE | DM20: CARNE | DN20: OTRO | DO20: MIEL | DP20: CARNE | DQ20: CARNE
BZ21: ALFALFA | CE21: - Productos Agrícolas | CL21: PETRÓLEO_CRUDO_Y_GAS_NATURAL. | CM21: CONSTRUCCIÓN | CN21: ALIMENTOS. | CO21: TRANSPORTE. | CP21: OTROS. | CQ21: PRODUCTOS_AGRÍCOLAS. | CV21: PALMERAS | CZ21: EUCALIPTO | DD21: CRÍA_DE_GANADO_CAMÉLIDO_O_AUQUÉNIDO. | DF21: YOGURT | DG21: LECHE | DH21: CUERO | DI21: LECHE | DJ21: CUERO | DM21: HUEVOS | DO21: JALEA REAL
D22: 2. Actividad Productiva de la OECA (Agrícola y Pecuaria) | BZ22: ALGARROBILLO | CE22: - Productos Pecuarios | CI22: EXTRACCIÓN_DE_MINAS_Y_CANTERAS. | CL22: MINERALES_METÁLICOS_Y_NO_METÁLICOS. | CN22: TEXTILES,_PRENDAS_DE_VESTIR_Y_PRODUCTOS_DEL_CUERO. | CQ22: PRODUCTOS_PECUARIOS. | CV22: CAÑAHUECA | CZ22: BIBOSI | DD22: CRÍA_DE_GANADO_OVINO. | DF22: CARNE | DG22: CUERO | DH22: FIBRA | DI22: LANA | DJ22: LECHE
BZ23: ALGARROBO | CE23: - Silvicultura y Caza | CI23: CONSTRUCCIÓN | CN23: MADERA_Y_PRODUCTOS_DE_MADERA. | CQ23: SILVICULTURA_Y_CAZA. | CV23: BAMBU | CZ23: CURUPAU | DD23: CRÍA_DE_GANADO_CAPRINO. | DF23: CUERO | DI23: CUERO
BZ24: ALGODÓN | CE24: - Pesca y acuicultura | CI24: COMERCIO | CN24: BEBIDAS_Y_TABACO. | CQ24: PESCA_Y_ACUICULTURA. | CV24: TACUARA | CZ24: OCHOO | DD24: CRÍA_DE_GANADO_PORCINO.
D25: Actividad Principal: | Z25: Rubro 1 | AD25: AGRICOLA | AR25: Rubro 2 | BZ25: ALGODONCILLO | CE25: 2. EXTRACCIÓN DE MINAS Y CANTERAS | CI25: TRANSPORTE | CN25: OTRAS_MANUFACTURAS. | CV25: QUEBRACHO | CZ25: PAQUIO | DD25: CRÍA_Y_REPRODUCCIÓN_DE_AVES_DE_CORRAL.
BZ26: ALISO | CE26: - Petróleo Crudo y Gas Natural | CI26: OTROS | CV26: ACACIA | CZ26: QUINA QUINA | DD26: CRIA_DE_AVES.
D27: Actividad Secundaria: | Z27: Rubro 1 | AR27: Rubro 2 | BZ27: ALMENDRA CON CÁSCARA | CE27: - Minerales Metálicos y no Metálicos | CI27: AGRICULTURA_SILVICULTURA_CAZA_PESCA | CV27: ROBLE | CZ27: VERDOLADO | DD27: APICULTURA
BZ28: ALPISTE | CE28: 3. CONSTRUCCIÓN | CV28: CASTAÑO | CZ28: YESQUERO | DD28: CUYICULTURA
BZ29: AMARANTO | CE29: construccción | CV29: COLA DE CABALLO | CZ29: MARACUYA | DD29: CUNICULTURA
D30: 3. Producción Agropecuaria, Comercialización y Transformación | BZ30: AMARGO | CE30: 4. COMERCIO | CI30: AGRICULTURA_SILVICULTURA_CAZA_PESCA | CV30: LLANTEN | CZ30: PALO MARIA | DD30: OTRO
BZ31: AMARILLO | CE31: - Alimentos | CV31: MATICO | CZ31: QUEÑUA
BZ32: ANGROPONGON | CE32: - Textiles, Prendas de Vestir y Productos del Cuero | CV32: UÑA DE GATO | CZ32: QUISWARA
G33: 3.1. Producción Agrícola (Principales Productos) | BZ33: ANÍS | CE33: - Madera y Productos de Madera | CV33: TARARA | CZ33: OTRO
BZ34: APIO | CE34: - Bebidas y Tabaco | CV34: CASTAÑA
E35: N | F35: PRODUCTOS PRINCIPALES | L35: CANTIDAD ANUAL PRODUCIDA POR LA OECA | R35: ¿Realiza la transformación del producto? 1.SI - 2.NO | W35: Mencione los productos o subproductos principales | AE35: ¿Cantidad Utilizada para la transformacion? (Unidad de Medida) | AK35: DESTINO DE LOS PRODUCTOS PRINCIPALES (%) | AX35: PRECIO DE VENTA (Bolivianos/Unidad de Medida) | BZ35: ARÁNDANO | CE35: - Otras manufacturas | CV35: NUECES
L36: CANTIDAD | O36: UNIDAD DE MEDIDA | AK36: MERCADO LOCAL (DENTRO DE LA COMUNIDAD) | AP36: MERCADO FUERA DE LA COMUNIDAD | AT36: MERCADO EXTERNO (EXPORTACION) | AX36: MERCADO LOCAL (DENTRO DE LA COMUNIDAD) | BD36: MERCADO FUERA DE LA COMUNIDAD | BL36: MERCADO EXTERNO | BZ36: ARAUCARIAS | CE36: 5. TRANSPORTE | CV36: MUSGOS
E37: 1 | AE37: 0 | BZ37: ARAZA | CE37: transporte | CI37: dia | CJ37: mes | CK37: año | CV37: HONGOS
BZ38: ÁRBOL ACEITUNA | CE38: 6. OTROS | CV38: CORCHO
BZ39: ÁRBOL AJO AJO | CI39: 1 | CJ39: 1 | CK39: 2018 | CV39: LACA
E40: 2 | AE40: 0 | BZ40: ÁRBOL ALMENDRILLO | CI40: 2 | CJ40: 2 | CK40: 2017 | CV40: BALSAMO
BZ41: ÁRBOL CANELA | CI41: 3 | CJ41: 3 | CK41: 2016 | CV41: ASAÚ
BZ42: ÁRBOL CARI CARI | CI42: 4 | CJ42: 4 | CK42: 2015 | CV42: OTRO
...

Sheet Hoja1
B2: Departamento | C2: BENI | D2: CHUQUISACA | E2: COCHABAMBA | F2: LA PAZ | G2: ORURO | H2: PANDO | I2: POTOSÍ | J2: SANTA CRUZ | K2: TARIJA | O2: BAURES | P2: AZURDUY | Q2: AIQUILE | S2: ACHACACHI | T2: LA PAZ | V2: ANTEQUERA | X2: BELLA_FLOR | Z2: ACASIO | AB2: ASCENSIÓN_DE_GUARAYOS | AD2: BERMEJO
B3: BENI | C3: BAURES | D3: AZURDUY | E3: AIQUILE | F3: ACHACACHI | G3: ANTEQUERA | H3: BELLA_FLOR | I3: ACASIO | J3: ASCENSIÓN_DE_GUARAYOS | K3: BERMEJO | O3: EXALTACIÓN | P3: CAMARGO | Q3: ALALAY | S3: ACHOCALLA | T3: PALCA | V3: BELÉN_DE_ANDAMARCA | X3: BOLPEBRA | Z3: ARAMPAMPA | AB3: BOYUIBE | AD3: CARAPARÍ
B4: CHUQUISACA | C4: EXALTACIÓN | D4: CAMARGO | E4: ALALAY | F4: ACHOCALLA | G4: BELÉN_DE_ANDAMARCA | H4: BOLPEBRA | I4: ARAMPAMPA | J4: BOYUIBE | K4: CARAPARÍ | O4: GUAYARAMERÍN | P4: CULPINA | Q4: ANZALDO | S4: ALTO_BENI | T4: MECAPACA | V4: CARACOLLO | X4: COBIJA | Z4: ATOCHA | AB4: BUENA_VISTA | AD4: EL_PUENTE
B5: COCHABAMBA | C5: GUAYARAMERÍN | D5: CULPINA | E5: ANZALDO | F5: ALTO_BENI | G5: CARACOLLO | H5: COBIJA | I5: ATOCHA | J5: BUENA_VISTA | K5: EL_PUENTE | O5: HUACARAJE | P5: EL_VILLAR | Q5: ARANI | S5: ANCORAIMES | T5: ACHOCALLA | V5: CARANGAS | X5: FILADELFIA | Z5: BETANZOS | AB5: CABEZAS | AD5: ENTRE_RÍOS
B6: LA_PAZ | C6: HUACARAJE | D6: EL_VILLAR | E6: ARANI | F6: ANCORAIMES | G6: CARANGAS | H6: FILADELFIA | I6: BETANZOS | J6: CABEZAS | K6: ENTRE_RÍOS | O6: LORETO | P6: HUACARETA | Q6: ARBIETO | S6: APOLO | T6: EL_ALTO | V6: CHALLAPATA | X6: INGAVI | Z6: CAIZA_"D" | AB6: CAMIRI | AD6: PADCAYA
B7: ORURO | C7: LORETO | D7: HUACARETA | E7: ARBIETO | F7: APOLO | G7: CHALLAPATA | H7: INGAVI | I7: CAIZA_"D" | J7: CAMIRI | K7: PADCAYA | O7: MAGDALENA | P7: HUACAYA | Q7: ARQUE | S7: AUCAPATA | T7: ACHACACHI | V7: CHIPAYA | X7: NUEVA_ESPERANZA | Z7: CARIPUYO | AB7: CARMEN_RIVERO_TÓRREZ | AD7: TARIJA
B8: PANDO | C8: MAGDALENA | D8: HUACAYA | E8: ARQUE | F8: AUCAPATA | G8: CHIPAYA | H8: NUEVA_ESPERANZA | I8: CARIPUYO | J8: CARMEN_RIVERO_TÓRREZ | K8: TARIJA | O8: PUERTO_SILES | P8: ICLA | Q8: BOLÍVAR | S8: AYATA | T8: ANCORAIMES | V8: CHOQUE_COTA | X8: PORVENIR | Z8: CHAQUI | AB8: CHARAGUA | AD8: URIONDO
B9: POTOSÍ | C9: PUERTO_SILES | D9: ICLA | E9: BOLÍVAR | F9: AYATA | G9: CHOQUE_COTA | H9: PORVENIR | I9: CHAQUI | J9: CHARAGUA | K9: URIONDO | O9: REYES | P9: INCAHUASI | Q9: CAPINOTA | S9: AYO_AYO | T9: CHUA_COCANI | V9: COIPASA | X9: PUERTO_GONZALO_MORENO | Z9: CHAYANTA | AB9: COLPA_BÉLGICA | AD9: VILLA_SAN_LORENZO
B10: SANTA_CRUZ | C10: REYES | D10: INCAHUASI | E10: CAPINOTA | F10: AYO_AYO | G10: COIPASA | H10: PUERTO_GONZALO_MORENO | I10: CHAYANTA | J10: COLPA_BÉLGICA | K10: VILLA_SAN_LORENZO | O10: RIBERALTA | P10: LAS_CARRERAS | Q10: CHIMORÉ | S10: BATALLAS | T10: HUARINA | V10: CORQUE | X10: PUERTO_RICO | Z10: CHUQUIHUTA | AB10: COMARAPA | AD10: VILLAMONTES
B11: TARIJA | C11: RIBERALTA | D11: LAS_CARRERAS | E11: CHIMORÉ | F11: BATALLAS | G11: CORQUE | H11: PUERTO_RICO | I11: CHUQUIHUTA | J11: COMARAPA | K11: VILLAMONTES | O11: RURRENABAQUE | P11: MACHARETÍ | Q11: CLIZA | S11: CAIROMA | T11: SANTIAGO_DE_HUATA | V11: CRUZ_DE_MACHACAMARCA | X11: SAN_LORENZO | Z11: CKOCHAS | AB11: CONCEPCIÓN | AD11: YACUIBA
C12: RURRENABAQUE | D12: MACHARETÍ | E12: CLIZA | F12: CAIROMA | G12: CRUZ_DE_MACHACAMARCA | H12: SAN_LORENZO | I12: CKOCHAS | J12: CONCEPCIÓN | K12: YACUIBA | O12: SAN_ANDRÉS | P12: MOJOCOYA | Q12: COCAPATA | S12: CAJUATA | T12: HUATAJATA | V12: CURAHUARA_DE_CARANGAS | X12: SAN_PEDRO | Z12: COLCHA_"K" | AB12: COTOCA | AD12: YUNCHARÁ
C13: SAN_ANDRÉS | D13: MOJOCOYA | E13: COCAPATA | F13: CAJUATA | G13: CURAHUARA_DE_CARANGAS | H13: SAN_PEDRO | I13: COLCHA_"K" | J13: COTOCA | K13: YUNCHARÁ | O13: SAN_BORJA | P13: MONTEAGUDO | Q13: COCHABAMBA | S13: CALACOTO | T13: COROCORO | V13: EL_CHORO | X13: SANTA_ROSA | Z13: COLQUECHACA | AB13: CUATRO_CAÑADAS
C14: SAN_BORJA | D14: MONTEAGUDO | E14: COCHABAMBA | F14: CALACOTO | G14: EL_CHORO | H14: SANTA_ROSA | I14: COLQUECHACA | J14: CUATRO_CAÑADAS | O14: SAN_IGNACIO | P14: MUYUPAMPA | Q14: COLCAPIRHUA | S14: CALAMARCA | T14: CAQUIAVIRI | V14: ESCARA | X14: SANTOS_MERCADO | Z14: COTAGAITA | AB14: CUEVO
C15: SAN_IGNACIO | D15: MUYUPAMPA | E15: COLCAPIRHUA | F15: CALAMARCA | G15: ESCARA | H15: SANTOS_MERCADO | I15: COTAGAITA | J15: CUEVO | O15: SAN_JAVIER | P15: PADILLA | Q15: COLOMI | S15: CALLAPA | T15: CALACOTO | V15: ESMERALDA | X15: SENA | Z15: LLALLAGUA | AB15: EL_PUENTE
C16: SAN_JAVIER | D16: PADILLA | E16: COLOMI | F16: CALLAPA | G16: ESMERALDA | H16: SENA | I16: LLALLAGUA | J16: EL_PUENTE | O16: SAN_JOAQUÍN | P16: POROMA | Q16: CUCHUMUELA | S16: CAQUIAVIRI | T16: COMANCHE | V16: EUCALIPTUS | X16: VILLA_NUEVA_LOMA_ALTA | Z16: LLICA | AB16: EL_TORNO
C17: SAN_JOAQUÍN | D17: POROMA | E17: CUCHUMUELA | F17: CAQUIAVIRI | G17: EUCALIPTUS | H17: VILLA_NUEVA_LOMA_ALTA | I17: LLICA | J17: EL_TORNO | O17: SAN_RAMÓN | P17: PRESTO | Q17: ENTRE_RÍOS | S17: CARANAVI | T17: CHARAÑA | V17: HUACHACALLA | Z17: MOJINETE | AB17: FERNÁNDEZ_ALONSO
C18: SAN_RAMÓN | D18: PRESTO | E18: ENTRE_RÍOS | F18: CARANAVI | G18: HUACHACALLA | I18: MOJINETE | J18: FERNÁNDEZ_ALONSO | O18: SANTA_ANA_DE_YACUMA | P18: SAN_LUCAS | Q18: INDEPENDENCIA | S18: CATACORA | T18: WALDO_BALLIVIÁN | V18: HUANUNI | Z18: OCURÍ | AB18: GRAL._SAAVEDRA
C19: SANTA_ANA_DE_YACUMA | D19: SAN_LUCAS | E19: INDEPENDENCIA | F19: CATACORA | G19: HUANUNI | I19: OCURÍ | J19: GRAL._SAAVEDRA | O19: SANTA_ROSA | P19: SOPACHUY | Q19: MIZQUE | S19: CHACARILLA | T19: NAZACARA_DE_PACAJES | V19: HUARI | Z19: POCOATA | AB19: GUTIÉRREZ
C20: SANTA_ROSA | D20: SOPACHUY | E20: MIZQUE | F20: CHACARILLA | G20: HUARI | I20: POCOATA | J20: GUTIÉRREZ | O20: TRINIDAD | P20: SUCRE | Q20: MOROCHATA | S20: CHARAÑA | T20: CALLAPA | V20: HUAYLLAMARCA | Z20: PORCO | AB20: LA_GUARDIA
C21: TRINIDAD | D21: SUCRE | E21: MOROCHATA | F21: CHARAÑA | G21: HUAYLLAMARCA | I21: PORCO | J21: LA_GUARDIA | P21: TARABUCO | Q21: OMEREQUE | S21: CHARAZANI | T21: PUERTO_ACOSTA | V21: LA_RIVERA | Z21: POTOSÍ | AB21: LAGUNILLAS
D22: TARABUCO | E22: OMEREQUE | F22: CHARAZANI | G22: LA_RIVERA | I22: POTOSÍ | J22: LAGUNILLAS | P22: TARVITA | Q22: PASORAPA | S22: CHUA_COCANI | T22: MOCOMOCO | V22: MACHACAMARCA | Z22: PUNA | AB22: MAIRANA
D23: TARVITA | E23: PASORAPA | F23: CHUA_COCANI | G23: MACHACAMARCA | I23: PUNA | J23: MAIRANA | P23: TOMINA | Q23: POCONA | S23: CHULUMANI | T23: PUERTO_CARABUCO | V23: ORURO | Z23: RAVELO | AB23: MINEROS
D24: TOMINA | E24: POCONA | F24: CHULUMANI | G24: ORURO | I24: RAVELO | J24: MINEROS | P24: VILLA_ABECIA | Q24: POJO | S24: CHUMA | T24: HUMANATA | V24: PAMPA_AULLAGAS | Z24: SAN_AGUSTÍN | AB24: MONTERO
D25: VILLA_ABECIA | E25: POJO | F25: CHUMA | G25: PAMPA_AULLAGAS | I25: SAN_AGUSTÍN | J25: MONTERO | P25: VILLA_ALCALA | Q25: PUERTO_VILLARROEL | S25: COLLANA | T25: ESCOMA | V25: PARI_PARIA_SORACACHI | Z25: SAN_ANTONIO_DE_ESMORUCO | AB25: MORO_MORO
D26: VILLA_ALCALA | E26: PUERTO_VILLARROEL | F26: COLLANA | G26: PARI_PARIA_SORACACHI | I26: SAN_ANTONIO_DE_ESMORUCO | J26: MORO_MORO | P26: VILLA_CHARCAS | Q26: PUNATA | S26: COLQUENCHA | T26: CHUMA | V26: PAZÑA | Z26: SAN_PABLO_DE_LÍPEZ | AB26: OKINAWA_UNO
D27: VILLA_CHARCAS | E27: PUNATA | F27: COLQUENCHA | G27: PAZÑA | I27: SAN_PABLO_DE_LÍPEZ | J27: OKINAWA_UNO | P27: VILLA_SERRANO | Q27: QUILLACOLLO | S27: COLQUIRI | T27: AYATA | V27: POOPÓ | Z27: SAN_PEDRO_DE_BUENA_VISTA | AB27: PAILÓN
D28: VILLA_SERRANO | E28: QUILLACOLLO | F28: COLQUIRI | G28: POOPÓ | I28: SAN_PEDRO_DE_BUENA_VISTA | J28: PAILÓN | P28: YAMPARÁEZ | Q28: SACABA | S28: COMANCHE | T28: AUCAPATA | V28: QUILLACAS | Z28: SAN_PEDRO_DE_QUEMES | AB28: PAMPA_GRANDE
D29: YAMPARÁEZ | E29: SACABA | F29: COMANCHE | G29: QUILLACAS | I29: SAN_PEDRO_DE_QUEMES | J29: PAMPA_GRANDE | P29: YOTALA | Q29: SACABAMBA | S29: COMBAYA | T29: SORATA | V29: SABAYA | Z29: TACOBAMBA | AB29: PORONGO
D30: YOTALA | E30: SACABAMBA | F30: COMBAYA | G30: SABAYA | I30: TACOBAMBA | J30: PORONGO | P30: ZUDAÑEZ | Q30: SAN_BENITO | S30: COPACABANA | T30: GUANAY | V30: SALINAS_DE_GARCI_MENDOZA | Z30: TAHUA | AB30: PORTACHUELO
D31: ZUDAÑEZ | E31: SAN_BENITO | F31: COPACABANA | G31: SALINAS_DE_GARCI_MENDOZA | I31: TAHUA | J31: PORTACHUELO | Q31: SANTIVÁÑEZ | S31: CORIPATA | T31: TACACOMA | V31: SAN_PEDRO_DE_TOTORA | Z31: TINGUIPAYA | AB31: POSTRER_VALLE
E32: SANTIVÁÑEZ | F32: CORIPATA | G32: SAN_PEDRO_DE_TOTORA | I32: TINGUIPAYA | J32: POSTRER_VALLE | Q32: SHINAHOTA | S32: COROCORO | T32: QUIABAYA | V32: SANTIAGO_DE_ANDAMARCA | Z32: TOMAVE | AB32: PUCARÁ
E33: SHINAHOTA | F33: COROCORO | G33: SANTIAGO_DE_ANDAMARCA | I33: TOMAVE | J33: PUCARÁ | Q33: SICAYA | S33: COROICO | T33: COMBAYA | V33: TODOS_SANTOS | Z33: TORO_TORO | AB33: PUERTO_QUIJARRO
E34: SICAYA | F34: COROICO | G34: TODOS_SANTOS | I34: TORO_TORO | J34: PUERTO_QUIJARRO | Q34: SIPESIPE | S34: CURVA | T34: TIPUANI | V34: TOLEDO | Z34: TUPIZA | AB34: PUERTO_SUÁREZ
E35: SIPESIPE | F35: CURVA | G35: TOLEDO | I35: TUPIZA | J35: PUERTO_SUÁREZ | Q35: TACACHI | S35: DESAGUADERO | T35: MAPIRI | V35: TURCO | Z35: UNCÍA | AB35: QUIRUSILLAS
E36: TACACHI | F36: DESAGUADERO | G36: TURCO | I36: UNCÍA | J36: QUIRUSILLAS | Q36: TACOPAYA | S36: EL_ALTO | T36: TEOPONTE | V36: YUNGUYO_DE_LITORAL | Z36: URMIRI | AB36: ROBORÉ
E37: TACOPAYA | F37: EL_ALTO | G37: YUNGUYO_DE_LITORAL | I37: URMIRI | J37: ROBORÉ | Q37: TAPACARÍ | S37: ESCOMA | T37: APOLO | Z37: UYUNI | AB37: SAIPINA
E38: TAPACARÍ | F38: ESCOMA | I38: UYUNI | J38: SAIPINA | Q38: TARATA | S38: GUANAY | T38: PELECHUCO | Z38: VILLA_DE_SACACA | AB38: SAMAIPATA
E39: TARATA | F39: GUANAY | I39: VILLA_DE_SACACA | J39: SAMAIPATA | Q39: TIQUIPAYA | S39: GUAQUI | T39: VIACHA | Z39: VILLAZÓN | AB39: SAN_ANTONIO_DE_LOMERÍO
E40: TIQUIPAYA | F40: GUAQUI | I40: VILLAZÓN | J40: SAN_ANTONIO_DE_LOMERÍO | Q40: TIRAQUE | S40: HUARINA | T40: GUAQUI | Z40: VITICHI | AB40: SAN_CARLOS
E41: TIRAQUE | F41: HUARINA | I41: VITICHI | J41: SAN_CARLOS | Q41: TOCO | S41: HUATAJATA | T41: TIAHUANACU | Z41: YOCALLA | AB41: SAN_IGNACIO_DE_VELASCO
...

Sheet Hoja2
B2: Departamento | C2: Provincia | D2: Municipio | E2: Cod | G2: Departamento1 | I2: Departamento | J2: Provincia | L2: BENI. | M2: CHUQUISACA. | N2: COCHABAMBA. | O2: LA_PAZ. | P2: ORURO. | Q2: PANDO. | R2: POTOSÍ. | S2: SANTA_CRUZ. | T2: TARIJA. | V2: OROPEZA | W2: AZURDUY | X2: ZUDÁÑEZ | Y2: TOMINA | Z2: HERNANDO_SILES | AA2: YAMPARÁEZ | AB2: NOR_CINTI | AC2: BELISARIO_BOETO | AD2: SUD_CINTI | AE2: LUIS_CALVO | AF2: MURILLO | AG2: OMASUYOS | AH2: PACAJES | AI2: CAMACHO | AJ2: MUÑECAS | AK2: LARECAJA | AL2: FRANZ_TAMAYO | AM2: INGAVI | AN2: LOAYZA | AO2: INQUISIVI | AP2: SUD_YUNGAS | AQ2: LOS_ANDES | AR2: AROMA | AS2: NOR_YUNGAS | AT2: ABEL_ITURRALDE | AU2: BAUTISTA_SAAVEDRA | AV2: MANCO_KAPAC | AW2: GUALBERTO_VILLARROEL | AX2: JOSÉ_MANUEL_PANDO | AY2: CARANAVI | AZ2: CERCADO | BA2: CAMPERO | BB2: AYOPAYA | BC2: ESTEBAN_ARZE | BD2: ARANI | BE2: ARQUE | BF2: CAPINOTA | BG2: GERMAN_JORDAN | BH2: QUILLACOLLO | BI2: CHAPARE | BJ2: TAPACARÍ | BK2: CARRASCO | BL2: MIZQUE | BM2: PUNATA | BN2: BOLÍVAR | BO2: TIRAQUE | BP2: CERCADO_OR | BQ2: ABAROA | BR2: CARANGAS | BS2: SAJAMA | BT2: LITORAL | BU2: POOPÓ | BV2: PANTALEÓN_DALENCE | BW2: LADISLAO_CABRERA | BX2: SABAYA | BY2: SAUCARÍ | BZ2: TOMÁS_BARRÓN | CA2: SUR_CARANGAS | CB2: SAN_PEDRO_DE_TOTORA | CC2: SEBASTIÁN_PAGADOR | CD2: MEJILLONES | CE2: NOR_CARANGAS | CF2: TOMÁS_FRÍAS | CG2: RAFAEL_BUSTILLO | CH2: CORNELIO_SAAVEDRA | CI2: CHAYANTA | CJ2: CHARCAS | CK2: NOR_CHICHAS | CL2: ALONSO_DE_IBÁÑEZ | CM2: SUR_CHICHAS | CN2: NOR_LÍPEZ | CO2: SUR_LÍPEZ | CP2: JOSÉ_MARÍA_LINARES | CQ2: ANTONIO_QUIJARRO | CR2: BERNARDINO_BILBAO_RIOJA | CS2: DANIEL_CAMPOS | CT2: MODESTO_OMISTE | CU2: ENRIQUE_BALDIVIESO | CV2: CERCADO_TJ | CW2: ANICETO_ARCE | CX2: GRAN_CHACO | CY2: AVILES | CZ2: MÉNDEZ | DA2: BURNET_O_CONNOR | DB2: ANDRÉS_IBÁÑEZ | DC2: WARNES | DD2: VELASCO | DE2: ICHILO | DF2: CHIQUITOS | DG2: SARA | DH2: CORDILLERA | DI2: VALLEGRANDE | DJ2: FLORIDA | DK2: OBISPO_SANTISTEVAN | DL2: ÑUFLO_DE_CHÁVEZ | DM2: ÁNGEL_SANDÓVAL | DN2: MANUEL_MARÍA_CABALLERO | DO2: GERMÁN_BUSCH | DP2: GUARAYOS | DQ2: CERCADO_BN | DR2: VACA_DÍES | DS2: JOSÉ_BALLIVIAN | DT2: YACUMA | DU2: MOXOS | DV2: MARBÁN | DW2: MAMORÉ | DX2: ITÉNEZ | DY2: NICOLÁS_SUÁREZ | DZ2: MANURIPI | EA2: MADRE_DE_DIOS | EB2: ABUNÁ | EC2: FEDERICO_ROMÁN | EF2: Acasio | EG2: Achacachi | EH2: Achocalla | EI2: Aiquile | EJ2: Alalay | EK2: Alto Beni | EL2: Ancoraimes | EM2: Antequera | EN2: Anzaldo | EO2: Apolo | EP2: Arampampa | EQ2: Arani | ER2: Arbieto | ES2: Arque | ET2: Ascensión de Guarayos | EU2: Atocha | EV2: Aucapata | EW2: Ayata | EX2: Ayo Ayo | EY2: Azurduy | EZ2: Batallas | FA2: Baures | FB2: Belén de Andamarca | FC2: Bella Flor | FD2: Bermejo | FE2: Betanzos | FF2: Bolívar | FG2: Bolpebra | FH2: Boyuibe | FI2: Buena Vista | FJ2: Cabezas | FK2: Cairoma | FL2: Caiza "D" | FM2: Cajuata | FN2: Calacoto | FO2: Calamarca | FP2: Callapa | FQ2: Camargo | FR2: Camiri | FS2: Capinota | FT2: Caquiaviri | FU2: Caracollo | FV2: Caranavi | FW2: Carangas | FX2: Caraparí | FY2: Caripuyo | FZ2: Carmen Rivero Tórrez | GA2: Catacora | GB2: Chacarilla | GC2: Challapata | GD2: Chaqui | GE2: Charagua | GF2: Charaña | GG2: Charazani | GH2: Chayanta | GI2: Chimoré | GJ2: Chipaya | GK2: Choque Cota | GL2: Chua Cocani | GM2: Chulumani | GN2: Chuma | GO2: Chuquihuta | GP2: Ckochas | GQ2: Cliza | GR2: Cobija | GS2: Cocapata | GT2: Cochabamba | GU2: Coipasa | GV2: Colcapirhua | GW2: Colcha "K" | GX2: Collana | GY2: Colomi | GZ2: Colpa Bélgica | HA2: Colquechaca | HB2: Colquencha | HC2: Colquiri | HD2: Comanche | HE2: Comarapa | HF2: Combaya | HG2: Concepción | HH2: Copacabana | HI2: Coripata | HJ2: Corocoro | HK2: Coroico | HL2: Corque | HM2: Cotagaita | HN2: Cotoca | HO2: Cruz de Machacamarca | HP2: Cuatro Cañadas | HQ2: Cuchumuela | HR2: Cuevo | HS2: Culpina | HT2: Curahuara de Carangas | HU2: Curva | HV2: Desaguadero | HW2: El Alto | HX2: El Choro | HY2: El Puente. | HZ2: El Puente | IA2: El Torno | IB2: El Villar | IC2: Entre Ríos. | ID2: Entre Ríos | IE2: Escara | IF2: Escoma | IG2: Esmeralda | IH2: Eucaliptus | II2: Exaltación | IJ2: Fernández Alonso | IK2: Filadelfia | IL2: Gral. Saavedra | IM2: Guanay | IN2: Guaqui | IO2: Guayaramerín | IP2: Gutiérrez | IQ2: Huacaraje | IR2: Huacareta | IS2: Huacaya | IT2: Huachacalla | IU2: Huanuni | IV2: Huari | IW2: Huarina | IX2: Huatajata | IY2: Huayllamarca | IZ2: Humanata | JA2: Ichoca | JB2: Icla | JC2: Incahuasi | JD2: Independencia | JE2: Ingavi | JF2: Inquisivi | JG2: Irupana | JH2: Ixiamas | JI2: Jesús de Machaca | JJ2: La Asunta | JK2: La Guardia | JL2: La Paz | JM2: La Rivera | JN2: Lagunillas | JO2: Laja | JP2: Las carreras | JQ2: Llallagua | JR2: Llica | JS2: Loreto | JT2: Luribay | JU2: Machacamarca | JV2: Macharetí | JW2: Magdalena | JX2: Mairana | JY2: Malla | JZ2: Mapiri | KA2: Mecapaca | KB2: Mineros | KC2: Mizque | KD2: Mocomoco | KE2: Mojinete | KF2: Mojocoya | KG2: Monteagudo | KH2: Montero | KI2: Moro Moro | KJ2: Morochata | KK2: Muyupampa | KL2: Nazacara de Pacajes | KM2: Nueva Esperanza | KN2: Ocurí | KO2: Okinawa Uno | KP2: Omereque | KQ2: Oruro | KR2: Padcaya | KS2: Padilla | KT2: Pailón | KU2: Palca | KV2: Palos Blancos | KW2: Pampa Aullagas | KX2: Pampa Grande | KY2: Papel Pampa | KZ2: Pari - Paria - Soracachi | LA2: Pasorapa | LB2: Patacamaya | LC2: Pazña | LD2: Pelechuco | LE2: Pocoata | LF2: Pocona | LG2: Pojo | LH2: Poopó | LI2: Porco | LJ2: Poroma | LK2: Porongo | LL2: Portachuelo | LM2: Porvenir | LN2: Postrer Valle | LO2: Potosí | LP2: Presto | LQ2: Pucará | LR2: Pucarani | LS2: Puerto Acosta | LT2: Puerto Carabuco | LU2: Puerto Gonzalo Moreno | LV2: Puerto Pérez | LW2: Puerto Quijarro | LX2: Puerto Rico | LY2: Puerto Siles | LZ2: Puerto Suárez | MA2: Puerto Villarroel | MB2: Puna | MC2: Punata | MD2: Quiabaya | ME2: Quillacas | MF2: Quillacollo | MG2: Quime | MH2: Quirusillas | MI2: Ravelo | MJ2: Reyes | MK2: Riberalta | ML2: Roboré | MM2: Rurrenabaque | MN2: Sabaya | MO2: Sacaba | MP2: Sacabamba | MQ2: Saipina | MR2: Salinas de Garci Mendoza | MS2: Samaipata | MT2: San Agustín | MU2: San Andrés | MV2: San Andrés de Machaca | MW2: San Antonio de Esmoruco | MX2: San Antonio de Lomerío | MY2: San Benito | MZ2: San Borja | NA2: San Buenaventura | NB2: San Carlos | NC2: San Ignacio | ND2: San Ignacio de Velasco | NE2: San Javier. | NF2: San Javier | NG2: San Joaquín | NH2: San José de Chiquitos | NI2: San Juan de Yapacaní | NJ2: San Julián | NK2: San Lorenzo | NL2: San Lucas | NM2: San Matías | NN2: San Miguel de Velasco | NO2: San Pablo de Lípez | NP2: San Pedro. | NQ2: San Pedro | NR2: San Pedro de Buena Vista | NS2: San Pedro de Curahuara | NT2: San Pedro de Quemes | NU2: San Pedro de Tiquina | NV2: San Pedro de Totora | NW2: San Rafael | NX2: San Ramón. | NY2: San Ramón | NZ2: Santa Ana de Yacuma | OA2: Santa Cruz de la Sierra | OB2: Santa Rosa. | OC2: Santa Rosa | OD2: Santa Rosa del Sara | OE2: Santiago de Andamarca | OF2: Santiago de Huata | OG2: Santiago de Machaca | OH2: Santiváñez | OI2: Santos Mercado | OJ2: Sapahaqui | OK2: Sena | OL2: Shinahota | OM2: Sica Sica | ON2: Sicaya | OO2: Sipesipe | OP2: Sopachuy | OQ2: Sorata | OR2: Sucre | OS2: Tacachi | OT2: Tacacoma | OU2: Tacobamba | OV2: Tacopaya | OW2: Tahua | OX2: Tapacarí | OY2: Tarabuco | OZ2: Taraco | PA2: Tarata | PB2: Tarija | PC2: Tarvita | PD2: Teoponte | PE2: Tiahuanacu | PF2: Tinguipaya | PG2: Tipuani | PH2: Tiquipaya | PI2: Tiraque | PJ2: Tito Yupanqui | PK2: Toco | PL2: Todos Santos | PM2: Tolata | PN2: Toledo | PO2: Tomave | PP2: Tomina | PQ2: Toro Toro | PR2: Totora | PS2: Trigal | PT2: Trinidad | PU2: Tupiza | PV2: Turco | PW2: Umala | PX2: Uncía | PY2: Uriondo | PZ2: Urmiri | QA2: Urubichá | QB2: Uyuni | QC2: Vacas | QD2: Vallegrande | QE2: Viacha | QF2: Vila Vila | QG2: Villa Abecia | QH2: Villa Alcala | QI2: Villa Charcas | QJ2: Villa de Sacaca | QK2: Villa Libertad Licoma | QL2: Villa Nueva (Loma Alta) | QM2: Villa Rivero | QN2: Villa San Lorenzo | QO2: Villa Serrano | QP2: Villa Tunari | QQ2: Villamontes | QR2: Villazón | QS2: Vinto | QT2: Vitichi | QU2: Waldo Ballivián | QV2: Warnes | QW2: Yaco | QX2: Yacuiba | QY2: Yamparáez | QZ2: Yanacachi | RA2: Yapacaní | RB2: Yocalla | RC2: Yotala | RD2: Yunchará | RE2: Yunguyo de Litoral | RF2: Zudañez
B3: Chuquisaca | C3: Oropeza | D3: Sucre | E3: 10101 | G3: BENI. | I3: CHUQUISACA | J3: OROPEZA | L3: VACA_DÍEZ | M3: OROPEZA | N3: CERCADO | O3: MURILLO | P3: CERCADO_OR | Q3: NICOLÁS_SUÁREZ | R3: TOMÁS_FRÍAS | S3: ANDRÉS_IBÁÑEZ | T3: CERCADO_TJ | V3: SUCRE | W3: AZURDUY | X3: ZUDAÑEZ | Y3: PADILLA | Z3: MONTEAGUDO | AA3: TARABUCO | AB3: CAMARGO | AC3: VILLA SERRANO | AD3: VILLA ABECIA | AE3: MUYUPAMPA | AF3: LA PAZ | AG3: ACHACACHI | AH3: COROCORO | AI3: PUERTO ACOSTA | AJ3: CHUMA | AK3: SORATA | AL3: APOLO | AM3: VIACHA | AN3: LURIBAY | AO3: INQUISIVI | AP3: CHULUMANI | AQ3: PUCARANI | AR3: SICA SICA | AS3: COROICO | AT3: IXIAMAS | AU3: CHARAZANI | AV3: COPACABANA | AW3: SAN PEDRO DE CURAHUARA | AX3: SANTIAGO DE MACHACA | AY3: CARANAVI | AZ3: COCHABAMBA | BA3: AIQUILE | BB3: INDEPENDENCIA | BC3: TARATA | BD3: ARANI | BE3: ARQUE | BF3: CAPINOTA | BG3: CLIZA | BH3: QUILLACOLLO | BI3: SACABA | BJ3: TAPACARÍ | BK3: TOTORA | BL3: MIZQUE | BM3: PUNATA | BN3: BOLÍVAR | BO3: TIRAQUE | BP3: ORURO | BQ3: CHALLAPATA | BR3: CORQUE | BS3: CURAHUARA DE CARANGAS | BT3: HUACHACALLA | BU3: POOPÓ | BV3: HUANUNI | BW3: SALINAS DE GARCI MENDOZA | BX3: SABAYA | BY3: TOLEDO | BZ3: EUCALIPTUS | CA3: SANTIAGO_DE_ANDAMARCA | CB3: SAN PEDRO DE TOTORA | CC3: HUARI | CD3: LA RIVERA | CE3: HUAYLLAMARCA | CF3: POTOSÍ | CG3: UNCÍA | CH3: BETANZOS | CI3: COLQUECHACA | CJ3: SAN PEDRO DE BUENA VISTA | CK3: COTAGAITA | CL3: VILLA DE SACACA | CM3: TUPIZA | CN3: COLCHA "K" | CO3: SAN PABLO DE LÍPEZ | CP3: PUNA | CQ3: UYUNI | CR3: ARAMPAMPA | CS3: LLICA | CT3: VILLAZÓN | CU3: SAN AGUSTÍN | CV3: TARIJA | CW3: PADCAYA | CX3: YACUIBA | CY3: URIONDO | CZ3: VILLA SAN LORENZO | DA3: ENTRE RÍOS | DB3: SANTA CRUZ DE LA SIERRA | DC3: WARNES | DD3: SAN IGNACIO DE VELASCO | DE3: BUENA VISTA | DF3: SAN JOSÉ DE CHIQUITOS | DG3: PORTACHUELO | DH3: LAGUNILLAS | DI3: VALLEGRANDE | DJ3: SAMAIPATA | DK3: MONTERO | DL3: CONCEPCIÓN | DM3: SAN MATÍAS | DN3: COMARAPA | DO3: PUERTO SUÁREZ | DP3: ASCENSIÓN DE GUARAYOS | DQ3: TRINIDAD | DR3: RIBERALTA | DS3: REYES | DT3: SANTA ANA DE YACUMA | DU3: SAN IGNACIO | DV3: LORETO | DW3: SAN JOAQUÍN | DX3: MAGDALENA | DY3: COBIJA | DZ3: PUERTO RICO | EA3: PUERTO GONZALO MORENO | EB3: SANTA ROSA | EC3: NUEVA ESPERANZA | EF3: 51302 | EG3: 20201 | EH3: 20104 | EI3: 30201 | EJ3: 31303 | EK3: 22002 | EL3: 20202 | EM3: 40603 | EN3: 30402 | EO3: 20701 | EP3: 51301 | EQ3: 30501 | ER3: 30403 | ES3: 30601 | ET3: 71501 | EU3: 50802 | EV3: 20503 | EW3: 20502 | EX3: 21303 | EY3: 10201 | EZ3: 21203 | FA3: 80802 | FB3: 41202 | FC3: 90104 | FD3: 60202 | FE3: 50301 | FF3: 31501 | FG3: 90103 | FH3: 70707 | FI3: 70401 | FJ3: 70703 | FK3: 20905 | FL3: 51102 | FM3: 21003 | FN3: 20303 | FO3: 21304 | FP3: 20308 | FQ3: 10701 | FR3: 70706 | FS3: 30701 | FT3: 20302 | FU3: 40102 | FV3: 22001 | FW3: 41503 | FX3: 60302 | FY3: 50702 | FZ3: 71403 | GA3: 21902 | GB3: 21803 | GC3: 40201 | GD3: 50302 | GE3: 70702 | GF3: 20305 | GG3: 21601 | GH3: 50202 | GI3: 31204 | GJ3: 40903 | GK3: 40302 | GL3: 20203 | GM3: 21101 | GN3: 20501 | GO3: 50204 | GP3: 51103 | GQ3: 30801 | GR3: 90101 | GS3: 30303 | GT3: 30101 | GU3: 40902 | GV3: 30905 | GW3: 50901 | GX3: 21307 | GY3: 31002 | GZ3: 70603 | HA3: 50401 | HB3: 21306 | HC3: 21004 | HD3: 20304 | HE3: 71301 | HF3: 20605 | HG3: 71101 | HH3: 21701 | HI3: 21402 | HJ3: 20301 | HK3: 21401 | HL3: 40301 | HM3: 50601 | HN3: 70102 | HO3: 40503 | HP3: 71106 | HQ3: 31405 | HR3: 70704 | HS3: 10902 | HT3: 40401 | HU3: 21602 | HV3: 20804 | HW3: 20105 | HX3: 40103 | HY3: 60502 | HZ3: 71503 | IA3: 70105 | IB3: 10405 | IC3: 31206 | ID3: 60601 | IE3: 40502 | IF3: 20405 | IG3: 40505 | IH3: 41101 | II3: 80402 | IJ3: 71004 | IK3: 90203 | IL3: 71002 | IM3: 20602 | IN3: 20802 | IO3: 80202 | IP3: 70705 | IQ3: 80803 | IR3: 10502 | IS3: 11002 | IT3: 40501 | IU3: 40701 | IV3: 41401 | IW3: 20204 | IX3: 20206 | IY3: 41601 | IZ3: 20404 | JA3: 21005 | JB3: 10304 | JC3: 10703 | JD3: 30301 | JE3: 90402 | JF3: 21001 | JG3: 21102 | JH3: 21501 | JI3: 20806 | JJ3: 21105 | JK3: 70104 | JL3: 20101 | JM3: 41501 | JN3: 70701 | JO3: 21202 | JP3: 10903 | JQ3: 50203 | JR3: 51401 | JS3: 80601 | JT3: 20901 | JU3: 40702 | JV3: 11003 | JW3: 80801 | JX3: 70903 | JY3: 20904 | JZ3: 20607 | KA3: 20103 | KB3: 71003 | KC3: 31301 | KD3: 20402 | KE3: 51002 | KF3: 10303 | KG3: 10501 | KH3: 71001 | KI3: 70803 | KJ3: 30302 | KK3: 11001 | KL3: 20307 | KM3: 90501 | KN3: 50404 | KO3: 70202 | KP3: 30203 | KQ3: 40101 | KR3: 60201 | KS3: 10401 | KT3: 70502 | KU3: 20102 | KV3: 21104 | KW3: 40802 | KX3: 70902 | KY3: 21802 | KZ3: 40104 | LA3: 30202 | LB3: 21305 | LC3: 40602 | LD3: 20702 | LE3: 50403 | LF3: 31203 | LG3: 31202 | LH3: 40601 | LI3: 51203 | LJ3: 10103 | LK3: 70103 | LL3: 70601 | LM3: 90102 | LN3: 70804 | LO3: 50101 | LP3: 10302 | LQ3: 70805 | LR3: 21201 | LS3: 20401 | LT3: 20403 | LU3: 90301 | LV3: 21204 | LW3: 71402 | LX3: 90201 | LY3: 80703 | LZ3: 71401 | MA3: 31205 | MB3: 51101 | MC3: 31401 | MD3: 20604 | ME3: 40202 | MF3: 30901 | MG3: 21002 | MH3: 70904 | MI3: 50402 | MJ3: 80301 | MK3: 80201 | ML3: 70503 | MM3: 80304 | MN3: 40901 | MO3: 31001 | MP3: 30404 | MQ3: 71302 | MR3: 40801 | MS3: 70901 | MT3: 51601 | MU3: 80602 | MV3: 20805 | MW3: 51003 | MX3: 71105 | MY3: 31403 | MZ3: 80302 | NA3: 21502 | NB3: 70402 | NC3: 80501 | ND3: 70301 | NE3: 71102 | NF3: 80102 | NG3: 80701 | NH3: 70501 | NI3: 70404 | NJ3: 71104 | NK3: 90302 | NL3: 10702 | NM3: 71201 | NN3: 70302 | NO3: 51001 | NP3: 71005 | NQ3: 90202 | NR3: 50501 | NS3: 21801 | NT3: 50902 | NU3: 21702 | NV3: 41301 | NW3: 70303 | NX3: 71103 | NY3: 80702 | NZ3: 80401 | OA3: 70101 | OB3: 80303 | OC3: 90401 | OD3: 70602 | OE3: 41201 | OF3: 20205 | OG3: 21901 | OH3: 30702 | OI3: 90503 | OJ3: 20902 | OK3: 90303 | OL3: 31602 | OM3: 21301 | ON3: 30703 | OO3: 30902 | OP3: 10403 | OQ3: 20601 | OR3: 10101 | OS3: 31404 | OT3: 20603 | OU3: 50303 | OV3: 30602 | OW3: 51402 | OX3: 31101 | OY3: 10601 | OZ3: 20807 | PA3: 30401 | PB3: 60101 | PC3: 10202 | PD3: 20608 | PE3: 20803 | PF3: 50102 | PG3: 20606 | PH3: 30903 | PI3: 31601 | PJ3: 21703 | PK3: 30802 | PL3: 41502 | PM3: 30803 | PN3: 41001 | PO3: 51202 | PP3: 10402 | PQ3: 50502 | PR3: 31201 | PS3: 70802 | PT3: 80101 | PU3: 50801 | PV3: 40402 | PW3: 21302 | PX3: 50201 | PY3: 60401 | PZ3: 50104 | QA3: 71502 | QB3: 51201 | QC3: 30502 | QD3: 70801 | QE3: 20801 | QF3: 31302 | QG3: 10901 | QH3: 10404 | QI3: 10704 | QJ3: 50701 | QK3: 21006 | QL3: 90502 | QM3: 31402 | QN3: 60501 | QO3: 10801 | QP3: 31003 | QQ3: 60303 | QR3: 51501 | QS3: 30904 | QT3: 50602 | QU3: 20306 | QV3: 70201 | QW3: 20903 | QX3: 60301 | QY3: 10602 | QZ3: 21103 | RA3: 70403 | RB3: 50103 | RC3: 10102 | RD3: 60402 | RE3: 40504 | RF3: 10301
B4: Chuquisaca | C4: Oropeza | D4: Yotala | E4: 10102 | G4: CHUQUISACA. | I4: CHUQUISACA | J4: AZURDUY | L4: JOSÉ_BALLIVIAN | M4: AZURDUY | N4: CAMPERO | O4: OMASUYOS | P4: ABAROA | Q4: MANURIPI | R4: RAFAEL_BUSTILLO | S4: WARNES | T4: ANICETO_ARCE | V4: YOTALA | W4: TARVITA | X4: PRESTO | Y4: TOMINA | Z4: HUACARETA | AA4: YAMPARÁEZ | AB4: SAN LUCAS | AD4: CULPINA | AE4: HUACAYA | AF4: PALCA | AG4: ANCORAIMES | AH4: CAQUIAVIRI | AI4: MOCOMOCO | AJ4: AYATA | AK4: GUANAY | AL4: PELECHUCO | AM4: GUAQUI | AN4: SAPAHAQUI | AO4: QUIME | AP4: IRUPANA | AQ4: LAJA | AR4: UMALA | AS4: CORIPATA | AT4: SAN BUENAVENTURA | AU4: CURVA | AV4: SAN PEDRO DE TIQUINA | AW4: PAPEL PAMPA | AX4: CATACORA | AY4: ALTO BENI | BA4: PASORAPA | BB4: MOROCHATA | BC4: ANZALDO | BD4: VACAS | BE4: TACOPAYA | BF4: SANTIVÁÑEZ | BG4: TOCO | BH4: SIPESIPE | BI4: COLOMI | BK4: POJO | BL4: VILA VILA | BM4: VILLA RIVERO | BO4: SHINAHOTA | BP4: CARACOLLO | BQ4: QUILLACAS | BR4: CHOQUE COTA | BS4: TURCO | BT4: ESCARA | BU4: PAZÑA | BV4: MACHACAMARCA | BW4: PAMPA AULLAGAS | BX4: COIPASA | CA4: BELÉN_DE_ANDAMARCA | CD4: TODOS SANTOS | CF4: TINGUIPAYA | CG4: CHAYANTA | CH4: CHAQUI | CI4: RAVELO | CJ4: TORO TORO | CK4: VITICHI | CL4: CARIPUYO | CM4: ATOCHA | CN4: SAN PEDRO DE QUEMES | CO4: MOJINETE | CP4: CAIZA "D" | CQ4: TOMAVE | CR4: ACASIO | CS4: TAHUA | CW4: BERMEJO | CX4: CARAPARÍ | CY4: YUNCHARÁ | CZ4: EL PUENTE. | DB4: COTOCA | DC4: OKINAWA UNO | DD4: SAN MIGUEL DE VELASCO | DE4: SAN CARLOS | DF4: PAILÓN | DG4: SANTA ROSA DEL SARA | DH4: CHARAGUA | DI4: TRIGAL | DJ4: PAMPA GRANDE | DK4: GRAL. SAAVEDRA | DL4: SAN JAVIER. | DN4: SAIPINA | DO4: PUERTO QUIJARRO | DP4: URUBICHÁ | DQ4: SAN JAVIER | DR4: GUAYARAMERÍN | DS4: SAN BORJA | DT4: EXALTACIÓN | DV4: SAN ANDRÉS | DW4: SAN RAMÓN | DX4: BAURES | DY4: PORVENIR | DZ4: SAN PEDRO | EA4: SAN LORENZO | EB4: INGAVI | EC4: VILLA NUEVA (LOMA ALTA)
B5: Chuquisaca | C5: Oropeza | D5: Poroma | E5: 10103 | G5: COCHABAMBA. | I5: CHUQUISACA | J5: ZUDÁÑEZ | L5: YACUMA | M5: ZUDÁÑEZ | N5: AYOPAYA | O5: PACAJES | P5: CARANGAS | Q5: MADRE_DE_DIOS | R5: CORNELIO_SAAVEDRA | S5: VELASCO | T5: GRAN_CHACO | V5: POROMA | X5: MOJOCOYA | Y5: SOPACHUY | AB5: INCAHUASI | AD5: LAS CARRERAS | AE5: MACHARETÍ | AF5: MECAPACA | AG5: CHUA COCANI | AH5: CALACOTO | AI5: PUERTO CARABUCO | AJ5: AUCAPATA | AK5: TACACOMA | AM5: TIAHUANACU | AN5: YACO | AO5: CAJUATA | AP5: YANACACHI | AQ5: BATALLAS | AR5: AYO AYO | AV5: TITO YUPANQUI | AW5: CHACARILLA | BA5: OMEREQUE | BB5: COCAPATA | BC5: ARBIETO | BF5: SICAYA | BG5: TOLATA | BH5: TIQUIPAYA | BI5: VILLA TUNARI | BK5: POCONA | BL5: ALALAY | BM5: SAN BENITO | BP5: EL CHORO | BT5: CRUZ DE MACHACAMARCA | BU5: ANTEQUERA | BX5: CHIPAYA | CD5: CARANGAS | CF5: YOCALLA | CG5: LLALLAGUA | CH5: TACOBAMBA | CI5: POCOATA | CO5: SAN ANTONIO DE ESMORUCO | CP5: CKOCHAS | CQ5: PORCO | CX5: VILLAMONTES | DB5: PORONGO | DD5: SAN RAFAEL | DE5: YAPACANÍ | DF5: ROBORÉ | DG5: COLPA BÉLGICA | DH5: CABEZAS | DI5: MORO MORO | DJ5: MAIRANA | DK5: MINEROS | DL5: SAN RAMÓN. | DO5: CARMEN RIVERO TÓRREZ | DP5: EL PUENTE | DS5: SANTA ROSA. | DW5: PUERTO SILES | DX5: HUACARAJE | DY5: BOLPEBRA | DZ5: FILADELFIA | EA5: SENA | EC5: SANTOS MERCADO
B6: Chuquisaca | C6: Azurduy | D6: Azurduy | E6: 10201 | G6: LA_PAZ. | I6: CHUQUISACA | J6: TOMINA | L6: MOXOS | M6: TOMINA | N6: ESTEBAN_ARZE | O6: CAMACHO | P6: SAJAMA | Q6: ABUNÁ | R6: CHAYANTA | S6: ICHILO | T6: AVILES | X6: ICLA | Y6: VILLA ALCALA | AB6: VILLA CHARCAS | AF6: ACHOCALLA | AG6: HUARINA | AH6: COMANCHE | AI6: HUMANATA | AK6: QUIABAYA | AM6: DESAGUADERO | AN6: MALLA | AO6: COLQUIRI | AP6: PALOS BLANCOS | AQ6: PUERTO PÉREZ | AR6: CALAMARCA | BC6: SACABAMBA | BH6: VINTO | BK6: CHIMORÉ | BM6: TACACHI | BP6: PARI - PARIA - SORACACHI | BT6: YUNGUYO DE LITORAL | CF6: URMIRI | CG6: CHUQUIHUTA | CI6: OCURÍ | DB6: LA GUARDIA | DE6: SAN JUAN DE YAPACANÍ | DH6: CUEVO | DI6: POSTRER VALLE | DJ6: QUIRUSILLAS | DK6: FERNÁNDEZ ALONSO | DL6: SAN JULIÁN | DS6: RURRENABAQUE | DY6: BELLA FLOR
B7: Chuquisaca | C7: Azurduy | D7: Tarvita | E7: 10202 | G7: ORURO. | I7: CHUQUISACA | J7: HERNANDO SILES | L7: MARBÁN | M7: HERNANDO_SILES | N7: ARANI | O7: MUÑECAS | P7: LITORAL | Q7: FEDERICO_ROMÁN | R7: CHARCAS | S7: CHIQUITOS | T7: MÉNDEZ | Y7: EL VILLAR | AF7: EL ALTO | AG7: SANTIAGO DE HUATA | AH7: CHARAÑA | AI7: ESCOMA | AK7: COMBAYA | AM7: SAN ANDRÉS DE MACHACA | AN7: CAIROMA | AO7: ICHOCA | AP7: LA ASUNTA | AR7: PATACAMAYA | BH7: COLCAPIRHUA | BK7: PUERTO VILLARROEL | BM7: CUCHUMUELA | BT7: ESMERALDA | DB7: EL TORNO | DH7: GUTIÉRREZ | DI7: PUCARÁ | DK7: SAN PEDRO. | DL7: SAN ANTONIO DE LOMERÍO
B8: Chuquisaca | C8: Zudáñez | D8: Zudañez | E8: 10301 | G8: PANDO. | I8: CHUQUISACA | J8: YAMPARÁEZ | L8: MAMORÉ | M8: YAMPARÁEZ | N8: ARQUE | O8: LARECAJA | P8: POOPÓ | R8: NOR_CHICHAS | S8: SARA | T8: BURNET_O_CONNOR | AG8: HUATAJATA | AH8: WALDO BALLIVIÁN | AK8: TIPUANI | AM8: JESÚS DE MACHACA | AO8: VILLA LIBERTAD LICOMA | AR8: COLQUENCHA | BK8: ENTRE RÍOS. | DH8: CAMIRI | DL8: CUATRO CAÑADAS
B9: Chuquisaca | C9: Zudáñez | D9: Presto | E9: 10302 | G9: POTOSÍ. | I9: CHUQUISACA | J9: NOR CINTI | L9: ITÉNEZ | M9: NOR_CINTI | N9: CAPINOTA | O9: FRANZ_TAMAYO | P9: PANTALEÓN DALENCE | R9: ALONSO_DE_IBÁÑEZ | S9: CORDILLERA | AH9: NAZACARA DE PACAJES | AK9: MAPIRI | AM9: TARACO | AR9: COLLANA | DH9: BOYUIBE
B10: Chuquisaca | C10: Zudáñez | D10: Mojocoya | E10: 10303 | G10: SANTA_CRUZ. | I10: CHUQUISACA | J10: BELISARIO BOETO | M10: BELISARIO_BOETO | N10: GERMAN_JORDAN | O10: INGAVI | P10: LADISLAO CABRERA | R10: SUR_CHICHAS | S10: VALLEGRANDE | AH10: CALLAPA | AK10: TEOPONTE
B11: Chuquisaca | C11: Zudáñez | D11: Icla | E11: 10304 | G11: TARIJA. | I11: CHUQUISACA | J11: SUD CINTI | M11: SUD_CINTI | N11: QUILLACOLLO | O11: LOAYZA | P11: SABAYA | R11: NOR_LÍPEZ | S11: FLORIDA
B12: Chuquisaca | C12: Tomina | D12: Padilla | E12: 10401 | I12: CHUQUISACA | J12: LUIS CALVO | M12: LUIS_CALVO | N12: CHAPARE | O12: INQUISIVI | P12: SAUCARÍ | R12: SUR_LÍPEZ | S12: OBISPO_SANTISTEVAN
B13: Chuquisaca | C13: Tomina | D13: Tomina | E13: 10402 | I13: LA PAZ | J13: MURILLO | N13: TAPACARÍ | O13: SUD_YUNGAS | P13: TOMÁS BARRÓN | R13: JOSÉ_MARÍA_LINARES | S13: ÑUFLO_DE_CHÁVEZ
B14: Chuquisaca | C14: Tomina | D14: Sopachuy | E14: 10403 | I14: LA PAZ | J14: OMASUYOS | N14: CARRASCO | O14: LOS_ANDES | P14: SUR CARANGAS | R14: ANTONIO_QUIJARRO | S14: ÁNGEL_SANDÓVAL
B15: Chuquisaca | C15: Tomina | D15: Villa Alcala | E15: 10404 | I15: LA PAZ | J15: PACAJES | N15: MIZQUE | O15: AROMA | P15: SAN PEDRO DE TOTORA | R15: BERNARDINO_BILBAO_RIOJA | S15: MANUEL_MARÍA_CABALLERO
B16: Chuquisaca | C16: Tomina | D16: El Villar | E16: 10405 | I16: LA PAZ | J16: CAMACHO | N16: PUNATA | O16: NOR_YUNGAS | P16: SEBASTIÁN PAGADOR | R16: DANIEL_CAMPOS | S16: GERMÁN_BUSCH
B17: Chuquisaca | C17: Hernando Siles | D17: Monteagudo | E17: 10501 | I17: LA PAZ | J17: MUÑECAS | N17: BOLÍVAR | O17: ABEL_ITURRALDE | P17: MEJILLONES | R17: MODESTO_OMISTE | S17: GUARAYOS
B18: Chuquisaca | C18: Hernando Siles | D18: Huacareta | E18: 10502 | I18: LA PAZ | J18: LARECAJA | N18: TIRAQUE | O18: BAUTISTA_SAAVEDRA | P18: NOR CARANGAS | R18: ENRIQUE_BALDIVIESO
B19: Chuquisaca | C19: Yamparáez | D19: Tarabuco | E19: 10601 | I19: LA PAZ | J19: FRANZ TAMAYO | O19: MANCO_KAPAC
B20: Chuquisaca | C20: Yamparáez | D20: Yamparáez | E20: 10602 | I20: LA PAZ | J20: INGAVI | O20: GUALBERTO_VILLARROEL
B21: Chuquisaca | C21: Nor Cinti | D21: Camargo | E21: 10701 | I21: LA PAZ | J21: LOAYZA | O21: JOSÉ_MANUEL_PANDO
B22: Chuquisaca | C22: Nor Cinti | D22: San Lucas | E22: 10702 | I22: LA PAZ | J22: INQUISIVI | O22: CARANAVI
B23: Chuquisaca | C23: Nor Cinti | D23: Incahuasi | E23: 10703 | I23: LA PAZ | J23: SUD YUNGAS
B24: Chuquisaca | C24: Nor Cinti | D24: Villa Charcas | E24: 10704 | I24: LA PAZ | J24: LOS ANDES
B25: Chuquisaca | C25: Belisario Boeto | D25: Villa Serrano | E25: 10801 | I25: LA PAZ | J25: AROMA
B26: Chuquisaca | C26: Sud Cinti | D26: Villa Abecia | E26: 10901 | I26: LA PAZ | J26: NOR YUNGAS
B27: Chuquisaca | C27: Sud Cinti | D27: Culpina | E27: 10902 | I27: LA PAZ | J27: ABEL ITURRALDE
B28: Chuquisaca | C28: Sud Cinti | D28: Las carreras | E28: 10903 | I28: LA PAZ | J28: BAUTISTA SAAVEDRA
B29: Chuquisaca | C29: Luis Calvo | D29: Muyupampa | E29: 11001 | I29: LA PAZ | J29: MANCO KAPAC
B30: Chuquisaca | C30: Luis Calvo | D30: Huacaya | E30: 11002 | I30: LA PAZ | J30: GUALBERTO VILLARROEL
B31: Chuquisaca | C31: Luis Calvo | D31: Macharetí | E31: 11003 | I31: LA PAZ | J31: JOSÉ MANUEL PANDO
B32: La Paz | C32: Murillo | D32: La Paz | E32: 20101 | I32: LA PAZ | J32: CARANAVI
B33: La Paz | C33: Murillo | D33: Palca | E33: 20102 | I33: COCHABAMBA | J33: CERCADO
B34: La Paz | C34: Murillo | D34: Mecapaca | E34: 20103 | I34: COCHABAMBA | J34: CAMPERO
... B48: La Paz | C48: Pacajes | D48: Waldo Ballivián | E48: 20306 | I48: COCHABAMBA | J48: TIRAQUE
I49: ORURO | J49: CERCADO_OR
B50: La Paz | C50: Pacajes | D50: Nazacara de Pacajes | E50: 20307 | I50: ORURO | J50: ABAROA
B51: La Paz | C51: Pacajes | D51: Callapa | E51: 20308 | I51: ORURO | J51: CARANGAS
B52: La Paz | C52: Camacho | D52: Puerto Acosta | E52: 20401 | I52: ORURO | J52: SAJAMA
B53: La Paz | C53: Camacho | D53: Mocomoco | E53: 20402 | I53: ORURO | J53: LITORAL
B54: La Paz | C54: Camacho | D54: Puerto Carabuco | E54: 20403 | I54: ORURO | J54: POOPÓ
...

Sheet BD_OECA
A1: Numero Correlativo | B1: CÓDIGO OECA | C1: 1. Identificación de la OECA | P1: 2. Actividad Productiva de la OECA (Agrícola y Pecuaria) | V1: 3. Producción Agropecuaria, Comercialización y Transformación | JI1: 5. Identificación del Agente Registrador
V2: 3.1. Producción Agrícola (Principales Productos) | DE2: 3.2. Producto Pecuario | GQ2: 3.3. Producción Piscícola | HU2: 3.4. Producción Silvícola y Productos Transformados y Sistemas Agroforestales. | IO2: 3.5. Recoleccion de la Agricultura Primaria.(Especies Forestables NO Maderables)
V3: N° | W3: 1. PRODUCTOS PRINCIPALES | X3: 1. CANTIDAD ANUAL PRODUCIDA POR LA OECA | Z3: 1. ¿Realiza la transformación del producto? | AA3: 1.1. Mencione los productos o subproductos principales | AB3: 1.1. ¿Cantidad Utilizada para la transformacion? (Unidad de Medida) | AC3: 1.1. DESTINO DE LOS PRODUCTOS PRINCIPALES (%) | AF3: 1.1. PRECIO DE VENTA (Bolivianos/Unidad de Medida) | AI3: 1.2. Mencione los productos o subproductos principales | AJ3: 1.2. ¿Cantidad Utilizada para la transformacion? (Unidad de Medida) | AK3: 1.2. DESTINO DE LOS PRODUCTOS PRINCIPALES (%) | AN3: 1.2. PRECIO DE VENTA (Bolivianos/Unidad de Medida) | AQ3: 1.3. Mencione los productos o subproductos principales | AR3: 1.3. ¿Cantidad Utilizada para la transformacion? (Unidad de Medida) | AS3: 1.3. DESTINO DE LOS PRODUCTOS PRINCIPALES (%) | AV3: 1.3. PRECIO DE VENTA (Bolivianos/Unidad de Medida) | AY3: N° | AZ3: 2. PRODUCTOS PRINCIPALES | BA3: 2. CANTIDAD ANUAL PRODUCIDA POR LA OECA | BC3: 2. ¿Realiza la transformación del producto? | BD3: 2.1. Mencione los productos o subproductos principales | BE3: 2.1. ¿Cantidad Utilizada para la transformacion? (Unidad de Medida) | BF3: 2.1. DESTINO DE LOS PRODUCTOS PRINCIPALES (%) | BI3: 2.1. PRECIO DE VENTA (Bolivianos/Unidad de Medida) | BL3: 2.2. Mencione los productos o subproductos principales | BM3: 2.2. ¿Cantidad Utilizada para la transformacion? (Unidad de Medida) | BN3: 2.2. DESTINO DE LOS PRODUCTOS PRINCIPALES (%) | BQ3: 2.2. PRECIO DE VENTA (Bolivianos/Unidad de Medida) | BT3: 2.3. Mencione los productos o subproductos principales | BU3: 2.3. ¿Cantidad Utilizada para la transformacion? (Unidad de Medida) | BV3: 2.3. DESTINO DE LOS PRODUCTOS PRINCIPALES (%) | BY3: 2.3. PRECIO DE VENTA (Bolivianos/Unidad de Medida) | CB3: N° | CC3: 3. PRODUCTOS PRINCIPALES | CD3: 3. CANTIDAD ANUAL PRODUCIDA POR LA OECA | CF3: 3. ¿Realiza la transformación del producto? | CG3: 3. Mencione los productos o subproductos principales | CH3: 3. ¿Cantidad Utilizada para la transformacion? (Unidad de Medida) | CI3: 3. DESTINO DE LOS PRODUCTOS PRINCIPALES (%) | CL3: 3. PRECIO DE VENTA (Bolivianos/Unidad de Medida) | CO3: 2.2. Mencione los productos o subproductos principales | CP3: 2.2. ¿Cantidad Utilizada para la transformacion? (Unidad de Medida) | CQ3: 2.2. DESTINO DE LOS PRODUCTOS PRINCIPALES (%) | CT3: 2.2. PRECIO DE VENTA (Bolivianos/Unidad de Medida) | CW3: 2.3. Mencione los productos o subproductos principales | CX3: 2.3. ¿Cantidad Utilizada para la transformacion? (Unidad de Medida) | CY3: 2.3. DESTINO DE LOS PRODUCTOS PRINCIPALES (%) | DB3: 2.3. PRECIO DE VENTA (Bolivianos/Unidad de Medida) | DE3: N° | DF3: 1. TIPO DE GANADO | DG3: 1. PRODUCTO | DH3: 1. CANTIDAD ANUAL PRODUCIDA POR LA OECA | DJ3: 1. ¿Realiza la transformación del producto? | DK3: 1,1. Mencione los productos o subproductos principales | DL3: 1,1 ¿Cantidad Utilizada para la transformacion? (Unidad de Medida) | DM3: 1,1. DESTINO DE LOS PRODUCTOS PRINCIPALES (%) | DP3: 1,1. PRECIO DE VENTA (Bolivianos/Unidad de Medida) | DS3: 1,2,2. Mencione los productos o subproductos principales | DT3: 1,2 ¿Cantidad Utilizada para la transformacion? (Unidad de Medida) | DU3: 1,2. DESTINO DE LOS PRODUCTOS PRINCIPALES (%) | DX3: 1,2. PRECIO DE VENTA (Bolivianos/Unidad de Medida) | EA3: 1,3. Mencione los productos o subproductos principales | EB3: 1,3 ¿Cantidad Utilizada para la transformacion? (Unidad de Medida) | EC3: 1,3. DESTINO DE LOS PRODUCTOS PRINCIPALES (%) | EF3: 1,3. PRECIO DE VENTA (Bolivianos/Unidad de Medida) | EI3: N° | EJ3: 2. TIPO DE GANADO | EK3: 2. PRODUCTO | EL3: 2. CANTIDAD ANUAL PRODUCIDA POR LA OECA | EN3: 2. ¿Realiza la transformación del producto? | EO3: 2,1. Mencione los productos o subproductos principales | EP3: 2,1 ¿Cantidad Utilizada para la transformacion? (Unidad de Medida) | EQ3: 2,1. DESTINO DE LOS PRODUCTOS PRINCIPALES (%) | ET3: 2,1. PRECIO DE VENTA (Bolivianos/Unidad de Medida) | EW3: 2,2. Mencione los productos o subproductos principales | EX3: 2,2 ¿Cantidad Utilizada para la transformacion? (Unidad de Medida) | EY3: 2,2. DESTINO DE LOS PRODUCTOS PRINCIPALES (%) | FB3: 2,2. PRECIO DE VENTA (Bolivianos/Unidad de Medida) | FE3: 2,3. Mencione los productos o subproductos principales | FF3: 2,3 ¿Cantidad Utilizada para la transformacion? (Unidad de Medida) | FG3: 2,3. DESTINO DE LOS PRODUCTOS PRINCIPALES (%) | FJ3: 2,3. PRECIO DE VENTA (Bolivianos/Unidad de Medida) | FM3: N° | FN3: 3. TIPO DE GANADO | FO3: 3. PRODUCTO | FP3: 3. CANTIDAD ANUAL PRODUCIDA POR LA OECA | FR3: 3. ¿Realiza la transformación del producto? | FS3: 3,1. Mencione los productos o subproductos principales | FT3: 3,1 ¿Cantidad Utilizada para la transformacion? (Unidad de Medida) | FU3: 3,1. DESTINO DE LOS PRODUCTOS PRINCIPALES (%) | FX3: 3,1. PRECIO DE VENTA (Bolivianos/Unidad de Medida) | GA3: 3,2. Mencione los productos o subproductos principales | GB3: 3,2 ¿Cantidad Utilizada para la transformacion? (Unidad de Medida) | GC3: 3,2. DESTINO DE LOS PRODUCTOS PRINCIPALES (%) | GF3: 3,2. PRECIO DE VENTA (Bolivianos/Unidad de Medida) | GI3: 3,3. Mencione los productos o subproductos principales | GJ3: 3,3 ¿Cantidad Utilizada para la transformacion? (Unidad de Medida) | GK3: 3,3. DESTINO DE LOS PRODUCTOS PRINCIPALES (%) | GN3: 3,3. PRECIO DE VENTA (Bolivianos/Unidad de Medida) | GQ3: N° | GR3: 1. ESPECIE APROVECHADA | GS3: 1. Pesca 2. Cria 3. Ambos | GT3: 1. VOLUMEN ANUAL (Kilos) | GU3: 1. DESTINO DE LOS PRODUCTOS PRINCIPALES (%) | GX3: 1. PRECIO DE VENTA (Bolivianos/kilo) | HA3: N° | HB3: 2. ESPECIE APROVECHADA | HC3: 1. Pesca 2. Cria 3. Ambos | HD3: 2. VOLUMEN ANUAL (Kilos) | HE3: 2. DESTINO DE LOS PRODUCTOS PRINCIPALES (%) | HH3: 2. PRECIO DE VENTA (Bolivianos/kilo) | HK3: N° | HL3: 3. ESPECIE APROVECHADA | HM3: 1. Pesca 2. Cria 3. Ambos | HN3: 3. VOLUMEN ANUAL (Kilos) | HO3: 3. DESTINO DE LOS PRODUCTOS PRINCIPALES (%) | HR3: 3. PRECIO DE VENTA (Bolivianos/kilo) | HU3: N° | HV3: 1. Especies Forestables Maderables | HW3: 1.PRODUCTO | HX3: 1. Cantidad (Pie tablar) | HY3: 1. DESTINO DE LOS PRODUCTOS PRINCIPALES (%) | IB3: 1. PRECIO DE VENTA (Bolivianos/Pie tablar) | IE3: N° | IF3: 2. Especies Forestables Maderables | IG3: 2.PRODUCTO | IH3: 2. Cantidad (Pie tablar) | II3: 2. DESTINO DE LOS PRODUCTOS PRINCIPALES (%) | IL3: 2. PRECIO DE VENTA (Bolivianos/Pie tablar) | IO3: N° | IP3: 1. Especies Forestables NO Maderables (especies ) | IQ3: 1. PRODUCTO | IR3: 1. Cantidad (Kilos) | IS3: 1. DESTINO DE LOS PRODUCTOS PRINCIPALES (%) | IV3: 1. PRECIO DE VENTA (Bolivianos/Kilo) | IY3: N° | IZ3: 2. Especies Forestables NO Maderables (especies ) | JA3: 2. PRODUCTO | JB3: 2. Cantidad (Kilos) | JC3: 2. DESTINO DE LOS PRODUCTOS PRINCIPALES (%) | JF3: 2. PRECIO DE VENTA (Bolivianos/Kilo) | JI3: Fecha de Emisión: | JJ3: Departamento Emisión: | JK3: Municipio Emisión: | JL3: Nombres: | JM3: Apellido Paterno: | JN3: Apellido Materno: | JO3: Nro de CI. | JP3: Expedido:
C4: Nombre: | D4: =+OECA!AS10 -> Número de personería jurídica / Certificación de pertenencia | E4: =+OECA!BG10 -> Expedido | F4: Representante OECA | G4: Teléfono: | H4: Departamento: | I4: Provincia: | J4: Municipio: | K4: Comunidad | L4: Año de Fundación | M4: N° Socios Activos de la OECA | N4: N° Socios Pasivos de la OECA: | O4: Dirección: OECA | P4: Actividad Principal: | Q4: Rubro 1 | R4: Rubro 2 | S4: Actividad Secundaria: | T4: Rubro 1 | U4: Rubro 2 | X4: 1. CANTIDAD | Y4: 1. UNIDAD DE MEDIDA | AC4: 1.1. MERCADO LOCAL (DENTRO DE LA COMUNIDAD) | AD4: 1.1. MERCADO FUERA DE LA COMUNIDAD | AE4: 1.1. MERCADO EXTERNO (EXPORTACION) | AF4: 1.1. MERCADO LOCAL (DENTRO DE LA COMUNIDAD) | AG4: 1.1. MERCADO FUERA DE LA COMUNIDAD | AH4: 1.1. MERCADO EXTERNO | AK4: 1.2. MERCADO LOCAL (DENTRO DE LA COMUNIDAD) | AL4: 1.2. MERCADO FUERA DE LA COMUNIDAD | AM4: 1.2. MERCADO EXTERNO (EXPORTACION) | AN4: 1.2. MERCADO LOCAL (DENTRO DE LA COMUNIDAD) | AO4: 1.2. MERCADO FUERA DE LA COMUNIDAD | AP4: 1.2. MERCADO EXTERNO | AS4: 1.3. MERCADO LOCAL (DENTRO DE LA COMUNIDAD) | AT4: 1.3. MERCADO FUERA DE LA COMUNIDAD | AU4: 1.3. MERCADO EXTERNO (EXPORTACION) | AV4: 1.3. MERCADO LOCAL (DENTRO DE LA COMUNIDAD) | AW4: 1.3. MERCADO FUERA DE LA COMUNIDAD | AX4: 1.3. MERCADO EXTERNO | BA4: 2. CANTIDAD | BB4: 2. UNIDAD DE MEDIDA | BF4: 2.1. MERCADO LOCAL (DENTRO DE LA COMUNIDAD) | BG4: 2.1. MERCADO FUERA DE LA COMUNIDAD | BH4: 2.1. MERCADO EXTERNO (EXPORTACION) | BI4: 2.1. MERCADO LOCAL (DENTRO DE LA COMUNIDAD) | BJ4: 2.1. MERCADO FUERA DE LA COMUNIDAD | BK4: 2.1. MERCADO EXTERNO | BN4: 2.2. MERCADO LOCAL (DENTRO DE LA COMUNIDAD) | BO4: 2.2. MERCADO FUERA DE LA COMUNIDAD | BP4: 2.2. MERCADO EXTERNO (EXPORTACION) | BQ4: 2.2. MERCADO LOCAL (DENTRO DE LA COMUNIDAD) | BR4: 2.2. MERCADO FUERA DE LA COMUNIDAD | BS4: 2.2. MERCADO EXTERNO | BV4: 2.3. MERCADO LOCAL (DENTRO DE LA COMUNIDAD) | BW4: 2.3. MERCADO FUERA DE LA COMUNIDAD | BX4: 2.3. MERCADO EXTERNO (EXPORTACION) | BY4: 2.3. MERCADO LOCAL (DENTRO DE LA COMUNIDAD) | BZ4: 2.3. MERCADO FUERA DE LA COMUNIDAD | CA4: 2.3. MERCADO EXTERNO | CD4: 3. CANTIDAD | CE4: 3. UNIDAD DE MEDIDA | CI4: 3. MERCADO LOCAL (DENTRO DE LA COMUNIDAD) | CJ4: 3. MERCADO FUERA DE LA COMUNIDAD | CK4: 3. MERCADO EXTERNO (EXPORTACION) | CL4: 3. MERCADO LOCAL (DENTRO DE LA COMUNIDAD) | CM4: 3. MERCADO FUERA DE LA COMUNIDAD | CN4: 3. MERCADO EXTERNO | CQ4: 2.2. MERCADO LOCAL (DENTRO DE LA COMUNIDAD) | CR4: 2.2. MERCADO FUERA DE LA COMUNIDAD | CS4: 2.2. MERCADO EXTERNO (EXPORTACION) | CT4: 2.2. MERCADO LOCAL (DENTRO DE LA COMUNIDAD) | CU4: 2.2. MERCADO FUERA DE LA COMUNIDAD | CV4: 2.2. MERCADO EXTERNO | CY4: 2.3. MERCADO LOCAL (DENTRO DE LA COMUNIDAD) | CZ4: 2.3. MERCADO FUERA DE LA COMUNIDAD | DA4: 2.3. MERCADO EXTERNO (EXPORTACION) | DB4: 2.3. MERCADO LOCAL (DENTRO DE LA COMUNIDAD) | DC4: 2.3. MERCADO FUERA DE LA COMUNIDAD | DD4: 2.3. MERCADO EXTERNO | DH4: CANTIDAD | DI4: UNIDAD DE MEDIDA | DM4: MERCADO LOCAL (Dentro de la comunidad) | DN4: MERCADO FUERA DE LA COMUNIDAD | DO4: MERCADO EXTERNO (Exportación) | DP4: MERCADO LOCAL (Dentro de la comunidad) | DQ4: MERCADO FUERA DE LA COMUNIDAD | DR4: MERCADO EXTERNO | DU4: MERCADO LOCAL (Dentro de la comunidad) | DV4: MERCADO FUERA DE LA COMUNIDAD | DW4: MERCADO EXTERNO (Exportación) | DX4: MERCADO LOCAL (Dentro de la comunidad) | DY4: MERCADO FUERA DE LA COMUNIDAD | DZ4: MERCADO EXTERNO | EC4: MERCADO LOCAL (Dentro de la comunidad) | ED4: MERCADO FUERA DE LA COMUNIDAD | EE4: MERCADO EXTERNO (Exportación) | EF4: MERCADO LOCAL (Dentro de la comunidad) | EG4: MERCADO FUERA DE LA COMUNIDAD | EH4: MERCADO EXTERNO | EL4: CANTIDAD | EM4: UNIDAD DE MEDIDA | EQ4: MERCADO LOCAL (Dentro de la comunidad) | ER4: MERCADO FUERA DE LA COMUNIDAD | ES4: MERCADO EXTERNO (Exportación) | ET4: MERCADO LOCAL (Dentro de la comunidad) | EU4: MERCADO FUERA DE LA COMUNIDAD | EV4: MERCADO EXTERNO | EY4: MERCADO LOCAL (Dentro de la comunidad) | EZ4: MERCADO FUERA DE LA COMUNIDAD | FA4: MERCADO EXTERNO (Exportación) | FB4: MERCADO LOCAL (Dentro de la comunidad) | FC4: MERCADO FUERA DE LA COMUNIDAD | FD4: MERCADO EXTERNO | FG4: MERCADO LOCAL (Dentro de la comunidad) | FH4: MERCADO FUERA DE LA COMUNIDAD | FI4: MERCADO EXTERNO (Exportación) | FJ4: MERCADO LOCAL (Dentro de la comunidad) | FK4: MERCADO FUERA DE LA COMUNIDAD | FL4: MERCADO EXTERNO | FP4: CANTIDAD | FQ4: UNIDAD DE MEDIDA | FU4: MERCADO LOCAL (Dentro de la comunidad) | FV4: MERCADO FUERA DE LA COMUNIDAD | FW4: MERCADO EXTERNO (Exportación) | FX4: MERCADO LOCAL (Dentro de la comunidad) | FY4: MERCADO FUERA DE LA COMUNIDAD | FZ4: MERCADO EXTERNO | GC4: MERCADO LOCAL (Dentro de la comunidad) | GD4: MERCADO FUERA DE LA COMUNIDAD | GE4: MERCADO EXTERNO (Exportación) | GF4: MERCADO LOCAL (Dentro de la comunidad) | GG4: MERCADO FUERA DE LA COMUNIDAD | GH4: MERCADO EXTERNO | GK4: MERCADO LOCAL (Dentro de la comunidad) | GL4: MERCADO FUERA DE LA COMUNIDAD | GM4: MERCADO EXTERNO (Exportación) | GN4: MERCADO LOCAL (Dentro de la comunidad) | GO4: MERCADO FUERA DE LA COMUNIDAD | GP4: MERCADO EXTERNO | GU4: MERCADO LOCAL (DENTRO DE LA COMUNIDAD) | GV4: MERCADO FUERA DE LA COMUNIDAD | GW4: MERCADO EXTERNO (EXPORTACION) | GX4: MERCADO LOCAL (DENTRO DE LA COMUNIDAD) | GY4: MERCADO FUERA DE LA COMUNIDAD | GZ4: MERCADO EXTERNO (EXPORTACION) | HE4: MERCADO LOCAL (DENTRO DE LA COMUNIDAD) | HF4: MERCADO FUERA DE LA COMUNIDAD | HG4: MERCADO EXTERNO (EXPORTACION) | HH4: MERCADO LOCAL (DENTRO DE LA COMUNIDAD) | HI4: MERCADO FUERA DE LA COMUNIDAD | HJ4: MERCADO EXTERNO (EXPORTACION) | HO4: MERCADO LOCAL (DENTRO DE LA COMUNIDAD) | HP4: MERCADO FUERA DE LA COMUNIDAD | HQ4: MERCADO EXTERNO (EXPORTACION) | HR4: MERCADO LOCAL (DENTRO DE LA COMUNIDAD) | HS4: MERCADO FUERA DE LA COMUNIDAD | HT4: MERCADO EXTERNO (EXPORTACION) | HY4: MERCADO LOCAL (DENTRO DE LA COMUNIDAD) | HZ4: MERCADO FUERA DE LA COMUNIDAD | IA4: MERCADO EXTERNO (EXPORTACION) | IB4: MERCADO LOCAL (DENTRO DE LA COMUNIDAD) | IC4: MERCADO FUERA DE LA COMUNIDAD | ID4: MERCADO EXTERNO (EXPORTACION) | II4: MERCADO LOCAL (DENTRO DE LA COMUNIDAD) | IJ4: MERCADO FUERA DE LA COMUNIDAD | IK4: MERCADO EXTERNO (EXPORTACION) | IL4: MERCADO LOCAL (DENTRO DE LA COMUNIDAD) | IM4: MERCADO FUERA DE LA COMUNIDAD | IN4: MERCADO EXTERNO (EXPORTACION) | IS4: MERCADO LOCAL (DENTRO DE LA COMUNIDAD) | IT4: MERCADO FUERA DE LA COMUNIDAD | IU4: MERCADO EXTERNO (EXPORTACION) | IV4: MERCADO LOCAL (DENTRO DE LA COMUNIDAD) | IW4: MERCADO FUERA DE LA COMUNIDA | IX4: MERCADO EXTERNO (EXPORTACION) | JC4: MERCADO LOCAL (DENTRO DE LA COMUNIDAD) | JD4: MERCADO FUERA DE LA COMUNIDAD | JE4: MERCADO EXTERNO (EXPORTACION) | JF4: MERCADO LOCAL (DENTRO DE LA COMUNIDAD) | JG4: MERCADO FUERA DE LA COMUNIDA | JH4: MERCADO EXTERNO (EXPORTACION)
