Workbook

Sheet SUPERFICIE
A2: BOLIVIA: SUPERFICIE AÑO CIVIL, SEGÚN CULTIVO, 2013 - 2025 (p)
A3: (En hectáreas)
A4: DESCRIPCIÓN | B4: 2013 | C4: 2014 | D4: 2015 | E4: 2016 | F4: 2017 | G4: 2018 | H4: 2019 | I4: 2020 | J4: 2021 | K4: 2022 | L4: 2023(p) | M4: 2024(p) | N4: 2025(p)
A5: CEREALES | B5: 1256026 | C5: 1372700.3 | D5: 1298394 | E5: 1188147.7 | F5: 1361258.3 | G5: 1400397.8 | H5: 1496189.6 | I5: 1481705.4 | J5: 1474215.4 | K5: 1505209.7 | L5: 1731235.8 | M5: 1731490.2 | N5: 1672615.9
A6: Arroz con cáscara | B6: 182613.58 | C6: 174917.73 | D6: 166784.38 | E6: 164216.81 | F6: 172847.21 | G6: 169649.57 | H6: 187356.69 | I6: 176459.75 | J6: 178790.29 | K6: 203276.18 | L6: 208089.25 | M6: 209225.76 | N6: 191742.33
A7: Avena | B7: 15387.33 | C7: 15365 | D7: 17146.64 | E7: 15953.77 | F7: 14351.15 | G7: 14274.89 | H7: 14178.25 | I7: 15013.9 | J7: 15153.67 | K7: 14598.34 | L7: 14863.91 | M7: 14690.35 | N7: 14916.04
A8: Cañahua | B8: 1105.32 | C8: 1172.29 | D8: 1239.7 | E8: 1254.53 | F8: 1176.5 | G8: 1211.86 | H8: 1238.71 | I8: 1226.66 | J8: 1224.66 | K8: 1215.68 | L8: 1228.23 | M8: 1218.3 | N8: 4524.52
A9: Cebada en grano | B9: 57985.49 | C9: 56254.55 | D9: 55291.73 | E9: 55369.42 | F9: 53040.76 | G9: 53427.02 | H9: 53618.59 | I9: 54060.61 | J9: 54135.2 | K9: 53654.9 | L9: 53737.87 | M9: 53712.2 | N9: 49685.09
A10: Centeno | B10: 395.83 | C10: 383.79 | D10: 418.45 | E10: 349.46 | F10: 346.6 | G10: 348.68 | H10: 350.12 | I10: 360.58 | J10: 362.31 | K10: 353.66 | L10: 355.81 | M10: 354.79 | N10: 357.44
A11: Maíz en grano | B11: 477129.25 | C11: 492822.41 | D11: 407789.29 | E11: 410535 | F11: 437394.79 | G11: 452656.2 | H11: 470142.92 | I11: 415265.19 | J11: 384292.66 | K11: 409538.45 | L11: 487710.61 | M11: 561071.22 | N11: 412652.53
A12: Quinua | B12: 105397.06 | C12: 113505.94 | D12: 121186.06 | E12: 118913.48 | F12: 110639.18 | G12: 111604.81 | H12: 116746.32 | I12: 115972.69 | J12: 121119.18 | K12: 123626.5 | L12: 126286.98 | M12: 118056.33 | N12: 148622.2
A13: Sorgo en grano | B13: 303659.86 | C13: 302699.12 | D13: 286575.15 | E13: 245910.42 | F13: 381719.5 | G13: 393852.15 | H13: 449314.74 | I13: 502909.04 | J13: 507856.81 | K13: 486354.13 | L13: 633759 | M13: 563149.04 | N13: 660395.1
A14: Trigo | B14: 112352.28 | C14: 215579.43 | D14: 241962.59 | E14: 175644.84 | F14: 189742.6 | G14: 203372.62 | H14: 203243.22 | I14: 200437.01 | J14: 211280.63 | K14: 212591.85 | L14: 205204.17 | M14: 210012.22 | N14: 189720.61
A15: ESTIMULANTES | B15: 33086 | C15: 33340.09 | D15: 33592.36 | E15: 33889.78 | F15: 34186.8 | G15: 35211.08 | H15: 36160.91 | I15: 36166.96 | J15: 36246.83 | K15: 36749.49 | L15: 36694.63 | M15: 36372.1 | N15: 37793.14
A16: Cacao | B16: 10125.82 | C16: 10198 | D16: 10270.11 | E16: 10291.67 | F16: 10342 | G16: 10340.83 | H16: 10386.6 | I16: 10336.3 | J16: 10336.15 | K16: 10348.38 | L16: 10639.3 | M16: 10548.92 | N16: 11473.66
... A402: Cebada berza | B402: 8886.34 | C402: 9129.17 | D402: 9972 | E402: 9493.84 | F402: 9573 | G402: 9600 | H402: 9259.09 | I402: 9526.17 | J402: 9570.68 | K402: 9505.79 | L402: 9423.79 | M402: 9500.71 | N402: 15121.81
A403: DESCRIPCIÓN PANDO | B403: 2013 | C403: 2014 | D403: 2015 | E403: 2016 | F403: 2017 | G403: 2018 | H403: 2019 | I403: 2020 | J403: 2021 | K403: 2022 | L403: 2023(p) | M403: 2024(p) | N403: 2025(p)
A404: CEREALES | B404: 4379.18 | C404: 4780.97 | D404: 5060.66 | E404: 5149.78 | F404: 5370.31 | G404: 5391.44 | H404: 5103.72 | I404: 5196.7 | J404: 5213.5 | K404: 5271.33 | L404: 6131.04 | M404: 5826.19 | N404: 5717.22
A405: Arroz con cáscara | B405: 2017.68 | C405: 2104.47 | D405: 2181.71 | E405: 2220.19 | F405: 2381.52 | G405: 2400.76 | H405: 2264.53 | I405: 2285.64 | J405: 2289.13 | K405: 2333.78 | L405: 2711.01 | M405: 2384.16 | N405: 2463.82
A406: Maíz en grano | B406: 2353 | C406: 2662.5 | D406: 2860.37 | E406: 2911.59 | F406: 2978.79 | G406: 2981.68 | H406: 2824.95 | I406: 2897.05 | J406: 2910.4 | K406: 2925.3 | L406: 3402.76 | M406: 3428.92 | N406: 3240.4
A407: Trigo | B407: 8.5 | C407: 14 | D407: 18.58 | E407: 18 | F407: 10 | G407: 9 | H407: 14.24 | I407: 14.01 | J407: 13.97 | K407: 12.25 | L407: 17.27 | M407: 13.11 | N407: 13
A408: ESTIMULANTES | B408: 190.41 | C408: 198.69 | D408: 207 | E408: 207.01 | F408: 207 | G408: 207.01 | H408: 210.57 | I408: 208.19 | J408: 221.08 | K408: 242.05 | L408: 314.19 | M408: 483.32 | N408: 687.6
A409: Cacao | B409: 167.43 | C409: 175.5 | D409: 184 | E409: 184 | F409: 183 | G409: 183.5 | H409: 186.95 | I409: 184.73 | J409: 184.36 | K409: 184.51 | L409: 224.01 | M409: 342 | N409: 504.5
A410: Café | B410: 22.98 | C410: 23.19 | D410: 23 | E410: 23.01 | F410: 24 | G410: 23.51 | H410: 23.62 | I410: 23.46 | J410: 36.72 | K410: 57.54 | L410: 90.18 | M410: 141.32 | N410: 183.1
A411: FRUTALES | B411: 3679.19 | C411: 3627.9 | D411: 3697.77 | E411: 3752.7 | F411: 3795 | G411: 3797.84 | H411: 3837.58 | I411: 3786.35 | J411: 3778.63 | K411: 3814.83 | L411: 4626.97 | M411: 4002.84 | N411: 4006.42
A412: Banano | B412: 121.28 | C412: 124 | D412: 126.71 | E412: 128.65 | F412: 130 | G412: 131 | H412: 133.04 | I412: 130.41 | J412: 129.97 | K412: 130.88 | L412: 158.09 | M412: 134.57 | N412: 136.77
A413: Lima | B413: 5.86 | C413: 6 | D413: 5.95 | E413: 6.08 | F413: 7 | G413: 6.54 | H413: 6.7 | I413: 6.49 | J413: 6.46 | K413: 6.64 | L413: 7.69 | M413: 6.77 | N413: 6.81
A414: Limón | B414: 23.34 | C414: 23 | D414: 22.41 | E414: 22 | F414: 20 | G414: 21 | H414: 20.58 | I414: 21.1 | J414: 21.18 | K414: 20.77 | L414: 27.76 | M414: 21.78 | N414: 22.5
A415: Mandarina | B415: 25.08 | C415: 23 | D415: 25.16 | E415: 25.33 | F415: 26 | G415: 25.66 | H415: 25.82 | I415: 25.63 | J415: 25.6 | K415: 25.74 | L415: 31.12 | M415: 26.48 | N415: 26.92
... A579: Cebada berza | B579: 22.58 | C579: 61.7 | D579: 100.82 | E579: 102 | F579: 108 | G579: 110 | H579: 125.91 | I579: 112.11 | J579: 112.11 | K579: 113.62 | L579: 115.19 | M579: 113.5 | N579: 113.29

Sheet PRODUCCION
A2: BOLIVIA: PRODUCCIÓN AÑO CIVIL, SEGÚN CULTIVO, 2013 - 2025 (p)
A3: (En toneladas métricas )
A4: DESCRIPCIÓN | B4: 2013 | C4: 2014 | D4: 2015 | E4: 2016 | F4: 2017 | G4: 2018 | H4: 2019 | I4: 2020 | J4: 2021 | K4: 2022 | L4: 2023(p) | M4: 2024(p) | N4: 2025(p)
A5: CEREALES | B5: 2402255.9 | C5: 2873556.6 | D5: 2946899.2 | E5: 2003249.1 | F5: 3033851.4 | G5: 3009581.6 | H5: 3063051.5 | I5: 3471545.8 | J5: 2772128.1 | K5: 2790854.8 | L5: 4279887.8 | M5: 3030942 | N5: 3618317
A6: Arroz con cáscara | B6: 477055.23 | C6: 484056.68 | D6: 531803.81 | E6: 404040.04 | F6: 478707 | G6: 541092.36 | H6: 600076 | I6: 487414.34 | J6: 550248.64 | K6: 608742.96 | L6: 699142.08 | M6: 433051.02 | N6: 596297.61
A7: Avena | B7: 23591.83 | C7: 28993.89 | D7: 27393.55 | E7: 24679.61 | F7: 21026.3 | G7: 21904.01 | H7: 22200.7 | I7: 23203.62 | J7: 23395.81 | K7: 22344.89 | L7: 21477.88 | M7: 22351.43 | N7: 22733.46
A8: Cañahua | B8: 713.68 | C8: 770.73 | D8: 756.15 | E8: 773.91 | F8: 779.64 | G8: 777 | H8: 793.3 | I8: 779.73 | J8: 780.11 | K8: 781.94 | L8: 716.94 | M8: 772.45 | N8: 3382.05
A9: Cebada en grano | B9: 44917.93 | C9: 44799.17 | D9: 51394.97 | E9: 46009.59 | F9: 45480.7 | G9: 46620.6 | H9: 47959.22 | I9: 47558.37 | J9: 48180.69 | K9: 47161.08 | L9: 47481.81 | M9: 47246.68 | N9: 45490.05
A10: Centeno | B10: 231.07 | C10: 274.05 | D10: 318.42 | E10: 269.46 | F10: 268.57 | G10: 274.52 | H10: 286.25 | I10: 284.22 | J10: 283.94 | K10: 279.5 | L10: 285.26 | M10: 280.7 | N10: 282.74
A11: Maíz en grano | B11: 983607.12 | C11: 1060904.2 | D11: 1059764.1 | E11: 854196.67 | F11: 1101891.9 | G11: 1171518.1 | H11: 979289.83 | I11: 1036208.6 | J11: 1142388.4 | K11: 955211.53 | L11: 1380264.9 | M11: 1434056 | N11: 1186634.1
A12: Quinua | B12: 64239.5 | C12: 67711.07 | D12: 75449.31 | E12: 65548.17 | F12: 66792.1 | G12: 70762.65 | H12: 70440.45 | I12: 70169.5 | J12: 49582.78 | K12: 44707.16 | L12: 41380.22 | M12: 50261.88 | N12: 55866.13
A13: Sorgo en grano | B13: 665177.03 | C13: 895632.33 | D13: 816848.78 | E13: 453562.6 | F13: 1032757.6 | G13: 915702.59 | H13: 1031649 | I13: 1470663.7 | J13: 640669.11 | K13: 844073.83 | L13: 1796899.6 | M13: 811624.44 | N13: 1474548.6
A14: Trigo | B14: 142722.5 | C14: 290414.52 | D14: 383170.19 | E14: 154169.01 | F14: 286147.59 | G14: 240929.84 | H14: 310356.72 | I14: 335263.76 | J14: 316598.57 | K14: 267551.88 | L14: 292239.1 | M14: 231297.49 | N14: 233082.31
A15: ESTIMULANTES | B15: 27011.07 | C15: 27664.05 | D15: 28261.68 | E15: 28821.58 | F15: 27876 | G15: 29159.41 | H15: 31879.37 | I15: 30486.92 | J15: 30619.66 | K15: 30389.71 | L15: 31016.89 | M15: 30491.52 | N15: 31786.8
A16: Cacao | B16: 5970.41 | C16: 5971.15 | D16: 6065.35 | E16: 6143.03 | F16: 5518 | G16: 5845.98 | H16: 5835.24 | I16: 5874.53 | J16: 5883.98 | K16: 5791.55 | L16: 5971.17 | M16: 5831.97 | N16: 6716.04
... A84: Cebada berza | B84: 65367.53 | C84: 72230.36 | D84: 79029.2 | E84: 75242.05 | F84: 78971.25 | G84: 79716.2 | H84: 76826.49 | I84: 77817.03 | J84: 81913.42 | K84: 79048.93 | L84: 78349.89 | M84: 78898.54 | N84: 91385.45
A85: Fuente: MDPRyA (OAP)-INE
A86: (p): preliminar
A87: CEREALES | B87: 67761.37 | C87: 69711.38 | D87: 80285.19 | E87: 74445.06 | F87: 117728.07 | G87: 120498.76 | H87: 153752.98 | I87: 123405.8 | J87: 166509.53 | K87: 167691.11 | L87: 265315.5 | M87: 171874.79 | N87: 194416.21
A88: Arroz con cáscara | B88: 51471.02 | C88: 54818.35 | D88: 63004.07 | E88: 56430 | F88: 100104.96 | G88: 103013.21 | H88: 137099.06 | I88: 105223.24 | J88: 122910.79 | K88: 124880.69 | L88: 152858 | M88: 100196.48 | N88: 130839.01
A89: Maíz en grano | B89: 14977.92 | C89: 13901.43 | D89: 16422.12 | E89: 16798.73 | F89: 16924.75 | G89: 16694.07 | H89: 15764.99 | I89: 16401.17 | J89: 42128.52 | K89: 41771.57 | L89: 111301.66 | M89: 70385.07 | N89: 62375.22
A90: Sorgo en grano | B90: 1300.73 | C90: 977.7 | D90: 846 | E90: 1203.05 | F90: 678.71 | G90: 776.26 | H90: 869.54 | I90: 888.73 | J90: 1067.98 | K90: 878.86 | L90: 865.18 | M90: 942.48 | N90: 880
A91: Trigo | B91: 11.7 | C91: 13.9 | D91: 13 | E91: 13.28 | F91: 19.65 | G91: 15.22 | H91: 19.39 | I91: 892.66 | J91: 402.24 | K91: 159.99 | L91: 290.66 | M91: 350.76 | N91: 321.98
A92: ESTIMULANTES | B92: 470.43 | C92: 458.23 | D92: 467.33 | E92: 476.93 | F92: 503 | G92: 489.96 | H92: 495.76 | I92: 488.11 | J92: 487.17 | K92: 492.8 | L92: 592.82 | M92: 506.95 | N92: 608.99
A93: Cacao | B93: 388.6 | C93: 371.73 | D93: 359 | E93: 366.93 | F93: 402 | G93: 384.46 | H93: 384.19 | I93: 380.12 | J93: 379.83 | K93: 386.12 | L93: 469.82 | M93: 397.1 | N93: 490.41
A94: Café | B94: 81.83 | C94: 86.5 | D94: 108.33 | E94: 110 | F94: 101 | G94: 105.5 | H94: 111.57 | I94: 107.99 | J94: 107.34 | K94: 106.68 | L94: 123 | M94: 109.85 | N94: 118.58
A95: FRUTALES | B95: 63336.44 | C95: 65958.09 | D95: 68830.71 | E95: 70802.13 | F95: 80985.11 | G95: 81060.04 | H95: 85571.61 | I95: 79096.31 | J95: 78365.01 | K95: 81016.53 | L95: 88732.46 | M95: 83950.13 | N95: 82496.73
A96: Banano | B96: 4974.23 | C96: 5325.36 | D96: 5696.52 | E96: 5833.46 | F96: 6228 | G96: 6235.88 | H96: 6526.75 | I96: 6468.25 | J96: 6430.06 | K96: 6377.78 | L96: 7223.6 | M96: 6478.24 | N96: 6606.93
A97: Ciruelo | B97: 0.4 | C97: 0.36 | D97: 0.32 | E97: 0.45 | F97: 0.6 | G97: 0.52 | H97: 0.57 | I97: 0.51 | J97: 0.5 | K97: 0.54 | L97: 0.52 | M97: 0.53 | N97: 0.53
A98: Chirimoya | B98: 42 | C98: 39 | D98: 41 | E98: 39.39 | F98: 44 | G98: 41.69 | H98: 41.74 | I98: 41.61 | J98: 41.59 | K98: 42.13 | L98: 51.3 | M98: 43.35 | N98: 44
... A139: Yuca | B139: 31785 | C139: 30590 | D139: 36708 | E139: 37727.89 | F139: 39294.05 | G139: 39597.27 | H139: 41644.79 | I139: 39435.43 | J139: 39264.11 | K139: 39877.61 | L139: 43914.53 | M139: 40585.34 | N139: 42857.85
A140: Fuente: MDPRyA (OAP)-INE
A141: (p): preliminar
A142: CEREALES | B142: 100022.46 | C142: 101303.15 | D142: 112988.12 | E142: 119218.08 | F142: 127286.91 | G142: 136438.83 | H142: 123767.49 | I142: 126205.79 | J142: 116540.99 | K142: 85695.16 | L142: 163865.54 | M142: 157037.99 | N142: 240310.88
A143: Arroz con cáscara | B143: 393.05 | C143: 395.72 | D143: 456 | E143: 464.77 | F143: 391.38 | G143: 392.11 | H143: 388.12 | I143: 410.26 | J143: 388.01 | K143: 393.98 | L143: 398.6 | M143: 396.46 | N143: 397.54
A144: Avena | B144: 772.06 | C144: 680.06 | D144: 673.87 | E144: 724.04 | F144: 717.98 | G144: 679.54 | H144: 663.57 | I144: 687.81 | J144: 664.07 | K144: 682.61 | L144: 700.55 | M144: 685.51 | N144: 684.58
A145: Cañahua | B145: 0 | C145: 0 | D145: 0 | E145: 0 | F145: 0 | G145: 0 | H145: 0 | I145: 0 | J145: 0 | K145: 0 | L145: 0 | M145: 0 | N145: 3.11
A146: Cebada en grano | B146: 7246.55 | C146: 7230.57 | D146: 6616.55 | E146: 6841.96 | F146: 6732.41 | G146: 6854.85 | H146: 6791.15 | I146: 6765.68 | J146: 7040.39 | K146: 6838.04 | L146: 6776.73 | M146: 6823.15 | N146: 6848.86
A147: Maíz en grano | B147: 80885.46 | C147: 82008.91 | D147: 93211.44 | E147: 95160.93 | F147: 97984.06 | G147: 100915.65 | H147: 100527.35 | I147: 101004.3 | J147: 88800.84 | K147: 62176.52 | L147: 129990.81 | M147: 127045.56 | N147: 209513.26
A148: Quinua | B148: 49.14 | C148: 59.81 | D148: 73.3 | E148: 74.61 | F148: 80 | G148: 77.31 | H148: 79.91 | I148: 79.08 | J148: 79.08 | K148: 77.71 | L148: 79.54 | M148: 78.81 | N148: 78.89
...

Sheet RENDIMIENTO
A2: BOLIVIA: RENDIMIENTO AÑO CIVIL, SEGÚN CULTIVO, 2013 - 2025 (p)
A3: (En kilogramos/hectárea)
A4: DESCRIPCIÓN | B4: 2013 | C4: 2014 | D4: 2015 | E4: 2016 | F4: 2017 | G4: 2018 | H4: 2019 | I4: 2020 | J4: 2021 | K4: 2022 | L4: 2023(p) | M4: 2024(p) | N4: 2025(p)
A5: CEREALES
A6: Arroz con cáscara | B6: 2612.3754 | C6: 2767.3391 | D6: 3188.5708 | E6: 2460.4061 | F6: 2769.5385 | G6: 3189.4709 | H6: 3202.8533 | I6: 2762.1842 | J6: 3077.6204 | K6: 2994.6596 | L6: 3359.8183 | M6: 2069.7787 | N6: 3109.8903
A7: Avena | B7: 1533.1984 | C7: 1887.0088 | D7: 1597.6045 | E7: 1546.9453 | F7: 1465.13 | G7: 1534.4433 | H7: 1565.8279 | I7: 1545.4759 | J7: 1543.9039 | K7: 1530.646 | L7: 1444.9684 | M7: 1521.5043 | N7: 1524.0949
A8: Cañahua | B8: 645.67727 | C8: 657.45677 | D8: 609.94595 | E8: 616.89238 | F8: 662.67743 | G8: 641.16317 | H8: 640.42431 | I8: 635.65291 | J8: 637.00129 | K8: 643.21203 | L8: 583.71803 | M8: 634.03923 | N8: 747.49366
A9: Cebada en grano | B9: 774.64086 | C9: 796.36527 | D9: 929.52364 | E9: 830.95669 | F9: 857.46697 | G9: 872.60341 | H9: 894.45135 | I9: 879.72315 | J9: 890.00669 | K9: 878.97061 | L9: 883.58191 | M9: 879.6266 | N9: 915.56743
A10: Centeno | B10: 583.76071 | C10: 714.06238 | D10: 760.95113 | E10: 771.07537 | F10: 774.87017 | G10: 787.31215 | H10: 817.57683 | I10: 788.23007 | J10: 783.69352 | K10: 790.30707 | L10: 801.72002 | M10: 791.17224 | N10: 791.01388
A11: Maíz en grano | B11: 2061.5108 | C11: 2152.711 | D11: 2598.8031 | E11: 2080.6915 | F11: 2519.2158 | G11: 2588.0968 | H11: 2082.962 | I11: 2495.2937 | J11: 2972.7042 | K11: 2332.4099 | L11: 2830.0899 | M11: 2555.925 | N11: 2875.6253
A12: Quinua | B12: 609.49992 | C12: 596.54208 | D12: 622.59067 | E12: 551.22573 | F12: 603.69301 | G12: 634.0466 | H12: 603.36334 | I12: 605.05193 | J12: 409.37183 | K12: 361.63088 | L12: 327.66814 | M12: 425.7449 | N12: 375.89357
A13: Sorgo en grano | B13: 2190.5333 | C13: 2958.8204 | D13: 2850.3825 | E13: 1844.422 | F13: 2705.5406 | G13: 2324.9907 | H13: 2296.0498 | I13: 2924.3134 | J13: 1261.5152 | K13: 1735.5128 | L13: 2835.3043 | M13: 1441.2249 | N13: 2232.8278
A14: Trigo | B14: 1270.3124 | C14: 1347.1347 | D14: 1583.5927 | E14: 877.73151 | F14: 1508.083 | G14: 1184.672 | H14: 1527.0213 | I14: 1672.6639 | J14: 1498.4742 | K14: 1258.5237 | L14: 1424.1382 | M14: 1101.3525 | N14: 1228.5556
A15: ESTIMULANTES
A16: Cacao | B16: 589.62237 | C16: 585.52167 | D16: 590.58277 | E16: 596.89341 | F16: 533.5525 | G16: 565.32986 | H16: 561.80463 | I16: 568.33973 | J16: 569.26225 | K16: 559.65765 | L16: 561.23711 | M16: 552.84996 | N16: 585.34417
A17: Café | B17: 876.74356 | C17: 896.61983 | D17: 909.75204 | E17: 919.38534 | F17: 898.5356 | G17: 899.35848 | H17: 974.16181 | I17: 915.82457 | J17: 917.88541 | K17: 895.66224 | L17: 924.80023 | M17: 918.25636 | N17: 916.4242
A18: Té | B18: 4200.8397 | C18: 4241.4539 | D18: 4285.9656 | E18: 4288.8097 | F18: 4327.2059 | G18: 4354.5136 | H18: 4388.5504 | I18: 4339.2896 | J18: 4330.1812 | K18: 4347.916 | L18: 4346.194 | M18: 4345.8532 | N18: 4341.9185
A19: FRUTALES
A20: Banano | B20: 14622.354 | C20: 15231.31 | D20: 14855.851 | E20: 15102.189 | F20: 14346.669 | G20: 15179.775 | H20: 14985.743 | I20: 15050.696 | J20: =+[1]PRODUCCIÓN!J18/[1]SUPERFICIE!J18*1000 -> 10326.803 | K20: =+[1]PRODUCCIÓN!K18/[1]SUPERFICIE!K18*1000 -> 10413.38 | L20: =+[1]PRODUCCIÓN!L18/[1]SUPERFICIE!L18*1000 -> 10260.404 | M20: =+[1]PRODUCCIÓN!M18/[1]SUPERFICIE!M18*1000 -> 10370.907 | N20: =+[1]PRODUCCIÓN!N18/[1]SUPERFICIE!N18*1000 -> 10546.505
A21: Ciruelo | B21: 9751.3275 | C21: 9699.3344 | D21: 9950.6998 | E21: 7191.364 | F21: 10072.786 | G21: 10050.097 | H21: 10702.334 | I21: 9781.3777 | J21: =+[1]PRODUCCIÓN!J19/[1]SUPERFICIE!J19*1000 -> 15047.804 | K21: =+[1]PRODUCCIÓN!K19/[1]SUPERFICIE!K19*1000 -> 15339.548 | L21: =+[1]PRODUCCIÓN!L19/[1]SUPERFICIE!L19*1000 -> 15100.727 | M21: =+[1]PRODUCCIÓN!M19/[1]SUPERFICIE!M19*1000 -> 15035.994 | N21: =+[1]PRODUCCIÓN!N19/[1]SUPERFICIE!N19*1000 -> 15166.214
A22: Chirimoya | B22: 5678.0961 | C22: 5713.7669 | D22: 5786.2495 | E22: 5202.6657 | F22: 5143.3144 | G22: 5184.8958 | H22: 5142.4597 | I22: 5266.888 | J22: =+[1]PRODUCCIÓN!J20/[1]SUPERFICIE!J20*1000 -> 9626.6756 | K22: =+[1]PRODUCCIÓN!K20/[1]SUPERFICIE!K20*1000 -> 10048.206 | L22: =+[1]PRODUCCIÓN!L20/[1]SUPERFICIE!L20*1000 -> 9885.6304 | M22: =+[1]PRODUCCIÓN!M20/[1]SUPERFICIE!M20*1000 -> 9984.9078 | N22: =+[1]PRODUCCIÓN!N20/[1]SUPERFICIE!N20*1000 -> 9913.9335
A23: Durazno | B23: 6232.5186 | C23: 6313.9533 | D23: 6416.8319 | E23: 6469.888 | F23: 6572.3952 | G23: 6954.8081 | H23: 7115.7458 | I23: 6918.7165 | J23: =+[1]PRODUCCIÓN!J21/[1]SUPERFICIE!J21*1000 -> 5253.9376 | K23: =+[1]PRODUCCIÓN!K21/[1]SUPERFICIE!K21*1000 -> 5197.7442 | L23: =+[1]PRODUCCIÓN!L21/[1]SUPERFICIE!L21*1000 -> 5237.7859 | M23: =+[1]PRODUCCIÓN!M21/[1]SUPERFICIE!M21*1000 -> 5211.3306 | N23: =+[1]PRODUCCIÓN!N21/[1]SUPERFICIE!N21*1000 -> 3891.3374
A24: Frutilla | B24: 6230.0527 | C24: 6256.1247 | D24: 6085.0146 | E24: 6170.2387 | F24: 6263.4566 | G24: 6211.1692 | H24: 6217.3397 | I24: 6192.5221 | J24: =+[1]PRODUCCIÓN!J22/[1]SUPERFICIE!J22*1000 -> 6690.778 | K24: =+[1]PRODUCCIÓN!K22/[1]SUPERFICIE!K22*1000 -> 6862.7116 | L24: =+[1]PRODUCCIÓN!L22/[1]SUPERFICIE!L22*1000 -> 6808.7401 | M24: =+[1]PRODUCCIÓN!M22/[1]SUPERFICIE!M22*1000 -> 6835.594 | N24: =+[1]PRODUCCIÓN!N22/[1]SUPERFICIE!N22*1000 -> 7129.4256
A25: Guinda | B25: 1224.2954 | C25: 1217.6669 | D25: 1243.4631 | E25: 1268.6036 | F25: 1326.329 | G25: 1294.3113 | H25: 1314.9112 | I25: 1293.2427 | J25: 1292.2964 | K25: 1304.4032 | L25: 1302.106 | M25: 1302.8592 | N25: 1298.7939
A26: Higo | B26: 4929.537 | C26: 4830.3665 | D26: 4790.7088 | E26: 4869.0955 | F26: 5036.7816 | G26: 5138.5788 | H26: 5216.9087 | I26: 5045.2331 | J26: 5016.982 | K26: 5091.4334 | L26: 5053.8913 | M26: 5078.7711 | N26: 5047.9821
A27: Lima | B27: 7229.6031 | C27: 7394.2804 | D27: 7446.9436 | E27: 7288.0151 | F27: 7168.4755 | G27: 7069.1218 | H27: 7043.5029 | I27: 7175.8705 | J27: 7199.0356 | K27: 7130.9805 | L27: 7135.373 | M27: 7138.1916 | N27: 7309.1567
A28: Limón | B28: 7351.0619 | C28: 7477.1587 | D28: 7505.9469 | E28: 7506.647 | F28: 7660.3718 | G28: 7614.0812 | H28: 7673.5048 | I28: 7605.2637 | J28: 7611.2848 | K28: 7632.948 | L28: 7585.0777 | M28: 7622.7602 | N28: 7669.4683
A29: Mandarina | B29: 7500.531 | C29: 7741.7642 | D29: 8047.7637 | E29: 8054.6481 | F29: 8115.4574 | G29: 8792.914 | H29: 8848.1004 | I29: 8868.6001 | J29: 8550.212 | K29: 8635.8848 | L29: 8604.7909 | M29: 8615.4611 | N29: 9709.0972
A30: Manga | B30: 7944.2506 | C30: 8238.552 | D30: 7928.5741 | E30: 8021.3902 | F30: 8406.2391 | G30: 8211.0359 | H30: 8289.5234 | I30: 8191.9446 | J30: 8176.5506 | K30: 8255.0879 | L30: 8203.4913 | M30: 8240.266 | N30: 6697.9051
A31: Manzana | B31: 3563.3151 | C31: 3580.9126 | D31: 3668.6066 | E31: 3727.5659 | F31: 3757.5124 | G31: 3823.2039 | H31: 3894.2522 | I31: 3793.5972 | J31: 3801.7518 | K31: 3814.4848 | L31: 3798.0492 | M31: 3809.2865 | N31: 8501.8007
A32: Membrillo | B32: 5089.8069 | C32: 5116.9374 | D32: 5207.3652 | E32: 4801.1116 | F32: 5037.3134 | G32: 4937.2836 | H32: 4889.5934 | I32: 4972.0171 | J32: 4998.4338 | K32: 4965.6226 | L32: 4982.4494 | M32: 4969.3721 | N32: 5424.2941
A33: Naranja | B33: 7890.9583 | C33: 8119.2628 | D33: 8022.1805 | E33: 8095.4887 | F33: 7875.8776 | G33: 8245.6715 | H33: 8322.458 | I33: 8348.3857 | J33: 8293.7116 | K33: 8217.7898 | L33: 8054.8118 | M33: 8190.7025 | N33: 8674.2555
A34: Palta | B34: 4992.0863 | C34: 5197.1504 | D34: 5265.5119 | E34: 5449.2147 | F34: 5426.9848 | G34: 5409.8115 | H34: 5499.0683 | I34: 5424.6088 | J34: 5412.9093 | K34: 5434.6973 | L34: 5441.3046 | M34: 5433.5008 | N34: 6352.0725
A35: Papaya | B35: 7317.7553 | C35: 7751.6016 | D35: 7896.9635 | E35: 7808.8293 | F35: 7409.8291 | G35: 7713.5545 | H35: 7809.2158 | I35: 7731.1391 | J35: 7728.9741 | K35: 7678.5672 | L35: 7656.844 | M35: 7680.3206 | N35: 8619.6682
A36: Pera | B36: 4748.0656 | C36: 4770.9414 | D36: 4816.1441 | E36: 4879.592 | F36: 5139.0836 | G36: 5320.6113 | H36: 5445.1831 | I36: 5173.6307 | J36: 5129.5945 | K36: 5241.841 | L36: 5236.1517 | M36: 5230.4222 | N36: 5207.1781
... A42: Uva | B42: 6525.1948 | C42: 6703.273 | D42: 6792.7088 | E42: 6930.1888 | F42: 6923.1872 | G42: 6964.8748 | H42: 7077.296 | I42: 6621.365 | J42: 7056.7215 | K42: 6833.7558 | L42: 6967.3505 | M42: 6919.7165 | N42: 11968.884
A43: HORTALIZAS
A44: Ají | B44: 1162.2045 | C44: 1181.4821 | D44: 1180.6007 | E44: 1150.7144 | F44: 1307.59 | G44: 1313.2931 | H44: 1352.2028 | I44: 1275.6243 | J44: 1151.5172 | K44: 1280.2718 | L44: 1280.1512 | M44: 1276.6105 | N44: 1240.3016
A45: Ajo | B45: 4196.4633 | C45: 4288.6992 | D45: 5158.682 | E45: 4241.7363 | F45: 4420.9531 | G45: 4395.0963 | H45: 4217.9187 | I45: 4609.2511 | J45: 4579.8561 | K45: 4619.5567 | L45: 4599.0684 | M45: 6367.2274 | N45: 5740.0768
A46: Arveja | B46: 1369.3549 | C46: 1393.8517 | D46: 1397.1197 | E46: 1336.2051 | F46: 1282.398 | G46: 1292.7639 | H46: 1291.7362 | I46: 1314.7554 | J46: 1322.0642 | K46: 1325.0032 | L46: 1265.8375 | M46: 1252.0058 | N46: 1662.3793
...
