Workbook

Sheet SUPERFICIE
A2: BOLIVIA: SUPERFICIE AÑO CIVIL, SEGÚN CULTIVO, 2013 - 2025 (p)
A3: (En hectáreas)
A4: DESCRIPCIÓN | B4: 2013 | C4: 2014 | D4: 2015 | E4: 2016 | F4: 2017 | G4: 2018 | H4: 2019 | I4: 2020 | J4: 2021 | K4: 2022 | L4: 2023(p) | M4: 2024(p) | N4: 2025(p)
A5: CEREALES | B5: 1256026 | C5: 1372700.3 | D5: 1298394 | E5: 1188147.7 | F5: 1361258.3 | G5: 1400397.8 | H5: 1496189.6 | I5: 1481705.4 | J5: 1474215.4 | K5: 1505209.7 | L5: 1731235.8 | M5: 1731490.2 | N5: 1672615.9
A6: Arroz con cáscara | B6: 182613.58 | C6: 174917.73 | D6: 166784.38 | E6: 164216.81 | F6: 172847.21 | G6: 169649.57 | H6: 187356.69 | I6: 176459.75 | J6: 178790.29 | K6: 203276.18 | L6: 208089.25 | M6: 209225.76 | N6: 191742.33
A7: Avena | B7: 15387.33 | C7: 15365 | D7: 17146.64 | E7: 15953.77 | F7: 14351.15 | G7: 14274.89 | H7: 14178.25 | I7: 15013.9 | J7: 15153.67 | K7: 14598.34 | L7: 14863.91 | M7: 14690.35 | N7: 14916.04
A8: Cañahua | B8: 1105.32 | C8: 1172.29 | D8: 1239.7 | E8: 1254.53 | F8: 1176.5 | G8: 1211.86 | H8: 1238.71 | I8: 1226.66 | J8: 1224.66 | K8: 1215.68 | L8: 1228.23 | M8: 1218.3 | N8: 4524.52
A9: Cebada en grano | B9: 57985.49 | C9: 56254.55 | D9: 55291.73 | E9: 55369.42 | F9: 53040.76 | G9: 53427.02 | H9: 53618.59 | I9: 54060.61 | J9: 54135.2 | K9: 53654.9 | L9: 53737.87 | M9: 53712.2 | N9: 49685.09
A10: Centeno | B10: 395.83 | C10: 383.79 | D10: 418.45 | E10: 349.46 | F10: 346.6 | G10: 348.68 | H10: 350.12 | I10: 360.58 | J10: 362.31 | K10: 353.66 | L10: 355.81 | M10: 354.79 | N10: 357.44
A11: Maíz en grano | B11: 477129.25 | C11: 492822.41 | D11: 407789.29 | E11: 410535 | F11: 437394.79 | G11: 452656.2 | H11: 470142.92 | I11: 415265.19 | J11: 384292.66 | K11: 409538.45 | L11: 487710.61 | M11: 561071.22 | N11: 412652.53
A12: Quinua | B12: 105397.06 | C12: 113505.94 | D12: 121186.06 | E12: 118913.48 | F12: 110639.18 | G12: 111604.81 | H12: 116746.32 | I12: 115972.69 | J12: 121119.18 | K12: 123626.5 | L12: 126286.98 | M12: 118056.33 | N12: 148622.2
A13: Sorgo en grano | B13: 303659.86 | C13: 302699.12 | D13: 286575.15 | E13: 245910.42 | F13: 381719.5 | G13: 393852.15 | H13: 449314.74 | I13: 502909.04 | J13: 507856.81 | K13: 486354.13 | L13: 633759 | M13: 563149.04 | N13: 660395.1
A14: Trigo | B14: 112352.28 | C14: 215579.43 | D14: 241962.59 | E14: 175644.84 | F14: 189742.6 | G14: 203372.62 | H14: 203243.22 | I14: 200437.01 | J14: 211280.63 | K14: 212591.85 | L14: 205204.17 | M14: 210012.22 | N14: 189720.61
A15: ESTIMULANTES | B15: 33086 | C15: 33340.09 | D15: 33592.36 | E15: 33889.78 | F15: 34186.8 | G15: 35211.08 | H15: 36160.91 | I15: 36166.96 | J15: 36246.83 | K15: 36749.49 | L15: 36694.63 | M15: 36372.1 | N15: 37793.14
A16: Cacao | B16: 10125.82 | C16: 10198 | D16: 10270.11 | E16: 10291.67 | F16: 10342 | G16: 10340.83 | H16: 10386.6 | I16: 10336.3 | J16: 10336.15 | K16: 10348.38 | L16: 10639.3 | M16: 10548.92 | N16: 11473.66
... A402: Cebada berza | B402: 8886.34 | C402: 9129.17 | D402: 9972 | E402: 9493.84 | F402: 9573 | G402: 9600 | H402: 9259.09 | I402: 9526.17 | J402: 9570.68 | K402: 9505.79 | L402: 9423.79 | M402: 9500.71 | N402: 15121.81
A403: DESCRIPCIÓN PANDO | B403: 2013 | C403: 2014 | D403: 2015 | E403: 2016 | F403: 2017 | G403: 2018 | H403: 2019 | I403: 2020 | J403: 2021 | K403: 2022 | L403: 2023(p) | M403: 2024(p) | N403: 2025(p)
A404: CEREALES | B404: 4379.18 | C404: 4780.97 | D404: 5060.66 | E404: 5149.78 | F404: 5370.31 | G404: 5391.44 | H404: 5103.72 | I404: 5196.7 | J404: 5213.5 | K404: 5271.33 | L404: 6131.04 | M404: 5826.19 | N404: 5717.22
A405: Arroz con cáscara | B405: 2017.68 | C405: 2104.47 | D405: 2181.71 | E405: 2220.19 | F405: 2381.52 | G405: 2400.76 | H405: 2264.53 | I405: 2285.64 | J405: 2289.13 | K405: 2333.78 | L405: 2711.01 | M405: 2384.16 | N405: 2463.82
A406: Maíz en grano | B406: 2353 | C406: 2662.5 | D406: 2860.37 | E406: 2911.59 | F406: 2978.79 | G406: 2981.68 | H406: 2824.95 | I406: 2897.05 | J406: 2910.4 | K406: 2925.3 | L406: 3402.76 | M406: 3428.92 | N406: 3240.4
A407: Trigo | B407: 8.5 | C407: 14 | D407: 18.58 | E407: 18 | F407: 10 | G407: 9 | H407: 14.24 | I407: 14.01 | J407: 13.97 | K407: 12.25 | L407: 17.27 | M407: 13.11 | N407: 13
A408: ESTIMULANTES | B408: 190.41 | C408: 198.69 | D408: 207 | E408: 207.01 | F408: 207 | G408: 207.01 | H408: 210.57 | I408: 208.19 | J408: 221.08 | K408: 242.05 | L408: 314.19 | M408: 483.32 | N408: 687.6
A409: Cacao | B409: 167.43 | C409: 175.5 | D409: 184 | E409: 184 | F409: 183 | G409: 183.5 | H409: 186.95 | I409: 184.73 | J409: 184.36 | K409: 184.51 | L409: 224.01 | M409: 342 | N409: 504.5
A410: Café | B410: 22.98 | C410: 23.19 | D410: 23 | E410: 23.01 | F410: 24 | G410: 23.51 | H410: 23.62 | I410: 23.46 | J410: 36.72 | K410: 57.54 | L410: 90.18 | M410: 141.32 | N410: 183.1
A411: FRUTALES | B411: 3679.19 | C411: 3627.9 | D411: 3697.77 | E411: 3752.7 | F411: 3795 | G411: 3797.84 | H411: 3837.58 | I411: 3786.35 | J411: 3778.63 | K411: 3814.83 | L411: 4626.97 | M411: 4002.84 | N411: 4006.42
A412: Banano | B412: 121.28 | C412: 124 | D412: 126.71 | E412: 128.65 | F412: 130 | G412: 131 | H412: 133.04 | I412: 130.41 | J412: 129.97 | K412: 130.88 | L412: 158.09 | M412: 134.57 | N412: 136.77
A413: Lima | B413: 5.86 | C413: 6 | D413: 5.95 | E413: 6.08 | F413: 7 | G413: 6.54 | H413: 6.7 | I413: 6.49 | J413: 6.46 | K413: 6.64 | L413: 7.69 | M413: 6.77 | N413: 6.81
A414: Limón | B414: 23.34 | C414: 23 | D414: 22.41 | E414: 22 | F414: 20 | G414: 21 | H414: 20.58 | I414: 21.1 | J414: 21.18 | K414: 20.77 | L414: 27.76 | M414: 21.78 | N414: 22.5
A415: Mandarina | B415: 25.08 | C415: 23 | D415: 25.16 | E415: 25.33 | F415: 26 | G415: 25.66 | H415: 25.82 | I415: 25.63 | J415: 25.6 | K415: 25.74 | L415: 31.12 | M415: 26.48 | N415: 26.92
... A579: Cebada berza | B579: 22.58 | C579: 61.7 | D579: 100.82 | E579: 102 | F579: 108 | G579: 110 | H579: 125.91 | I579: 112.11 | J579: 112.11 | K579: 113.62 | L579: 115.19 | M579: 113.5 | N579: 113.29

Sheet PRODUCCION
A2: BOLIVIA: PRODUCCIÓN AÑO CIVIL, SEGÚN CULTIVO, 2013 - 2025 (p)
A3: (En toneladas métricas )
A4: DESCRIPCIÓN | B4: 2013 | C4: 2014 | D4: 2015 | E4: 2016 | F4: 2017 | G4: 2018 | H4: 2019 | I4: 2020 | J4: 2021 | K4: 2022 | L4: 2023(p) | M4: 2024(p) | N4: 2025(p)
A5: CEREALES | B5: 2402255.9 | C5: 2873556.6 | D5: 2946899.2 | E5: 2003249.1 | F5: 3033851.4 | G5: 3009581.6 | H5: 3063051.5 | I5: 3471545.8 | J5: 2772128.1 | K5: 2790854.8 | L5: 4279887.8 | M5: 3030942 | N5: 3618317
A6: Arroz con cáscara | B6: 477055.23 | C6: 484056.68 | D6: 531803.81 | E6: 404040.04 | F6: 478707 | G6: 541092.36 | H6: 600076 | I6: 487414.34 | J6: 550248.64 | K6: 608742.96 | L6: 699142.08 | M6: 433051.02 | N6: 596297.61
A7: Avena | B7: 23591.83 | C7: 28993.89 | D7: 27393.55 | E7: 24679.61 | F7: 21026.3 | G7: 21904.01 | H7: 22200.7 | I7: 23203.62 | J7: 23395.81 | K7: 22344.89 | L7: 21477.88 | M7: 22351.43 | N7: 22733.46
A8: Cañahua | B8: 713.68 | C8: 770.73 | D8: 756.15 | E8: 773.91 | F8: 779.64 | G8: 777 | H8: 793.3 | I8: 779.73 | J8: 780.11 | K8: 781.94 | L8: 716.94 | M8: 772.45 | N8: 3382.05
A9: Cebada en grano | B9: 44917.93 | C9: 44799.17 | D9: 51394.97 | E9: 46009.59 | F9: 45480.7 | G9: 46620.6 | H9: 47959.22 | I9: 47558.37 | J9: 48180.69 | K9: 47161.08 | L9: 47481.81 | M9: 47246.68 | N9: 45490.05
A10: Centeno | B10: 231.07 | C10: 274.05 | D10: 318.42 | E10: 269.46 | F10: 268.57 | G10: 274.52 | H10: 286.25 | I10: 284.22 | J10: 283.94 | K10: 279.5 | L10: 285.26 | M10: 280.7 | N10: 282.74
A11: Maíz en grano | B11: 983607.12 | C11: 1060904.2 | D11: 1059764.1 | E11: 854196.67 | F11: 1101891.9 | G11: 1171518.1 | H11: 979289.83 | I11: 1036208.6 | J11: 1142388.4 | K11: 955211.53 | L11: 1380264.9 | M11: 1434056 | N11: 1186634.1
A12: Quinua | B12: 64239.5 | C12: 67711.07 | D12: 75449.31 | E12: 65548.17 | F12: 66792.1 | G12: 70762.65 | H12: 70440.45 | I12: 70169.5 | J12: 49582.78 | K12: 44707.16 | L12: 41380.22 | M12: 50261.88 | N12: 55866.13
A13: Sorgo en grano | B13: 665177.03 | C13: 895632.33 | D13: 816848.78 | E13: 453562.6 | F13: 1032757.6 | G13: 915702.59 | H13: 1031649 | I13: 1470663.7 | J13: 640669.11 | K13: 844073.83 | L13: 1796899.6 | M13: 811624.44 | N13: 1474548.6
A14: Trigo | B14: 142722.5 | C14: 290414.52 | D14: 383170.19 | E14: 154169.01 | F14: 286147.59 | G14: 240929.84 | H14: 310356.72 | I14: 335263.76 | J14: 316598.57 | K14: 267551.88 | L14: 292239.1 | M14: 231297.49 | N14: 233082.31
A15: ESTIMULANTES | B15: 27011.07 | C15: 27664.05 | D15: 28261.68 | E15: 28821.58 | F15: 27876 | G15: 29159.41 | H15: 31879.37 | I15: 30486.92 | J15: 30619.66 | K15: 30389.71 | L15: 31016.89 | M15: 30491.52 | N15: 31786.8
A16: Cacao | B16: 5970.41 | C16: 5971.15 | D16: 6065.35 | E16: 6143.03 | F16: 5518 | G16: 5845.98 | H16: 5835.24 | I16: 5874.53 | J16: 5883.98 | K16: 5791.55 | L16: 5971.17 | M16: 5831.97 | N16: 6716.04
... A84: Cebada berza | B84: 65367.53 | C84: 72230.36 | D84: 79029.2 | E84: 75242.05 | F84: 78971.25 | G84: 79716.2 | H84: 76826.49 | I84: 77817.03 | J84: 81913.42 | K84: 79048.93 | L84: 78349.89 | M84: 78898.54 | N84: 91385.45
A85: Fuente: MDPRyA (OAP)-INE
A86: (p): preliminar
A87: CEREALES | B87: 67761.37 | C87: 69711.38 | D87: 80285.19 | E87: 74445.06 | F87: 117728.07 | G87: 120498.76 | H87: 153752.98 | I87: 123405.8 | J87: 166509.53 | K87: 167691.11 | L87: 265315.5 | M87: 171874.79 | N87: 194416.21
A88: Arroz con cáscara | B88: 51471.02 | C88: 54818.35 | D88: 63004.07 | E88: 56430 | F88: 100104.96 | G88: 103013.21 | H88: 137099.06 | I88: 105223.24 | J88: 122910.79 | K88: 124880.69 | L88: 152858 | M88: 100196.48 | N88: 130839.01
A89: Maíz en grano | B89: 14977.92 | C89: 13901.43 | D89: 16422.12 | E89: 16798.73 | F89: 16924.75 | G89: 16694.07 | H89: 15764.99 | I89: 16401.17 | J89: 42128.52 | K89: 41771.57 | L89: 111301.66 | M89: 70385.07 | N89: 62375.22
A90: Sorgo en grano | B90: 1300.73 | C90: 977.7 | D90: 846 | E90: 1203.05 | F90: 678.71 | G90: 776.26 | H90: 869.54 | I90: 888.73 | J90: 1067.98 | K90: 878.86 | L90: 865.18 | M90: 942.48 | N90: 880
A91: Trigo | B91: 11.7 | C91: 13.9 | D91: 13 | E91: 13.28 | F91: 19.65 | G91: 15.22 | H91: 19.39 | I91: 892.66 | J91: 402.24 | K91: 159.99 | L91: 290.66 | M91: 350.76 | N91: 321.98
A92: ESTIMULANTES | B92: 470.43 | C92: 458.23 | D92: 467.33 | E92: 476.93 | F92: 503 | G92: 489.96 | H92: 495.76 | I92: 488.11 | J92: 487.17 | K92: 492.8 | L92: 592.82 | M92: 506.95 | N92: 608.99
A93: Cacao | B93: 388.6 | C93: 371.73 | D93: 359 | E93: 366.93 | F93: 402 | G93: 384.46 | H93: 384.19 | I93: 380.12 | J93: 379.83 | K93: 386.12 | L93: 469.82 | M93: 397.1 | N93: 490.41
A94: Café | B94: 81.83 | C94: 86.5 | D94: 108.33 | E94: 110 | F94: 101 | G94: 105.5 | H94: 111.57 | I94: 107.99 | J94: 107.34 | K94: 106.68 | L94: 123 | M94: 109.85 | N94: 118.58
A95: FRUTALES | B95: 63336.44 | C95: 65958.09 | D95: 68830.71 | E95: 70802.13 | F95: 80985.11 | G95: 81060.04 | H95: 85571.61 | I95: 79096.31 | J95: 78365.01 | K95: 81016.53 | L95: 88732.46 | M95: 83950.13 | N95: 82496.73
A96: Banano | B96: 4974.23 | C96: 5325.36 | D96: 5696.52 | E96: 5833.46 | F96: 6228 | G96: 6235.88 | H96: 6526.75 | I96: 6468.25 | J96: 6430.06 | K96: 6377.78 | L96: 7223.6 | M96: 6478.24 | N96: 6606.93
A97: Ciruelo | B97: 0.4 | C97: 0.36 | D97: 0.32 | E97: 0.45 | F97: 0.6 | G97: 0.52 | H97: 0.57 | I97: 0.51 | J97: 0.5 | K97: 0.54 | L97: 0.52 | M97: 0.53 | N97: 0.53
A98: Chirimoya | B98: 42 | C98: 39 | D98: 41 | E98: 39.39 | F98: 44 | G98: 41.69 | H98: 41.74 | I98: 41.61 | J98: 41.59 | K98: 42.13 | L98: 51.3 | M98: 43.35 | N98: 44
... A139: Yuca | B139: 31785 | C139: 30590 | D139: 36708 | E139: 37727.89 | F139: 39294.05 | G139: 39597.27 | H139: 41644.79 | I139: 39435.43 | J139: 39264.11 | K139: 39877.61 | L139: 43914.53 | M139: 40585.34 | N139: 42857.85
A140: Fuente: MDPRyA (OAP)-INE
A141: (p): preliminar
A142: CEREALES | B142: 100022.46 | C142: 101303.15 | D142: 112988.12 | E142: 119218.08 | F142: 127286.91 | G142: 136438.83 | H142: 123767.49 | I142: 126205.79 | J142: 116540.99 | K142: 85695.16 | L142: 163865.54 | M142: 157037.99 | N142: 240310.88
A143: Arroz con cáscara | B143: 393.05 | C143: 395.72 | D143: 456 | E143: 464.77 | F143: 391.38 | G143: 392.11 | H143: 388.12 | I143: 410.26 | J143: 388.01 | K143: 393.98 | L143: 398.6 | M143: 396.46 | N143: 397.54
A144: Avena | B144: 772.06 | C144: 680.06 | D144: 673.87 | E144: 724.04 | F144: 717.98 | G144: 679.54 | H144: 663.57 | I144: 687.81 | J144: 664.07 | K144: 682.61 | L144: 700.55 | M144: 685.51 | N144: 684.58
A145: Cañahua | B145: 0 | C145: 0 | D145: 0 | E145: 0 | F145: 0 | G145: 0 | H145: 0 | I145: 0 | J145: 0 | K145: 0 | L145: 0 | M145: 0 | N145: 3.11
A146: Cebada en grano | B146: 7246.55 | C146: 7230.57 | D146: 6616.55 | E146: 6841.96 | F146: 6732.41 | G146: 6854.85 | H146: 6791.15 | I146: 6765.68 | J146: 7040.39 | K146: 6838.04 | L146: 6776.73 | M146: 6823.15 | N146: 6848.86
A147: Maíz en grano | B147: 80885.46 | C147: 82008.91 | D147: 93211.44 | E147: 95160.93 | F147: 97984.06 | G147: 100915.65 | H147: 100527.35 | I147: 101004.3 | J147: 88800.84 | K147: 62176.52 | L147: 129990.81 | M147: 127045.56 | N147: 209513.26
A148: Quinua | B148: 49.14 | C148: 59.81 | D148: 73.3 | E148: 74.61 | F148: 80 | G148: 77.31 | H148: 79.91 | I148: 79.08 | J148: 79.08 | K148: 77.71 | L148: 79.54 | M148: 78.81 | N148: 78.89
A149: Sorgo en grano | B149: 48 | C149: 42 | D149: 48.18 | E149: 49 | F149: 54 | G149: 51.5 | H149: 52.48 | I149: 51.5 | J149: 52.44 | K149: 52.38 | L149: 52.84 | M149: 52.34 | N149: 50
A150: Trigo | B150: 10628.2 | C150: 10886.08 | D150: 11908.78 | E150: 15902.77 | F150: 21327.08 | G150: 27467.87 | H150: 15264.91 | I150: 17207.16 | J150: 19516.16 | K150: 15473.92 | L150: 25866.47 | M150: 21956.16 | N150: 22734.64
A151: ESTIMULANTES | B151: 3.78 | C151: 3.87 | D151: 3.89 | E151: 4.19 | F151: 4 | G151: 3.89 | H151: 3.94 | I151: 3.98 | J151: 3.99 | K151: 3.96 | L151: 3.99 | M151: 3.97 | N151: 3.98
A152: Café | B152: 3.78 | C152: 3.87 | D152: 3.89 | E152: 4.19 | F152: 4 | G152: 3.89 | H152: 3.94 | I152: 3.98 | J152: 3.99 | K152: 3.96 | L152: 3.99 | M152: 3.97 | N152: 3.98
A153: FRUTALES | B153: 21856.39 | C153: 22724.36 | D153: 23989 | E153: 24582 | F153: 24494.94 | G153: 26903.82 | H153: 28123.83 | I153: 26016.09 | J153: 24724.86 | K153: 26052.71 | L153: 25126.42 | M153: 25874.92 | N153: 39713.77
... A216: Cebada berza | B216: 1970.04 | C216: 2220.2 | D216: 2135.6 | E216: 2045 | F216: 2396.9 | G216: 2401.2 | H216: 2407.04 | I216: 2300.54 | J216: 2282.81 | K216: 2357.74 | L216: 2347 | M216: 2348.67 | N216: 2328.68
A217: Fuente: MDPRyA (OAP)-INE
A218: (p): preliminar
A219: CEREALES | B219: 103621.15 | C219: 110709.01 | D219: 115632.98 | E219: 116734.66 | F219: 120226.15 | G219: 183814.09 | H219: 152660.5 | I219: 143748.73 | J219: 142409.09 | K219: 132105.73 | L219: 97246.17 | M219: 109305.35 | N219: 78945.14
A220: Arroz con cáscara | B220: 8985.27 | C220: 9289.06 | D220: 10278.28 | E220: 10496 | F220: 9761.8 | G220: 10512.87 | H220: 11509.16 | I220: 11904.96 | J220: 11838.63 | K220: 11105.55 | L220: 10430.46 | M220: 10991.2 | N220: 10638.81
A221: Avena | B221: 8174.99 | C221: 8765.93 | D221: 10810.6 | E221: 10530.7 | F221: 7098.46 | G221: 7904.49 | H221: 8010.73 | I221: 8730.92 | J221: 8841.54 | K221: 8117.23 | L221: 7173.03 | M221: 8056.57 | N221: 8295.56
A222: Cañahua | B222: 69.33 | C222: 86.57 | D222: 103.8 | E222: 106 | F222: 90 | G222: 98 | H222: 105.98 | I222: 101.58 | J222: 100.9 | K222: 99.29 | L222: 35.73 | M222: 90.62 | N222: 93.43
A223: Cebada en grano | B223: 3689.06 | C223: 3443.45 | D223: 3232.64 | E223: 3293 | F223: 2979 | G223: 3136 | H223: 3240.81 | I223: 3187.88 | J223: 3180.15 | K223: 3144.77 | L223: 3068.64 | M223: 3137.47 | N223: 3143.78
A224: Centeno | B224: 0.05 | C224: 0 | D224: 0.06 | E224: 0.81 | F224: 0.67 | G224: 0.75 | H224: 0.6 | I224: 0.59 | J224: 0.59 | K224: 0.64 | L224: 0.61 | M224: 0.63 | N224: 0.61
A225: Maíz en grano | B225: 66394.62 | C225: 70512.61 | D225: 72370.82 | E225: 66554.85 | F225: 77781.78 | G225: 134263.29 | H225: 102354.39 | I225: 93024.54 | J225: 91349.36 | K225: 83878.47 | L225: 55107.84 | M225: 59362.19 | N225: 31741.74
A226: Quinua | B226: 359.78 | C226: 388.94 | D226: 388.81 | E226: 398 | F226: 247 | G226: 241 | H226: 212.96 | I226: 278.82 | J226: 278.82 | K226: 254.03 | L226: 270.56 | M226: 258.59 | N226: 225.54
A227: Sorgo en grano | B227: 15.03 | C227: 34 | D227: 69 | E227: 75 | F227: 55 | G227: 57.5 | H227: 55.96 | I227: 61.24 | J227: 62.13 | K227: 58.37 | L227: 55.44 | M227: 58.34 | N227: 49
A228: Trigo | B228: 15933.02 | C228: 18188.45 | D228: 18378.97 | E228: 25280.3 | F228: 22212.44 | G228: 27600.19 | H228: 27169.91 | I228: 26458.2 | J228: 26756.97 | K228: 25447.38 | L228: 21103.86 | M228: 27349.74 | N228: 24756.67
A229: ESTIMULANTES | B229: 781.46 | C229: 798.57 | D229: 835.95 | E229: 849 | F229: 871 | G229: 875.47 | H229: 896.34 | I229: 870.59 | J229: 866.2 | K229: 875.92 | L229: 870.9 | M229: 874.3 | N229: 1450.4
A230: Cacao | B230: 460.38 | C230: 463.94 | D230: 476.44 | E230: 483 | F230: 491 | G230: 502.47 | H230: 511.36 | I230: 495.89 | J230: 493.08 | K230: 498.76 | L230: 495.91 | M230: 497.84 | N230: 1075.11
... A298: Cebada berza | B298: 370.92 | C298: 1380.8 | D298: 2463 | E298: 3854 | F298: 2661 | G298: 2778.65 | H298: 2745.05 | I298: 2875.58 | J298: 2897.54 | K298: 2791.57 | L298: 2575.98 | M298: 2771.81 | N298: 2769.72
A299: Fuente: MDPRyA (OAP)-INE
A300: (p): preliminar
A301: CEREALES | B301: 59847.77 | C301: 69584.04 | D301: 77655.14 | E301: 72917.41 | F301: 72137.95 | G301: 74033.1 | H301: 76336.48 | I301: 75645.03 | J301: 73512.94 | K301: 71620.78 | L301: 71692.93 | M301: 73633.68 | N301: 73006.84
A302: Arroz con cáscara | B302: 10203.61 | C302: 12355.98 | D302: 14720.22 | E302: 15061.47 | F302: 12550.15 | G302: 13315.39 | H302: 13961.27 | I302: 14575.41 | J302: 14037 | K302: 13687.91 | L302: 14218.86 | M302: 13795.02 | N302: 14006.4
A303: Avena | B303: 10059 | C303: 14898 | D303: 11096 | E303: 9969.12 | F303: 10066.02 | G303: 10113.02 | H303: 10394 | I303: 10341.75 | J303: 10330.82 | K303: 10249.12 | L303: 10327.14 | M303: 10267.83 | N303: 10305.12
A304: Cañahua | B304: 454.49 | C304: 481.37 | D304: 437 | E304: 446.88 | F304: 475 | G304: 461 | H304: 463.12 | I304: 458.57 | J304: 458.08 | K304: 463.15 | L304: 459.62 | M304: 462.07 | N304: 598.14
A305: Cebada en grano | B305: 14630.56 | C305: 14601.29 | D305: 21067.83 | E305: 16259.42 | F305: 17754.79 | G305: 17938.98 | H305: 19069.09 | I305: 18528.41 | J305: 18443.15 | K305: 18347.04 | L305: 18560.52 | M305: 18385.01 | N305: 18452.81
A306: Centeno | B306: 1.95 | C306: 2.1 | D306: 2 | E306: 2.1 | F306: 0.9 | G306: 0.99 | H306: 0.91 | I306: 1.31 | J306: 1.37 | K306: 1.1 | L306: 1.21 | M306: 1.14 | N306: 1.24
A307: Maíz en grano | B307: 16489.41 | C307: 18703.69 | D307: 20446.37 | E307: 20942.7 | F307: 21250.89 | G307: 21143.66 | H307: 19988.55 | I307: 20736.63 | J307: 20815.52 | K307: 20789.93 | L307: 20642.18 | M307: 20778.31 | N307: 21519.04
A308: Quinua | B308: 6825.43 | C308: 7240.1 | D308: 8431.79 | E308: 8300 | F308: 8472.67 | G308: 9349.78 | H308: 9123.18 | I308: 8844.29 | J308: 7440.4 | K308: 5859.74 | L308: 5168.3 | M308: 7768.27 | N308: 6195.26
A309: Sorgo en grano | B309: 52.43 | C309: 52.56 | D309: 53.58 | E309: 52.55 | F309: 60.07 | G309: 61.37 | H309: 63.66 | I309: 59.1 | J309: 58.22 | K309: 60.49 | L309: 60.24 | M309: 60.28 | N309: 57.88
A310: Trigo | B310: 1130.89 | C310: 1248.95 | D310: 1400.35 | E310: 1883.17 | F310: 1507.46 | G310: 1648.91 | H310: 3272.7 | I310: 2099.56 | J310: 1928.38 | K310: 2162.3 | L310: 2254.86 | M310: 2115.75 | N310: 1870.95
A311: ESTIMULANTES | B311: 25040.68 | C311: 25669.59 | D311: 26200.84 | E311: 26721.96 | F311: 25715 | G311: 26992.54 | H311: 29667.85 | I311: 28335.19 | J311: 28448.09 | K311: 28071.34 | L311: 28490.04 | M311: 27918.38 | N311: 28080.82
A312: Cacao | B312: 4979.1 | C312: 4986.59 | D312: 5074.98 | E312: 5136 | F312: 4459 | G312: 4797.5 | H312: 4773.85 | I312: 4836.66 | J312: 4853.38 | K312: 4744.08 | L312: 4823.53 | M312: 4765.15 | N312: 4804.58
... A379: Cebada berza | B379: 44790.93 | C379: 49078 | D379: 52415 | E379: 48078.27 | F379: 50478 | G379: 50549.26 | H379: 47386.73 | I379: 49403.97 | J379: 51726.22 | K379: 49908.84 | L379: 49579.5 | M379: 49872.48 | N379: 50085.5
A380: Fuente: MDPRyA (OAP)-INE
A381: (p): preliminar
A382: CEREALES | B382: 38778.21 | C382: 41001.43 | D382: 47472.37 | E382: 41906.87 | F382: 37346.59 | G382: 38783.87 | H382: 40825.99 | I382: 41329.16 | J382: 28923.96 | K382: 27069.34 | L382: 25948.19 | M382: 25432.78 | N382: 36148.45
A383: Avena | B383: 220.36 | C383: 227.59 | D383: 235.46 | E383: 234.79 | F383: 247 | G383: 247.64 | H383: 253.54 | I383: 241.58 | J383: 307.36 | K383: 259.43 | L383: 252.95 | M383: 257.85 | N383: 273.67
A384: Cañahua | B384: 189.69 | C384: 202.61 | D384: 215.17 | E384: 220.59 | F384: 214 | G384: 217.3 | H384: 223.41 | I384: 218.91 | J384: 220.5 | K384: 218.82 | L384: 220.87 | M384: 219.08 | N384: 2686.69
A385: Cebada en grano | B385: 4573.87 | C385: 4780.33 | D385: 6257 | E385: 5046.4 | F385: 4572 | G385: 4809.2 | H385: 4923.12 | I385: 5056.33 | J385: 5098.75 | K385: 4891.88 | L385: 5007.29 | M385: 4929.02 | N385: 4635.93
A386: Maíz en grano | B386: 88.06 | C386: 94.54 | D386: 105 | E386: 84 | F386: 101.59 | G386: 106.52 | H386: 100.69 | I386: 133.29 | J386: 131.21 | K386: 114.66 | L386: 120.05 | M386: 114.85 | N386: 58.87
A387: Quinua | B387: 33181 | C387: 35142.36 | D387: 40057.48 | E387: 35484.09 | F387: 31537 | G387: 32708.72 | H387: 33971.17 | I387: 34824.03 | J387: 22339.53 | K387: 20703.51 | L387: 19295.23 | M387: 19011.71 | N387: 27699.29
A388: Trigo | B388: 525.23 | C388: 554 | D388: 602.26 | E388: 837 | F388: 675 | G388: 694.49 | H388: 1354.06 | I388: 855.02 | J388: 826.61 | K388: 881.04 | L388: 1051.8 | M388: 900.27 | N388: 794
A389: FRUTALES | B389: 35.06 | C389: 35.08 | D389: 35.1 | E389: 36.61 | F389: 41.4 | G389: 42.2 | H389: 44.11 | I389: 40.68 | J389: 40.43 | K389: 41.61 | L389: 41.59 | M389: 41.56 | N389: 41.18
A390: Manzana | B390: 31.78 | C390: 31.79 | D390: 31.8 | E390: 33 | F390: 35.4 | G390: 36 | H390: 36.92 | I390: 35 | J390: 34.7 | K390: 35.54 | L390: 35.74 | M390: 35.53 | N390: 35.31
A391: Tuna | B391: 3.28 | C391: 3.29 | D391: 3.3 | E391: 3.61 | F391: 6 | G391: 6.2 | H391: 7.19 | I391: 5.68 | J391: 5.73 | K391: 6.07 | L391: 5.85 | M391: 6.03 | N391: 5.87
A392: HORTALIZAS | B392: 17357.11 | C392: 19453.13 | D392: 23573.12 | E392: 24127.75 | F392: 24569.85 | G392: 26700.18 | H392: 27756.62 | I392: 28602.27 | J392: 29979.68 | K392: 34211.35 | L392: 32740.87 | M392: 62592.05 | N392: 76098.79
A393: Ajo | B393: 127 | C393: 135 | D393: 144 | E393: 147 | F393: 147 | G393: 147 | H393: 151.42 | I393: 147.97 | J393: 147.39 | K393: 148.16 | L393: 149.3 | M393: 148.24 | N393: 148.21
... A412: Cebada berza | B412: 17940.71 | C412: 18776.65 | D412: 20812 | E412: 20031.59 | F412: 22145 | G412: 22560 | H412: 22650.72 | I412: 21835.45 | J412: 23639.58 | K412: 22566.15 | L412: 22341.97 | M412: 22475.45 | N412: 34775.98
A413: Fuente: MDPRyA (OAP)-INE
A414: (p): preliminar
A415: CEREALES | B415: 7370.69 | C415: 8112.75 | D415: 8826.85 | E415: 9104.64 | F415: 9401.18 | G415: 9582.92 | H415: 9411.99 | I415: 9289.73 | J415: 9437.42 | K415: 9655.71 | L415: 10711.75 | M415: 10630.21 | N415: 10167.56
A416: Arroz con cáscara | B416: 3096.49 | C416: 3241.75 | D416: 3385.49 | E416: 3491.8 | F416: 3661.21 | G416: 3838.08 | H416: 3954.31 | I416: 3715.09 | J416: 3833.54 | K416: 4028.66 | L416: 4305.88 | M416: 3900.44 | N416: 3972.7
A417: Maíz en grano | B417: 4266.8 | C417: 4859 | D417: 5424.27 | E417: 5597.84 | F417: 5730.97 | G417: 5732.84 | H417: 5432.16 | I417: 5556.96 | J417: 5584.26 | K417: 5610.29 | L417: 6387.42 | M417: 6712.79 | N417: 6178.86
A418: Trigo | B418: 7.4 | C418: 12 | D418: 17.09 | E418: 15 | F418: 9 | G418: 12 | H418: 25.52 | I418: 17.68 | J418: 19.62 | K418: 16.76 | L418: 18.45 | M418: 16.98 | N418: 16
A419: ESTIMULANTES | B419: 113 | C419: 119.3 | D419: 125 | E419: 126 | F419: 129 | G419: 127.5 | H419: 130.66 | I419: 128.13 | J419: 139.63 | K419: 157.61 | L419: 205.38 | M419: 236.05 | N419: 387.13
A420: Cacao | B420: 96 | C420: 102 | D420: 107 | E420: 108 | F420: 110 | G420: 109 | H420: 111.84 | I420: 109.61 | J420: 109.33 | K420: 109.96 | L420: 130.98 | M420: 119.6 | N420: 221.39
A421: Café | B421: 17 | C421: 17.3 | D421: 18 | E421: 18 | F421: 19 | G421: 18.5 | H421: 18.82 | I421: 18.52 | J421: 30.3 | K421: 47.65 | L421: 74.4 | M421: 116.45 | N421: 165.74
...

Sheet RENDIMIENTO
A2: BOLIVIA: RENDIMIENTO AÑO CIVIL, SEGÚN CULTIVO, 2013 - 2025 (p)
A3: (En kilogramos/hectárea)
A4: DESCRIPCIÓN | B4: 2013 | C4: 2014 | D4: 2015 | E4: 2016 | F4: 2017 | G4: 2018 | H4: 2019 | I4: 2020 | J4: 2021 | K4: 2022 | L4: 2023(p) | M4: 2024(p) | N4: 2025(p)
A5: CEREALES
A6: Arroz con cáscara | B6: 2612.3754 | C6: 2767.3391 | D6: 3188.5708 | E6: 2460.4061 | F6: 2769.5385 | G6: 3189.4709 | H6: 3202.8533 | I6: 2762.1842 | J6: 3077.6204 | K6: 2994.6596 | L6: 3359.8183 | M6: 2069.7787 | N6: 3109.8903
A7: Avena | B7: 1533.1984 | C7: 1887.0088 | D7: 1597.6045 | E7: 1546.9453 | F7: 1465.13 | G7: 1534.4433 | H7: 1565.8279 | I7: 1545.4759 | J7: 1543.9039 | K7: 1530.646 | L7: 1444.9684 | M7: 1521.5043 | N7: 1524.0949
A8: Cañahua | B8: 645.67727 | C8: 657.45677 | D8: 609.94595 | E8: 616.89238 | F8: 662.67743 | G8: 641.16317 | H8: 640.42431 | I8: 635.65291 | J8: 637.00129 | K8: 643.21203 | L8: 583.71803 | M8: 634.03923 | N8: 747.49366
A9: Cebada en grano | B9: 774.64086 | C9: 796.36527 | D9: 929.52364 | E9: 830.95669 | F9: 857.46697 | G9: 872.60341 | H9: 894.45135 | I9: 879.72315 | J9: 890.00669 | K9: 878.97061 | L9: 883.58191 | M9: 879.6266 | N9: 915.56743
A10: Centeno | B10: 583.76071 | C10: 714.06238 | D10: 760.95113 | E10: 771.07537 | F10: 774.87017 | G10: 787.31215 | H10: 817.57683 | I10: 788.23007 | J10: 783.69352 | K10: 790.30707 | L10: 801.72002 | M10: 791.17224 | N10: 791.01388
A11: Maíz en grano | B11: 2061.5108 | C11: 2152.711 | D11: 2598.8031 | E11: 2080.6915 | F11: 2519.2158 | G11: 2588.0968 | H11: 2082.962 | I11: 2495.2937 | J11: 2972.7042 | K11: 2332.4099 | L11: 2830.0899 | M11: 2555.925 | N11: 2875.6253
A12: Quinua | B12: 609.49992 | C12: 596.54208 | D12: 622.59067 | E12: 551.22573 | F12: 603.69301 | G12: 634.0466 | H12: 603.36334 | I12: 605.05193 | J12: 409.37183 | K12: 361.63088 | L12: 327.66814 | M12: 425.7449 | N12: 375.89357
A13: Sorgo en grano | B13: 2190.5333 | C13: 2958.8204 | D13: 2850.3825 | E13: 1844.422 | F13: 2705.5406 | G13: 2324.9907 | H13: 2296.0498 | I13: 2924.3134 | J13: 1261.5152 | K13: 1735.5128 | L13: 2835.3043 | M13: 1441.2249 | N13: 2232.8278
A14: Trigo | B14: 1270.3124 | C14: 1347.1347 | D14: 1583.5927 | E14: 877.73151 | F14: 1508.083 | G14: 1184.672 | H14: 1527.0213 | I14: 1672.6639 | J14: 1498.4742 | K14: 1258.5237 | L14: 1424.1382 | M14: 1101.3525 | N14: 1228.5556
A15: ESTIMULANTES
A16: Cacao | B16: 589.62237 | C16: 585.52167 | D16: 590.58277 | E16: 596.89341 | F16: 533.5525 | G16: 565.32986 | H16: 561.80463 | I16: 568.33973 | J16: 569.26225 | K16: 559.65765 | L16: 561.23711 | M16: 552.84996 | N16: 585.34417
A17: Café | B17: 876.74356 | C17: 896.61983 | D17: 909.75204 | E17: 919.38534 | F17: 898.5356 | G17: 899.35848 | H17: 974.16181 | I17: 915.82457 | J17: 917.88541 | K17: 895.66224 | L17: 924.80023 | M17: 918.25636 | N17: 916.4242
A18: Té | B18: 4200.8397 | C18: 4241.4539 | D18: 4285.9656 | E18: 4288.8097 | F18: 4327.2059 | G18: 4354.5136 | H18: 4388.5504 | I18: 4339.2896 | J18: 4330.1812 | K18: 4347.916 | L18: 4346.194 | M18: 4345.8532 | N18: 4341.9185
A19: FRUTALES
A20: Banano | B20: 14622.354 | C20: 15231.31 | D20: 14855.851 | E20: 15102.189 | F20: 14346.669 | G20: 15179.775 | H20: 14985.743 | I20: 15050.696 | J20: =+[1]PRODUCCIÓN!J18/[1]SUPERFICIE!J18*1000 -> 10326.803 | K20: =+[1]PRODUCCIÓN!K18/[1]SUPERFICIE!K18*1000 -> 10413.38 | L20: =+[1]PRODUCCIÓN!L18/[1]SUPERFICIE!L18*1000 -> 10260.404 | M20: =+[1]PRODUCCIÓN!M18/[1]SUPERFICIE!M18*1000 -> 10370.907 | N20: =+[1]PRODUCCIÓN!N18/[1]SUPERFICIE!N18*1000 -> 10546.505
A21: Ciruelo | B21: 9751.3275 | C21: 9699.3344 | D21: 9950.6998 | E21: 7191.364 | F21: 10072.786 | G21: 10050.097 | H21: 10702.334 | I21: 9781.3777 | J21: =+[1]PRODUCCIÓN!J19/[1]SUPERFICIE!J19*1000 -> 15047.804 | K21: =+[1]PRODUCCIÓN!K19/[1]SUPERFICIE!K19*1000 -> 15339.548 | L21: =+[1]PRODUCCIÓN!L19/[1]SUPERFICIE!L19*1000 -> 15100.727 | M21: =+[1]PRODUCCIÓN!M19/[1]SUPERFICIE!M19*1000 -> 15035.994 | N21: =+[1]PRODUCCIÓN!N19/[1]SUPERFICIE!N19*1000 -> 15166.214
A22: Chirimoya | B22: 5678.0961 | C22: 5713.7669 | D22: 5786.2495 | E22: 5202.6657 | F22: 5143.3144 | G22: 5184.8958 | H22: 5142.4597 | I22: 5266.888 | J22: =+[1]PRODUCCIÓN!J20/[1]SUPERFICIE!J20*1000 -> 9626.6756 | K22: =+[1]PRODUCCIÓN!K20/[1]SUPERFICIE!K20*1000 -> 10048.206 | L22: =+[1]PRODUCCIÓN!L20/[1]SUPERFICIE!L20*1000 -> 9885.6304 | M22: =+[1]PRODUCCIÓN!M20/[1]SUPERFICIE!M20*1000 -> 9984.9078 | N22: =+[1]PRODUCCIÓN!N20/[1]SUPERFICIE!N20*1000 -> 9913.9335
A23: Durazno | B23: 6232.5186 | C23: 6313.9533 | D23: 6416.8319 | E23: 6469.888 | F23: 6572.3952 | G23: 6954.8081 | H23: 7115.7458 | I23: 6918.7165 | J23: =+[1]PRODUCCIÓN!J21/[1]SUPERFICIE!J21*1000 -> 5253.9376 | K23: =+[1]PRODUCCIÓN!K21/[1]SUPERFICIE!K21*1000 -> 5197.7442 | L23: =+[1]PRODUCCIÓN!L21/[1]SUPERFICIE!L21*1000 -> 5237.7859 | M23: =+[1]PRODUCCIÓN!M21/[1]SUPERFICIE!M21*1000 -> 5211.3306 | N23: =+[1]PRODUCCIÓN!N21/[1]SUPERFICIE!N21*1000 -> 3891.3374
A24: Frutilla | B24: 6230.0527 | C24: 6256.1247 | D24: 6085.0146 | E24: 6170.2387 | F24: 6263.4566 | G24: 6211.1692 | H24: 6217.3397 | I24: 6192.5221 | J24: =+[1]PRODUCCIÓN!J22/[1]SUPERFICIE!J22*1000 -> 6690.778 | K24: =+[1]PRODUCCIÓN!K22/[1]SUPERFICIE!K22*1000 -> 6862.7116 | L24: =+[1]PRODUCCIÓN!L22/[1]SUPERFICIE!L22*1000 -> 6808.7401 | M24: =+[1]PRODUCCIÓN!M22/[1]SUPERFICIE!M22*1000 -> 6835.594 | N24: =+[1]PRODUCCIÓN!N22/[1]SUPERFICIE!N22*1000 -> 7129.4256
A25: Guinda | B25: 1224.2954 | C25: 1217.6669 | D25: 1243.4631 | E25: 1268.6036 | F25: 1326.329 | G25: 1294.3113 | H25: 1314.9112 | I25: 1293.2427 | J25: 1292.2964 | K25: 1304.4032 | L25: 1302.106 | M25: 1302.8592 | N25: 1298.7939
A26: Higo | B26: 4929.537 | C26: 4830.3665 | D26: 4790.7088 | E26: 4869.0955 | F26: 5036.7816 | G26: 5138.5788 | H26: 5216.9087 | I26: 5045.2331 | J26: 5016.982 | K26: 5091.4334 | L26: 5053.8913 | M26: 5078.7711 | N26: 5047.9821
A27: Lima | B27: 7229.6031 | C27: 7394.2804 | D27: 7446.9436 | E27: 7288.0151 | F27: 7168.4755 | G27: 7069.1218 | H27: 7043.5029 | I27: 7175.8705 | J27: 7199.0356 | K27: 7130.9805 | L27: 7135.373 | M27: 7138.1916 | N27: 7309.1567
A28: Limón | B28: 7351.0619 | C28: 7477.1587 | D28: 7505.9469 | E28: 7506.647 | F28: 7660.3718 | G28: 7614.0812 | H28: 7673.5048 | I28: 7605.2637 | J28: 7611.2848 | K28: 7632.948 | L28: 7585.0777 | M28: 7622.7602 | N28: 7669.4683
A29: Mandarina | B29: 7500.531 | C29: 7741.7642 | D29: 8047.7637 | E29: 8054.6481 | F29: 8115.4574 | G29: 8792.914 | H29: 8848.1004 | I29: 8868.6001 | J29: 8550.212 | K29: 8635.8848 | L29: 8604.7909 | M29: 8615.4611 | N29: 9709.0972
A30: Manga | B30: 7944.2506 | C30: 8238.552 | D30: 7928.5741 | E30: 8021.3902 | F30: 8406.2391 | G30: 8211.0359 | H30: 8289.5234 | I30: 8191.9446 | J30: 8176.5506 | K30: 8255.0879 | L30: 8203.4913 | M30: 8240.266 | N30: 6697.9051
A31: Manzana | B31: 3563.3151 | C31: 3580.9126 | D31: 3668.6066 | E31: 3727.5659 | F31: 3757.5124 | G31: 3823.2039 | H31: 3894.2522 | I31: 3793.5972 | J31: 3801.7518 | K31: 3814.4848 | L31: 3798.0492 | M31: 3809.2865 | N31: 8501.8007
A32: Membrillo | B32: 5089.8069 | C32: 5116.9374 | D32: 5207.3652 | E32: 4801.1116 | F32: 5037.3134 | G32: 4937.2836 | H32: 4889.5934 | I32: 4972.0171 | J32: 4998.4338 | K32: 4965.6226 | L32: 4982.4494 | M32: 4969.3721 | N32: 5424.2941
A33: Naranja | B33: 7890.9583 | C33: 8119.2628 | D33: 8022.1805 | E33: 8095.4887 | F33: 7875.8776 | G33: 8245.6715 | H33: 8322.458 | I33: 8348.3857 | J33: 8293.7116 | K33: 8217.7898 | L33: 8054.8118 | M33: 8190.7025 | N33: 8674.2555
A34: Palta | B34: 4992.0863 | C34: 5197.1504 | D34: 5265.5119 | E34: 5449.2147 | F34: 5426.9848 | G34: 5409.8115 | H34: 5499.0683 | I34: 5424.6088 | J34: 5412.9093 | K34: 5434.6973 | L34: 5441.3046 | M34: 5433.5008 | N34: 6352.0725
A35: Papaya | B35: 7317.7553 | C35: 7751.6016 | D35: 7896.9635 | E35: 7808.8293 | F35: 7409.8291 | G35: 7713.5545 | H35: 7809.2158 | I35: 7731.1391 | J35: 7728.9741 | K35: 7678.5672 | L35: 7656.844 | M35: 7680.3206 | N35: 8619.6682
A36: Pera | B36: 4748.0656 | C36: 4770.9414 | D36: 4816.1441 | E36: 4879.592 | F36: 5139.0836 | G36: 5320.6113 | H36: 5445.1831 | I36: 5173.6307 | J36: 5129.5945 | K36: 5241.841 | L36: 5236.1517 | M36: 5230.4222 | N36: 5207.1781
... A42: Uva | B42: 6525.1948 | C42: 6703.273 | D42: 6792.7088 | E42: 6930.1888 | F42: 6923.1872 | G42: 6964.8748 | H42: 7077.296 | I42: 6621.365 | J42: 7056.7215 | K42: 6833.7558 | L42: 6967.3505 | M42: 6919.7165 | N42: 11968.884
A43: HORTALIZAS
A44: Ají | B44: 1162.2045 | C44: 1181.4821 | D44: 1180.6007 | E44: 1150.7144 | F44: 1307.59 | G44: 1313.2931 | H44: 1352.2028 | I44: 1275.6243 | J44: 1151.5172 | K44: 1280.2718 | L44: 1280.1512 | M44: 1276.6105 | N44: 1240.3016
A45: Ajo | B45: 4196.4633 | C45: 4288.6992 | D45: 5158.682 | E45: 4241.7363 | F45: 4420.9531 | G45: 4395.0963 | H45: 4217.9187 | I45: 4609.2511 | J45: 4579.8561 | K45: 4619.5567 | L45: 4599.0684 | M45: 6367.2274 | N45: 5740.0768
A46: Arveja | B46: 1369.3549 | C46: 1393.8517 | D46: 1397.1197 | E46: 1336.2051 | F46: 1282.398 | G46: 1292.7639 | H46: 1291.7362 | I46: 1314.7554 | J46: 1322.0642 | K46: 1325.0032 | L46: 1265.8375 | M46: 1252.0058 | N46: 1662.3793
A47: Beterraga | B47: 6671.3092 | C47: 7206.2195 | D47: 7862.3176 | E47: 7751.6792 | F47: 7753.0898 | G47: 7761.1785 | H47: 8050.6262 | I47: 7874.0143 | J47: 7841.6807 | K47: 7876.0241 | L47: 7852.3377 | M47: 7866.0089 | N47: 7850.5208
A48: Cebolla | B48: 10375.196 | C48: 10597.456 | D48: 11096.796 | E48: 10563.578 | F48: 11501.04 | G48: 11942.94 | H48: 12648.768 | I48: 14169.04 | J48: 14770.355 | K48: 15248.912 | L48: 14310.467 | M48: 13392.021 | N48: 13689.445
A49: Coliflor | B49: 6012.5714 | C49: 6469.1906 | D49: 5846.7917 | E49: 6249.6453 | F49: 5862.9847 | G49: 5916.9582 | H49: 6909.1851 | I49: 6283.2555 | J49: 6186.3037 | K49: 6456.8108 | L49: 6370.1176 | M49: 6458.4101 | N49: 6430.4578
A50: Frijol/poroto | B50: 1509.0182 | C50: 1523.4112 | D50: 1191.4479 | E50: 1020.0384 | F50: 1337.5423 | G50: 1266.5297 | H50: 1259.3268 | I50: 1264.5689 | J50: 1252.8805 | K50: 1141.0365 | L50: 1251.0666 | M50: 1199.1504 | N50: 1231.1175
A51: Garbanzo | B51: 752.47264 | C51: 832.247 | D51: 717.84885 | E51: 2231.7851 | F51: 2307.8205 | G51: 1773.563 | H51: 1788.5099 | I51: 1772.1589 | J51: 1979.4371 | K51: 1822.7711 | L51: 1578.6542 | M51: 1572.8894 | N51: 1746.7343
A52: Haba verde | B52: 1546.1143 | C52: 1505.1833 | D52: 1422.3828 | E52: 1404.1554 | F52: 1432.9855 | G52: 1496.372 | H52: 1497.4424 | I52: 1497.772 | J52: 1530.2962 | K52: 1495.8681 | L52: 1367.6785 | M52: 1470.8853 | N52: 1609.257
A53: Lechuga | B53: 6647.7507 | C53: 7021.7815 | D53: 6706.1556 | E53: 6478.2341 | F53: 6389.687 | G53: 6516.1357 | H53: 6506.5309 | I53: 6526.0417 | J53: 6536.8106 | K53: 6543.7535 | L53: 6512.1467 | M53: 6525.5565 | N53: 6820.6175
A54: Locoto | B54: 4049.3596 | C54: 4096.5876 | D54: 5275.1946 | E54: 5321.2488 | F54: 5356.2909 | G54: 5349.4623 | H54: 5726.394 | I54: 5459.4304 | J54: 5414.8212 | K54: 5461.9786 | L54: 5446.4584 | M54: 5455.3142 | N54: 5416.4434
A55: Maíz choclo | B55: 2719.3992 | C55: 2447.3116 | D55: 3149.1685 | E55: 2639.597 | F55: 2679.6209 | G55: 2684.1187 | H55: 2754.626 | I55: 2784.6241 | J55: 2801.5085 | K55: 2499.9881 | L55: 2769.3 | M55: 2674.2854 | N55: 2848.4877
... A62: Zapallo | B62: 7338.3915 | C62: 7525.9823 | D62: 7984.1574 | E62: 7399.3086 | F62: 7589.2982 | G62: 7637.4321 | H62: 7683.8532 | I62: 7669.9944 | J62: 7682.0991 | K62: 7706.8755 | L62: 7668.7511 | M62: 7662.4277 | N62: 7505.8943
A63: OLEAGINOSAS E INDUSTRIALES
A64: Achiote (urucú) | B64: 526.46921 | C64: 529.3529 | D64: 535.93632 | E64: 541.49572 | F64: 543.89686 | G64: 545.33753 | H64: 549.42946 | I64: 544.21377 | J64: 540.20895 | K64: 544.60957 | L64: 543.18117 | M64: 544.24165 | N64: 630.84462
A65: Algodón | B65: 405.13267 | C65: 421.05263 | D65: 515.95235 | E65: 482.1018 | F65: 498.70713 | G65: 479.85484 | H65: 483.23888 | I65: 498.0969 | J65: 517.57463 | K65: 677.12937 | L65: 645.82531 | M65: 542.96575 | N65: 643.95164
A66: Caña de Azúcar | B66: 53606.522 | C66: 51080.639 | D66: 49450.398 | E66: 50508.827 | F66: 55589.708 | G66: 55913.194 | H66: 54735.598 | I66: 56059.938 | J66: 54754.879 | K66: 53424.084 | L66: 58466.558 | M66: 56599.834 | N66: 59528.245
A67: Chía | B67: 374.44393 | C67: 466.14557 | D67: 493.26177 | E67: 472.01274 | F67: 472.00817 | G67: 479.53844 | H67: 497.98811 | I67: 509.98689 | J67: 535.54931 | K67: 498.91276 | L67: 460.20023 | M67: 584.30016 | N67: 489.07435
A68: Girasol | B68: 1023.0981 | C68: 1021.6037 | D68: 694.98556 | E68: 675.27894 | F68: 1114.2787 | G68: 1248.6818 | H68: 1182.0161 | I68: 1389.6193 | J68: 1320.0161 | K68: 1049.4852 | L68: 1394.5284 | M68: 1115.2728 | N68: 1319.2927
A69: Maní | B69: 1215.6717 | C69: 1300.6384 | D69: 1325.431 | E69: 1352.2823 | F69: 1330.253 | G69: 1362.6981 | H69: 1478.8229 | I69: 1389.2739 | J69: 1386.3182 | K69: 1386.1141 | L69: 1375.4912 | M69: 1388.2037 | N69: 1704.4719
A70: Sésamo | B70: 519.01663 | C70: 546.59469 | D70: 562.53239 | E70: 568.9966 | F70: 578.94818 | G70: 628.25669 | H70: 651.38949 | I70: 509.98775 | J70: 535.81738 | K70: 490.40084 | L70: 556.54783 | M70: 560.97497 | N70: 531.45845
A71: Soya | B71: 2068.5832 | C71: 2261.0077 | D71: 2348.6351 | E71: 2371.6664 | F71: 2143.45 | G71: 2161.2771 | H71: 2131.868 | I71: 2073.1029 | J71: 2503.1726 | K71: 2265.5261 | L71: 2104.9196 | M71: 1732.8638 | N71: 2217.7633
A72: Tabaco | B72: 932.35098 | C72: 958.06105 | D72: 991.12684 | E72: 1018.4454 | F72: 991.78883 | G72: 1005.4092 | H72: 1026.1053 | I72: 1010.3874 | J72: 1009.5475 | K72: 1008.7388 | L72: 1002.8216 | M72: 1006.9744 | N72: 999.73283
A73: TUBÉRCULOS Y RAICES
A74: Camote | B74: 4115.169 | C74: 4158.5558 | D74: 4258.5432 | E74: 4064.7516 | F74: 4199.4033 | G74: 4186.0222 | H74: 4193.6168 | I74: 4183.6987 | J74: 4285.6072 | K74: 4206.8142 | L74: 4415.6912 | M74: 4233.552 | N74: 4207.1588
A75: Hualuza | B75: 2844.2908 | C75: 2817.1612 | D75: 2975.5515 | E75: 2976.5094 | F75: 2970.1222 | G75: 3023.09 | H75: 3059.9443 | I75: 3011.2505 | J75: 2858.8293 | K75: 2970.2429 | L75: 2955.175 | M75: 2979.2087 | N75: 2955.3314
A76: Oca | B76: 3137.6648 | C76: 3248.836 | D76: 3159.0993 | E76: 3023.8058 | F76: 2830.5058 | G76: 2934.7643 | H76: 2924.1623 | I76: 2965.6763 | J76: 2943.6058 | K76: 2919.9226 | L76: 2932.9659 | M76: 2926.5368 | N76: 3056.2252
A77: Papa | B77: 5813.6155 | C77: 6036.4278 | D77: 6003.4321 | E77: 5814.203 | F77: 6213.6194 | G77: 6520.6423 | H77: 7168.7149 | I77: 7409.9486 | J77: 6569.9657 | K77: 6163.764 | L77: 5664.895 | M77: 6694.8871 | N77: 8504.7575
A78: Papaliza | B78: 3318.4421 | C78: 3314.5569 | D78: 3664.5801 | E78: 3340.0504 | F78: 3630.8137 | G78: 3703.9963 | H78: 3778.3669 | I78: 3651.5481 | J78: 3626.0219 | K78: 3679.7905 | L78: 3671.1487 | M78: 3675.2677 | N78: 3682.9439
A79: Racacha | B79: 4245.7075 | C79: 5336.8488 | D79: 5914.4124 | E79: 4318.2957 | F79: 6151.7988 | G79: 6249.9146 | H79: 6821.6207 | I79: 6048.414 | J79: 5941.093 | K79: 6251.5098 | L79: 6204.956 | M79: 6456.6865 | N79: 6177.2278
A80: Yuca | B80: 7395.4955 | C80: 7500.8687 | D80: 7872.8881 | E80: 6724.3961 | F80: 6873.5347 | G80: 6867.863 | H80: 6757.8056 | I80: 6989.7879 | J80: 7328.0406 | K80: 7189.8044 | L80: 7489.3061 | M80: 7052.5429 | N80: 8432.4844
A81: FORRAJES
A82: Alfalfa | B82: 5906.6932 | C82: 5896.7795 | D82: 5875.9035 | E82: 5502.8539 | F82: 5680.2517 | G82: 5815.0703 | H82: 5764.2291 | I82: 5859.1709 | J82: 5880.2662 | K82: 5869.156 | L82: 5819.4189 | M82: 5990.5348 | N82: 5913.9376
A83: Avena berza | B83: 2441.5343 | C83: 2465.1494 | D83: 2427.6872 | E83: 2447.2022 | F83: 2458.0489 | G83: 2464.1216 | H83: 2523.8259 | I83: 2478.1178 | J83: 2474.9428 | K83: 2438.5853 | L83: 2465.9663 | M83: 2470.5566 | N83: 2398.5871
A84: Cebada berza | B84: 1601.9659 | C84: 1575.2424 | D84: 1609.9554 | E84: 1663.848 | F84: 1723.2923 | G84: 1737.3159 | H84: 1744.4897 | I84: 1703.4073 | J84: 1782.298 | K84: 1738.5462 | L84: 1725.0253 | M84: 1733.4475 | N84: 1780.8679
A85: Fuente: MDPRyA (OAP)-INE
A86: (p): preliminar
A87: CEREALES
A88: Arroz con cáscara | B88: 2653.843 | C88: 2733.4443 | D88: 2930.4587 | E88: 2606.2258 | F88: 3339.2808 | G88: 3266.7346 | H88: 3342.7112 | I88: 2864.5745 | J88: 3160.5704 | K88: 2781.5209 | L88: 3506.3115 | M88: 2279.5552 | N88: 3387.409
A89: Maíz en grano | B89: 1740.4044 | C89: 1679.5252 | D89: 1875.5276 | E89: 1896.0855 | F89: 1892.5899 | G89: 1861.0568 | H89: 1754.4864 | I89: 1839.0487 | J89: 3825.8379 | K89: 3490.6303 | L89: 3529.939 | M89: 2307.6414 | N89: 2962.636
A90: Sorgo en grano | B90: 1617.3205 | C90: 1700.3478 | D90: 1090.895 | E90: 1815.13 | F90: 1046.8911 | G90: 1137.2273 | H90: 1142.8834 | I90: 1243.6574 | J90: 1532.8683 | K90: 1240.0491 | L90: 1189.8724 | M90: 1325.1223 | N90: 1248.227
A91: Trigo | B91: 689.85849 | C91: 604.34783 | D91: 565.21739 | E91: 570.2018 | F91: 782.24522 | G91: 644.91525 | H91: 604.6149 | I91: 1952.4924 | J91: 1567.3927 | K91: 1500 | L91: 1356.0698 | M91: 1661.5822 | N91: 1533.0921
A92: ESTIMULANTES
A93: Cacao | B93: 398.07417 | C93: 400.78706 | D93: 408.41866 | E93: 412.48946 | F93: 450.16797 | G93: 431.36199 | H93: 438.79847 | I93: 430.00486 | J93: 428.99739 | K93: 435.88007 | L93: 412.83984 | M93: 426.61309 | N93: 426.89264
A94: Café | B94: 434.8034 | C94: 458.88594 | D94: 575 | E94: 583.36869 | F94: 537.23404 | G94: 560.33567 | H94: 592.51195 | I94: 573.46928 | J94: 570.01752 | K94: 566.72333 | L94: 522.44829 | M94: 563.9117 | N94: 576.44256
A95: FRUTALES
A96: Banano | B96: 6525.5487 | C96: 6611.2477 | D96: 6709.9981 | E96: 6783.093 | F96: 7200 | G96: 7230.0058 | H96: 7380.3628 | I96: 7456.0241 | J96: 7436.0024 | K96: 7340.738 | L96: 6964.2513 | M96: 7264.1482 | N96: 7292.4977
A97: Ciruelo | B97: 1428.5714 | C97: 1285.7143 | D97: 1142.8571 | E97: 1607.1429 | F97: 1200 | G97: 1333.3333 | H97: 1325.5814 | I97: 1342.1053 | J97: 1315.7895 | K97: =+#REF!/#REF!*1000 -> #REF! | L97: =+#REF!/#REF!*1000 -> #REF! | M97: =+#REF!/#REF!*1000 -> #REF! | N97: =+#REF!/#REF!*1000 -> #REF!
A98: Chirimoya | B98: 4352.3316 | C98: 4105.2632 | D98: 4648.5261 | E98: 4319.0789 | F98: 4400 | G98: 4360.8787 | H98: 4366.1088 | I98: 4412.5133 | J98: 4419.7662 | K98: =+#REF!/#REF!*1000 -> #REF! | L98: =+#REF!/#REF!*1000 -> #REF! | M98: =+#REF!/#REF!*1000 -> #REF! | N98: =+#REF!/#REF!*1000 -> #REF!
A99: Lima | B99: 6351.0417 | C99: 6758.5455 | D99: 7368.0769 | E99: 7245.283 | F99: 7500 | G99: 7376.1468 | H99: 7601.7798 | I99: 7448.2375 | J99: 7421.8924 | K99: 7470.6098 | L99: 7056.3877 | M99: 7397.2992 | N99: 7356.819
A100: Limón | B100: 5487.6342 | C100: 5770 | D100: 5820.2247 | E100: 5886.3636 | F100: 6022.2222 | G100: 5955.0562 | H100: 6055.4817 | I100: 5966.0069 | J100: 5950.9464 | K100: 5990.4018 | L100: 5803.9486 | M100: 5956.206 | N100: 5880.2854
A101: Mandarina | B101: 8536.0224 | C101: 8571.7003 | D101: 8873.9995 | E101: 8875.7062 | F101: 9027.7778 | G101: 8952.381 | H101: 9039.5154 | I101: 8968.1579 | J101: 8956.0409 | K101: 8988.7145 | L101: 8783.8627 | M101: 8951.9189 | N101: 8930.6177
A102: Manga | B102: 9734.9708 | C102: 9725.3988 | D102: 9824.9854 | E102: 9893.4426 | F102: 10081.967 | G102: 9987.7049 | H102: 10034.476 | I102: 9976.5431 | J102: 9967.4073 | K102: 10009.589 | L102: 9877.1029 | M102: 9988.0445 | N102: 9963.224
A103: Naranja | B103: 7038.8628 | C103: 7285.8861 | D103: 7296.9967 | E103: 7295.5022 | F103: 7529.4118 | G103: 7412.309 | H103: 7490.6447 | I103: 7419.3339 | J103: 7495.9896 | K103: 7469.5144 | L103: 7309.4444 | M103: 7438.367 | N103: 7298.009
A104: Palta | B104: 7013.8021 | C104: 7143.9416 | D104: 7014 | E104: 7238.0883 | F104: 7300 | G104: 7268.8048 | H104: 7321.5157 | I104: 7244.3647 | J104: 7231.0122 | K104: 7273.1707 | L104: 7129.3561 | M104: 7245.2464 | N104: 7224.9116
A105: Papaya | B105: 5883.0672 | C105: 6155.3425 | D105: 6447.9794 | E105: 6499.7885 | F105: 6600 | G105: 6549.1059 | H105: 6689.7495 | I105: 6579.4886 | J105: 6561.1983 | K105: 6596.2857 | L105: 6317.1983 | M105: 6545.2296 | N105: 9380.9947
A106: Piña | B106: 6624.1562 | C106: 6774.9585 | D106: 6813.0166 | E106: 6879.9483 | F106: 7030 | G106: 6954.6089 | H106: 7022.9582 | I106: 6953.8836 | J106: 6941.9546 | K106: 6980.7494 | L106: 6820.8864 | M106: 6950.1898 | N106: 9685.7679
A107: Plátano | B107: 6395.7464 | C107: 6459.6828 | D107: 6575.7369 | E107: 6648.3357 | F107: 7786.1842 | G107: 7810 | H107: 8140.4517 | I107: 7516.8629 | J107: 7449.0006 | K107: 7741.9298 | L107: 6893.3542 | M107: 7607.6417 | N107: 7463.5804
A108: Pomelo/toronja | B108: 8404.4592 | C108: 8435.3271 | D108: 8597.8261 | E108: 8593.6315 | F108: 8601.1905 | G108: 8597.1748 | H108: 8641.1782 | I108: 8612.1911 | J108: 8606.7501 | K108: 8611.8363 | L108: 8535.8109 | M108: 8598.5618 | N108: 8593.5444
A109: Sandia | B109: 10938.106 | C109: 10540.193 | D109: 13103.135 | E109: 10873.864 | F109: 10950.744 | G109: 10825.866 | H109: 10512.354 | I109: 11142.879 | J109: 11375.566 | K109: 10697.517 | L109: 11811.718 | M109: 10830.509 | N109: 11175.251
A110: HORTALIZAS
A111: Ají | B111: 1007.1477 | C111: 1070.4915 | D111: 1075.0762 | E111: 1022.176 | F111: 966.54275 | G111: 1016.9903 | H111: 1018.6898 | I111: 1021.5094 | J111: 1013.1989 | K111: 1030.303 | L111: 1062.8427 | M111: 1032.2997 | N111: 1854.9416
A112: Ajo | B112: 1086.9565 | C112: 1285.7143 | D112: 1105.2632 | E112: 1051.0204 | F112: 1090.2128 | G112: 1063.5945 | H112: 1119.5929 | I112: 1097.0696 | J112: 1060.5214 | K112: 1087.8438 | L112: 1096.3391 | M112: 1148.6486 | N112: 1099.2647
...
