Workbook

Sheet SUPERFICIE
A2: CHUQUISACA: SUPERFICIE AÑO CIVIL, SEGÚN CULTIVO, 2013 - 2025 (p)
A3: (En hectáreas)
A4: DESCRIPCIÓN | B4: 2013 | C4: 2014 | D4: 2015 | E4: 2016 | F4: 2017 | G4: 2018 | H4: 2019 | I4: 2020 | J4: 2021 | K4: 2022 | L4: 2023(p) | M4: 2024(p) | N4: 2025(p)
A5: CEREALES | B5: 79624.74 | C5: 82747.08 | D5: 85840.95 | E5: 88384.11 | F5: 84098.16 | G5: 88970.37 | H5: 95569.99 | I5: 89734.5 | J5: 95473.35 | K5: 99792.16 | L5: 102168.05 | M5: 98227.19 | N5: 95175.28
A6: Arroz con cáscara | B6: 217.53 | C6: 222 | D6: 228 | E6: 231 | F6: 232 | G6: 233.4 | H6: 215.21 | I6: 225.8 | J6: 227.57 | K6: 226.8 | L6: 229.08 | M6: 227.19 | N6: 228.14
A7: Avena | B7: 771.43 | C7: 702.01 | D7: 632.2 | E7: 671.02 | F7: 710.24 | G7: 691 | H7: 677.75 | I7: 676.66 | J7: 676.48 | K7: 686.41 | L7: 693.43 | M7: 686.42 | N7: 684.64
A8: Cañahua | B8: 0 | C8: 0 | D8: 0 | E8: 0 | F8: 0 | G8: 0 | H8: 0 | I8: 0 | J8: 0 | K8: 0 | L8: 0 | M8: 0 | N8: 5
A9: Cebada en grano | B9: 8419.72 | C9: 7955 | D9: 7480.7 | E9: 7658.3 | F9: 7568.8 | G9: 7693.35 | H9: 7561.74 | I9: 7587.04 | J9: 7592.08 | K9: 7598.79 | L9: 7577.34 | M9: 7594.19 | N9: 7589.88
A10: Maíz en grano | B10: 53781.02 | C10: 56366 | D10: 58930.47 | E10: 60326.53 | F10: 56395 | G10: 56079.5 | H10: 71196.74 | I10: 62350.2 | J10: 66830.28 | K10: 68530.71 | L10: 70181.96 | M10: 67956.63 | N10: 64470.9
A11: Quinua | B11: 146.54 | C11: 183 | D11: 219.45 | E11: 221.63 | F11: 200 | G11: 210.81 | H11: 245.56 | I11: 223.83 | J11: 220.21 | K11: 220.08 | L11: 211.56 | M11: 218.91 | N11: 218.91
A12: Sorgo en grano | B12: 49.03 | C12: 54 | D12: 58.05 | E12: 58 | F12: 60 | G12: 59 | H12: 61.28 | I12: 59.6 | J12: 59.32 | K12: 59.84 | L12: 59.77 | M12: 59.78 | N12: 57
A13: Trigo | B13: 16239.47 | C13: 17265.07 | D13: 18292.08 | E13: 19217.63 | F13: 18932.12 | G13: 24003.31 | H13: 15611.71 | I13: 18611.37 | J13: 19867.41 | K13: 22469.53 | L13: 23214.91 | M13: 21484.07 | N13: 21920.81
A14: ESTIMULANTES | B14: 5.35 | C14: 5.38 | D14: 5.37 | E14: 5.49 | F14: 5.5 | G14: 5.49 | H14: 5.6 | I14: 5.51 | J14: 5.51 | K14: 5.52 | L14: 5.5 | M14: 5.52 | N14: 5.51
A15: Café | B15: 5.35 | C15: 5.38 | D15: 5.37 | E15: 5.49 | F15: 5.5 | G15: 5.49 | H15: 5.6 | I15: 5.51 | J15: 5.51 | K15: 5.52 | L15: 5.5 | M15: 5.52 | N15: 5.51
A16: FRUTALES | B16: 3968.86 | C16: 4056.54 | D16: 4145.93 | E16: 4198.42 | F16: 4191.55 | G16: 4278.15 | H16: 4348.46 | I16: 4251.84 | J16: 4235.74 | K16: 4261.15 | L16: 4220.08 | M16: 4252.97 | N16: 6107.82
... A79: Cebada berza | B79: 1446.4 | C79: 1588.12 | D79: 1630.15 | E79: 1547.2 | F79: 1599.9 | G79: 1601.91 | H79: 1536.81 | I79: 1575.44 | J79: 1581.93 | K79: 1569.1 | L79: 1588.34 | M79: 1579.23 | N79: 1579.63
A80: Fuente: MDPRyA (OAP)-INE
A81: (p): preliminar

Sheet PRODUCCION
A2: CHUQUISACA: PRODUCCIÓN AÑO CIVIL, SEGÚN CULTIVO, 2013 - 2025 (p)
A3: (En toneladas métricas )
A4: DESCRIPCIÓN | B4: 2013 | C4: 2014 | D4: 2015 | E4: 2016 | F4: 2017 | G4: 2018 | H4: 2019 | I4: 2020 | J4: 2021 | K4: 2022 | L4: 2023(p) | M4: 2024(p) | N4: 2025(p)
A5: CEREALES | B5: 100022.46 | C5: 101303.15 | D5: 112988.12 | E5: 119218.08 | F5: 127286.91 | G5: 136438.83 | H5: 123767.49 | I5: 126205.79 | J5: 116540.99 | K5: 85695.16 | L5: 163865.54 | M5: 157037.99 | N5: 240310.88
A6: Arroz con cáscara | B6: 393.05 | C6: 395.72 | D6: 456 | E6: 464.77 | F6: 391.38 | G6: 392.11 | H6: 388.12 | I6: 410.26 | J6: 388.01 | K6: 393.98 | L6: 398.6 | M6: 396.46 | N6: 397.54
A7: Avena | B7: 772.06 | C7: 680.06 | D7: 673.87 | E7: 724.04 | F7: 717.98 | G7: 679.54 | H7: 663.57 | I7: 687.81 | J7: 664.07 | K7: 682.61 | L7: 700.55 | M7: 685.51 | N7: 684.58
A8: Cañahua | B8: 0 | C8: 0 | D8: 0 | E8: 0 | F8: 0 | G8: 0 | H8: 0 | I8: 0 | J8: 0 | K8: 0 | L8: 0 | M8: 0 | N8: 3.11
A9: Cebada en grano | B9: 7246.55 | C9: 7230.57 | D9: 6616.55 | E9: 6841.96 | F9: 6732.41 | G9: 6854.85 | H9: 6791.15 | I9: 6765.68 | J9: 7040.39 | K9: 6838.04 | L9: 6776.73 | M9: 6823.15 | N9: 6848.86
A10: Maíz en grano | B10: 80885.46 | C10: 82008.91 | D10: 93211.44 | E10: 95160.93 | F10: 97984.06 | G10: 100915.65 | H10: 100527.35 | I10: 101004.3 | J10: 88800.84 | K10: 62176.52 | L10: 129990.81 | M10: 127045.56 | N10: 209513.26
A11: Quinua | B11: 49.14 | C11: 59.81 | D11: 73.3 | E11: 74.61 | F11: 80 | G11: 77.31 | H11: 79.91 | I11: 79.08 | J11: 79.08 | K11: 77.71 | L11: 79.54 | M11: 78.81 | N11: 78.89
A12: Sorgo en grano | B12: 48 | C12: 42 | D12: 48.18 | E12: 49 | F12: 54 | G12: 51.5 | H12: 52.48 | I12: 51.5 | J12: 52.44 | K12: 52.38 | L12: 52.84 | M12: 52.34 | N12: 50
A13: Trigo | B13: 10628.2 | C13: 10886.08 | D13: 11908.78 | E13: 15902.77 | F13: 21327.08 | G13: 27467.87 | H13: 15264.91 | I13: 17207.16 | J13: 19516.16 | K13: 15473.92 | L13: 25866.47 | M13: 21956.16 | N13: 22734.64
A14: ESTIMULANTES | B14: 3.78 | C14: 3.87 | D14: 3.89 | E14: 4.19 | F14: 4 | G14: 3.89 | H14: 3.94 | I14: 3.98 | J14: 3.99 | K14: 3.96 | L14: 3.99 | M14: 3.97 | N14: 3.98
A15: Café | B15: 3.78 | C15: 3.87 | D15: 3.89 | E15: 4.19 | F15: 4 | G15: 3.89 | H15: 3.94 | I15: 3.98 | J15: 3.99 | K15: 3.96 | L15: 3.99 | M15: 3.97 | N15: 3.98
A16: FRUTALES | B16: 21856.39 | C16: 22724.36 | D16: 23989 | E16: 24582 | F16: 24494.94 | G16: 26903.82 | H16: 28123.83 | I16: 26016.09 | J16: 24724.86 | K16: 26052.71 | L16: 25126.42 | M16: 25874.92 | N16: 39713.77
... A79: Cebada berza | B79: 1970.04 | C79: 2220.2 | D79: 2135.6 | E79: 2045 | F79: 2396.9 | G79: 2401.2 | H79: 2407.04 | I79: 2300.54 | J79: 2282.81 | K79: 2357.74 | L79: 2347 | M79: 2348.67 | N79: 2328.68
A80: Fuente: MDPRyA (OAP)-INE
A81: (p): preliminar

Sheet RENDIMIENTO
A2: CHUQUISACA: RENDIMIENTO AÑO CIVIL, SEGÚN CULTIVO, 2013 - 2025 (p)
A3: (En kilogramos/hectárea)
A4: DESCRIPCIÓN | B4: 2013 | C4: 2014 | D4: 2015 | E4: 2016 | F4: 2017 | G4: 2018 | H4: 2019 | I4: 2020 | J4: 2021 | K4: 2022 | L4: 2023(p) | M4: 2024(p) | N4: 2025(p)
A5: CEREALES
A6: Arroz con cáscara | B6: 1806.8772 | C6: 1782.5225 | D6: 2000 | E6: 2011.9913 | F6: 1686.9828 | G6: 1679.9914 | H6: 1803.4478 | I6: 1816.9176 | J6: 1705.0138 | K6: 1737.1252 | L6: 1740.0035 | M6: =+[1]PRODUCCIÓN!M6/[1]SUPERFICIE!M6*1000 -> 998.67428 | N6: =+[1]PRODUCCIÓN!N6/[1]SUPERFICIE!N6*1000 -> 999.91236
A7: Avena | B7: 1000.8167 | C7: 968.73264 | D7: 1065.9127 | E7: 1079.014 | F7: 1010.8977 | G7: 983.41534 | H7: 979.07783 | I7: 1016.478 | J7: 981.65504 | K7: 994.46395 | L7: 1010.2678 | M7: =+[1]PRODUCCIÓN!M7/[1]SUPERFICIE!M7*1000 -> #DIV/0! | N7: =+[1]PRODUCCIÓN!N7/[1]SUPERFICIE!N7*1000 -> 622
A8: Cañahua | B8: 0 | C8: 0 | D8: 0 | E8: 0 | F8: 0 | G8: 0 | H8: 0 | I8: 0 | J8: 0 | K8: 0 | L8: 0 | N8: =+[1]PRODUCCIÓN!N8/[1]SUPERFICIE!N8*1000 -> 902.36736
A9: Cebada en grano | B9: 860.66401 | C9: 908.934 | D9: 884.48274 | E9: 893.40454 | F9: 889.49503 | G9: 891.00977 | H9: 898.09356 | I9: 891.74171 | J9: 927.33348 | K9: 899.88538 | L9: 894.34155 | M9: =+[1]PRODUCCIÓN!M9/[1]SUPERFICIE!M9*1000 -> 1869.5094 | N9: =+[1]PRODUCCIÓN!N9/[1]SUPERFICIE!N9*1000 -> 3249.7338
A10: Maíz en grano | B10: 1503.9778 | C10: 1454.9358 | D10: 1581.7189 | E10: 1577.4309 | F10: 1737.4601 | G10: 1799.5105 | H10: 1411.9656 | I10: 1619.9515 | J10: 1328.7516 | K10: 907.27967 | L10: 1852.1969 | M10: =+[1]PRODUCCIÓN!M10/[1]SUPERFICIE!M10*1000 -> 360.01096 | N10: =+[1]PRODUCCIÓN!N10/[1]SUPERFICIE!N10*1000 -> 360.37641
A11: Quinua | B11: 335.33506 | C11: 326.8306 | D11: 334.01686 | E11: 336.64215 | F11: 400 | G11: 366.72833 | H11: 325.41945 | I11: 353.30385 | J11: 359.11176 | K11: 353.09887 | L11: 375.96899 | M11: =+[1]PRODUCCIÓN!M11/[1]SUPERFICIE!M11*1000 -> 875.54366 | N11: =+[1]PRODUCCIÓN!N11/[1]SUPERFICIE!N11*1000 -> 877.19298
A12: Sorgo en grano | B12: 978.99245 | C12: 777.77778 | D12: 829.97416 | E12: 844.82759 | F12: 900 | G12: 872.88136 | H12: 856.39687 | I12: 864.09396 | J12: 884.01888 | K12: 875.33422 | L12: 884.05555 | M12: =+[1]PRODUCCIÓN!M12/[1]SUPERFICIE!M12*1000 -> 1021.974 | N12: =+[1]PRODUCCIÓN!N12/[1]SUPERFICIE!N12*1000 -> 1037.1259
A13: Trigo | B13: 654.46717 | C13: 630.52626 | D13: 651.03476 | E13: 827.50943 | F13: 1126.5025 | G13: 1144.3368 | H13: 977.78591 | I13: 924.55096 | J13: 982.32029 | K13: 688.66238 | L13: 1114.218 | M13: =+[1]PRODUCCIÓN!M13/[1]SUPERFICIE!M13*1000 -> 719.2029 | N13: =+[1]PRODUCCIÓN!N13/[1]SUPERFICIE!N13*1000 -> 722.32305
A14: ESTIMULANTES
A15: Café | B15: 706.54206 | C15: 719.33086 | D15: 724.39479 | E15: 763.20583 | F15: 727.27273 | G15: 708.56102 | H15: 703.57143 | I15: 722.32305 | J15: 724.13793 | K15: 717.3913 | L15: 725.45455 | M15: =+[1]PRODUCCIÓN!M15/[1]SUPERFICIE!M15*1000 -> 6083.9649 | N15: =+[1]PRODUCCIÓN!N15/[1]SUPERFICIE!N15*1000 -> 6502.1186
A16: FRUTALES
A17: Banano | B17: 15937.186 | C17: 15248.139 | D17: 15374.57 | E17: 15483.871 | F17: 15400 | G17: 15460.656 | H17: 15406.855 | I17: 15413.738 | J17: 15736.246 | K17: 15481.6 | L17: 15444.444 | M17: =+[1]PRODUCCIÓN!M17/[1]SUPERFICIE!M17*1000 -> 5821.7588 | N17: =+[1]PRODUCCIÓN!N17/[1]SUPERFICIE!N17*1000 -> 5748.946
A18: Ciruelo | B18: 5534.8736 | C18: 5428 | D18: 5512.0495 | E18: 5553.1359 | F18: 6000 | G18: 5779.1649 | H18: 5837.2692 | I18: 5752.4838 | J18: 5739.027 | K18: 5821.7971 | L18: =+[1]PRODUCCIÓN!L18/[1]SUPERFICIE!L18*1000 -> 6408.5074 | M18: =+[1]PRODUCCIÓN!M18/[1]SUPERFICIE!M18*1000 -> 6306.2972 | N18: =+[1]PRODUCCIÓN!N18/[1]SUPERFICIE!N18*1000 -> 2820.164
A19: Chirimoya | B19: 4993.1328 | C19: 5152.5714 | D19: 5677.8947 | E19: 5842.1053 | F19: 6650 | G19: 6256.4103 | H19: 6570.8364 | I19: 6261.7722 | J19: 5775.2866 | K19: 6306.9182 | L19: 6408.5074 | M19: =+[1]PRODUCCIÓN!M19/[1]SUPERFICIE!M19*1000 -> 5578.7084 | N19: =+[1]PRODUCCIÓN!N19/[1]SUPERFICIE!N19*1000 -> 5325.7151
A20: Durazno | B20: 4927.6917 | C20: 5041.1227 | D20: 5271.002 | E20: 5330.8176 | F20: 5300 | G20: 5856.4834 | H20: 6066.1445 | I20: 5648.4384 | J20: 5187.9916 | K20: 5612.8859 | L20: 5428.3976 | M20: =+[1]PRODUCCIÓN!M20/[1]SUPERFICIE!M20*1000 -> 4021.5385 | N20: =+[1]PRODUCCIÓN!N20/[1]SUPERFICIE!N20*1000 -> 4005.4274
A21: Frutilla | B21: 3870.9677 | C21: 3812.5 | D21: 3903.2258 | E21: 3976.1431 | F21: 3890 | G21: 4065.6205 | H21: 4104.7745 | I21: 4004.7244 | J21: 4069.9187 | K21: 4031.77 | L21: 3959.3496 | M21: =+[1]PRODUCCIÓN!M21/[1]SUPERFICIE!M21*1000 -> 1185.3871 | N21: =+[1]PRODUCCIÓN!N21/[1]SUPERFICIE!N21*1000 -> 1181.7187
A22: Guinda | B22: 1103.716 | C22: 1090.1361 | D22: 1114.2029 | E22: 1144.8197 | F22: 1210.5263 | G22: 1178.7281 | H22: 1196.1749 | I22: 1173.5766 | J22: 1169.9889 | K22: 1185.9324 | L22: 1192.5566 | M22: =+[1]PRODUCCIÓN!M22/[1]SUPERFICIE!M22*1000 -> 2015.753 | N22: =+[1]PRODUCCIÓN!N22/[1]SUPERFICIE!N22*1000 -> 1967.7011
A23: Higo | B23: 1497.5369 | C23: 1477.0365 | D23: 1508.0429 | E23: 1533.3333 | F23: 1900 | G23: 2150 | H23: 2325.0851 | I23: 1956.7155 | J23: 1895.7467 | K23: 2047.4843 | L23: 1922.373 | M23: =+[1]PRODUCCIÓN!M23/[1]SUPERFICIE!M23*1000 -> 6661.4786 | N23: =+[1]PRODUCCIÓN!N23/[1]SUPERFICIE!N23*1000 -> 6648.4375
A24: Lima | B24: 6220.2674 | C24: 6127.6923 | D24: 6320.065 | E24: 6583.3333 | F24: 7000 | G24: 6488.5496 | H24: 6556.9326 | I24: 6581.4319 | J24: 6589.5817 | K24: 6642.8571 | L24: 6794.5525 | M24: =+[1]PRODUCCIÓN!M24/[1]SUPERFICIE!M24*1000 -> 8208.8861 | N24: =+[1]PRODUCCIÓN!N24/[1]SUPERFICIE!N24*1000 -> 8522.7876
A25: Limón | B25: 7923.2872 | C25: 7824.2331 | D25: 8071.9783 | E25: 8142.8571 | F25: 8200 | G25: 8215.0156 | H25: 8275.4544 | I25: 8196.9687 | J25: 8184.1908 | K25: 8214.4064 | L25: 8196.9972 | M25: =+[1]PRODUCCIÓN!M25/[1]SUPERFICIE!M25*1000 -> 5628.6146 | N25: =+[1]PRODUCCIÓN!N25/[1]SUPERFICIE!N25*1000 -> 6225.7191
A26: Mandarina | B26: 4502.508 | C26: 4738 | D26: 4793.965 | E26: 4857.1429 | F26: 5500 | G26: 5800 | H26: 6106.3951 | I26: 5526.9845 | J26: 5430.7116 | K26: 5675.2087 | L26: 5503.8435 | M26: =+[1]PRODUCCIÓN!M26/[1]SUPERFICIE!M26*1000 -> 7879.7086 | N26: =+[1]PRODUCCIÓN!N26/[1]SUPERFICIE!N26*1000 -> 7858.985
A27: Manga | B27: 6994.2303 | C27: 6908.0435 | D27: 7616.9946 | E27: 7612.2449 | F27: 8000 | G27: 7802.0833 | H27: 7980.2122 | I27: 7832.5052 | J27: 7807.5965 | K27: 7884.1996 | L27: 7912.2586 | M27: =+[1]PRODUCCIÓN!M27/[1]SUPERFICIE!M27*1000 -> 3260.4136 | N27: =+[1]PRODUCCIÓN!N27/[1]SUPERFICIE!N27*1000 -> 7301.4597
A28: Manzana | B28: 2992.3438 | C28: 2951.9366 | D28: 3099.0058 | E28: 3132.6531 | F28: 3209.989 | G28: 3300 | H28: 3365.9529 | I28: 3245.6301 | J28: 3225.9747 | K28: 3270.602 | L28: 3225.9525 | M28: =+[1]PRODUCCIÓN!M28/[1]SUPERFICIE!M28*1000 -> 4985.6322 | N28: =+[1]PRODUCCIÓN!N28/[1]SUPERFICIE!N28*1000 -> 5019.3611
A29: Membrillo | B29: 5482.1429 | C29: 5757.4578 | D29: 5821.34 | E29: 4858.2996 | F29: 5000 | G29: 4932.9502 | H29: 4807.2626 | I29: 5039.4477 | J29: 5077.6892 | K29: 4970.3916 | L29: 5022.7273 | M29: =+[1]PRODUCCIÓN!M29/[1]SUPERFICIE!M29*1000 -> 13345.425 | N29: =+[1]PRODUCCIÓN!N29/[1]SUPERFICIE!N29*1000 -> 11587.359
A30: Naranja | B30: 12601.955 | C30: 12903.125 | D30: 13187.008 | E30: 13355.932 | F30: 12150 | G30: 13906.977 | H30: 14216.791 | I30: 13505.497 | J30: 13386.897 | K30: 13435.672 | L30: 12814.977 | M30: =+[1]PRODUCCIÓN!M30/[1]SUPERFICIE!M30*1000 -> 6049.1159 | N30: =+[1]PRODUCCIÓN!N30/[1]SUPERFICIE!N30*1000 -> 7751.8216
... A39: Uva | B39: 4737.1534 | C39: 4891.1246 | D39: 4837.003 | E39: 4894.4282 | F39: 5199.9881 | G39: 5448.8778 | H39: 5607.5007 | I39: 5265.9232 | J39: 5209.0472 | K39: 5357.438 | L39: 5228.9293 | M39: =+[1]PRODUCCIÓN!M39/[1]SUPERFICIE!M39*1000 -> 3060.103 | N39: =+[1]PRODUCCIÓN!N39/[1]SUPERFICIE!N39*1000 -> 3202.0466
A40: HORTALIZAS
A41: Ají | B41: 1135.5829 | C41: 1158.7302 | D41: 1156.0606 | E41: 1128.0821 | F41: 1301.8393 | G41: 1309.4463 | H41: 1348.9042 | I41: 1265.5385 | J41: 1118.7445 | K41: 1269.0132 | L41: 1268.9106 | M41: =+[1]PRODUCCIÓN!M41/[1]SUPERFICIE!M41*1000 -> 4954.3465 | N41: =+[1]PRODUCCIÓN!N41/[1]SUPERFICIE!N41*1000 -> 4817.0119
A42: Ajo | B42: 4416.5605 | C42: 4950.4615 | D42: 3756.3452 | E42: 4263.7363 | F42: 4915.7895 | G42: 4971.0322 | H42: 4956.3927 | I42: 4705.9293 | J42: 4641.607 | K42: 5029.8846 | L42: 4788.4693 | M42: =+[1]PRODUCCIÓN!M42/[1]SUPERFICIE!M42*1000 -> 1261.1553 | N42: =+[1]PRODUCCIÓN!N42/[1]SUPERFICIE!N42*1000 -> 1304.6358
A43: Arveja | B43: 1236.4552 | C43: 1269.1342 | D43: 1238.8341 | E43: 1214.5783 | F43: 1286.7027 | G43: 1297.9917 | H43: 1312.7376 | I43: 1276.874 | J43: 1272.8498 | K43: 1238.6922 | L43: 1281.4399 | M43: =+[1]PRODUCCIÓN!M43/[1]SUPERFICIE!M43*1000 -> 4797.4975 | N43: =+[1]PRODUCCIÓN!N43/[1]SUPERFICIE!N43*1000 -> 4792.2641
A44: Beterraga | B44: 5435.0329 | C44: 4800.7018 | D44: 4742.7128 | E44: 4789.0536 | F44: 4833.3333 | G44: 4850.1608 | H44: 4735.7513 | I44: 4781.4703 | J44: 4789.0065 | K44: 4796.732 | L44: 4807.3702 | M44: =+[1]PRODUCCIÓN!M44/[1]SUPERFICIE!M44*1000 -> 15205.463 | N44: =+[1]PRODUCCIÓN!N44/[1]SUPERFICIE!N44*1000 -> 15402.855
A45: Cebolla | B45: 12011.24 | C45: 12466.31 | D45: 12133.308 | E45: 11877.574 | F45: 13275.967 | G45: 13245.118 | H45: 11292.651 | I45: 12179.36 | J45: 11854.212 | K45: 12224.748 | L45: 12608.917 | M45: =+[1]PRODUCCIÓN!M45/[1]SUPERFICIE!M45*1000 -> 4985.5372 | N45: =+[1]PRODUCCIÓN!N45/[1]SUPERFICIE!N45*1000 -> 5201.4445
A46: Coliflor | B46: 4503.7037 | C46: 4601.3072 | D46: 4506.7265 | E46: 4719.9282 | F46: 5086.6667 | G46: 4955.3878 | H46: 5038.4418 | I46: 4902.2556 | J46: 4883.6705 | K46: 4994.6164 | L46: 4981.1321 | M46: =+[1]PRODUCCIÓN!M46/[1]SUPERFICIE!M46*1000 -> 868.40867 | N46: =+[1]PRODUCCIÓN!N46/[1]SUPERFICIE!N46*1000 -> 843.21579
A47: Frijol/poroto | B47: 912.49399 | C47: 889.25256 | D47: 906.5127 | E47: 883.81822 | F47: 860.1095 | G47: 884.24733 | H47: 879.08704 | I47: 882.08366 | J47: 833.27219 | K47: 868.66385 | L47: 866.25694 | M47: =+[1]PRODUCCIÓN!M47/[1]SUPERFICIE!M47*1000 -> 901.22214 | N47: =+[1]PRODUCCIÓN!N47/[1]SUPERFICIE!N47*1000 -> 896.45954
A48: Garbanzo | B48: 836.42375 | C48: 858.58736 | D48: 842 | E48: 856.06061 | F48: 900 | G48: 910 | H48: 926.26891 | I48: 893.42535 | J48: 887.97256 | K48: 903.67927 | L48: 896.2237 | M48: =+[1]PRODUCCIÓN!M48/[1]SUPERFICIE!M48*1000 -> 1513.4328 | N48: =+[1]PRODUCCIÓN!N48/[1]SUPERFICIE!N48*1000 -> 1584.3453
A49: Haba verde | B49: 960.87905 | C49: 945.6847 | D49: 938.81557 | E49: 995.77709 | F49: 1105.6974 | G49: 1506.4165 | H49: 1648.3771 | I49: 1580.0981 | J49: 1899.1423 | K49: 1549.6379 | L49: 1377.2982 | M49: =+[1]PRODUCCIÓN!M49/[1]SUPERFICIE!M49*1000 -> 7533.5232 | N49: =+[1]PRODUCCIÓN!N49/[1]SUPERFICIE!N49*1000 -> 7516.0153
...
