Workbook

Sheet SUPERFICIE
A2: TARIJA: SUPERFICIE AÑO CIVIL, SEGÚN CULTIVO, 2013 - 2025 (p)
A3: (En hectáreas)
A4: DESCRIPCIÓN | B4: 2013 | C4: 2014 | D4: 2015 | E4: 2016 | F4: 2017 | G4: 2018 | H4: 2019 | I4: 2020 | J4: 2021 | K4: 2022 | L4: 2023(p) | M4: 2024(p) | N4: 2025(p)
A5: CEREALES | B5: 70312.26 | C5: 67899.9 | D5: 65838.66 | E5: 63980.23 | F5: 63463.74 | G5: 64943.71 | H5: 69747.57 | I5: 71328.46 | J5: 59177.64 | K5: 60223.02 | L5: 104665.62 | M5: 211472.71 | N5: 97017.03
A6: Arroz con cáscara | B6: 315.05 | C6: 327.5 | D6: 394 | E6: 385 | F6: 333 | G6: 325 | H6: 299.06 | I6: 339.19 | J6: 345.87 | K6: 328.42 | L6: 320.72 | M6: 329.05 | N6: 324.89
A7: Avena | B7: 557.49 | C7: 576.75 | D7: 677 | E7: 583.67 | F7: 535.5 | G7: 529.24 | H7: 525.2 | I7: 562.83 | J7: 568.95 | K7: 549.88 | L7: 535.26 | M7: 551.2 | N7: 584.39
A8: Cebada en grano | B8: 574 | C8: 475 | D8: 374.91 | E8: 380 | F8: 370 | G8: 365 | H8: 335.11 | I8: 360.02 | J8: 364.17 | K8: 358.86 | L8: 355.45 | M8: 358.9 | N8: 359.48
A9: Centeno | B9: 7.14 | C9: 7.15 | D9: 7.15 | E9: 7.16 | F9: 6 | G9: 6.58 | H9: 6.5 | I9: 6.65 | J9: 6.67 | K9: 6.48 | L9: 6.57 | M9: 6.51 | N9: 6.58
A10: Maíz en grano | B10: 61833 | C10: 60397.5 | D10: 58994.13 | E10: 58008.87 | F10: 57124 | G10: 58814.81 | H10: 55708.81 | I10: 57392.45 | J10: 45223.69 | K10: 47853.15 | L10: 91930.4 | M10: 199631.04 | N10: 83651.89
A11: Quinua | B11: 20 | C11: 17 | D11: 14 | E11: 15 | F11: 13 | G11: 14 | H11: 14.12 | I11: 14.04 | J11: 14.03 | K11: 13.84 | L11: 14.04 | M11: 13.88 | N11: 13.96
A12: Sorgo en grano | B12: 5382 | C12: 4605 | D12: 3836 | E12: 3394 | F12: 3613.5 | G12: 3505.06 | H12: 3229.51 | I12: 3467.9 | J12: 3507.17 | K12: 3461.74 | L12: 3419.42 | M12: 3459.62 | N12: 1873.07
A13: Trigo | B13: 1623.58 | C13: 1494 | D13: 1541.47 | E13: 1206.53 | F13: 1468.74 | G13: 1384.02 | H13: 9629.26 | I13: 9185.38 | J13: 9147.09 | K13: 7650.65 | L13: 8083.76 | M13: 7122.51 | N13: 10202.77
A14: ESTIMULANTES | B14: 14 | C14: 14.02 | D14: 14.15 | E14: 14.11 | F14: 14.3 | G14: 14 | H14: 14 | I14: 14.09 | J14: 14.11 | K14: 14.1 | L14: 14.02 | M14: 14.09 | N14: 14.08
A15: Café | B15: 14 | C15: 14.02 | D15: 14.15 | E15: 14.11 | F15: 14.3 | G15: 14 | H15: 14 | I15: 14.09 | J15: 14.11 | K15: 14.1 | L15: 14.02 | M15: 14.09 | N15: 14.08
A16: FRUTALES | B16: 5591.87 | C16: 5734.78 | D16: 5858.47 | E16: 5937.44 | F16: 6074.11 | G16: 6067.79 | H16: 6170.64 | I16: 6209.47 | J16: 6819.35 | K16: 6876.75 | L16: 6187.87 | M16: 6331.1 | N16: 7250.73
... A76: Cebada berza | B76: 22.58 | C76: 61.7 | D76: 100.82 | E76: 102 | F76: 108 | G76: 110 | H76: 125.91 | I76: 112.11 | J76: 112.11 | K76: 113.62 | L76: 115.19 | M76: 113.5 | N76: 113.29
A77: Fuente: MDPRyA (OAP)-INE
A78: (p): preliminar

Sheet PRODUCCION
A2: TARIJA: PRODUCCIÓN AÑO CIVIL, SEGÚN CULTIVO, 2013 - 2025 (p)
A3: (En toneladas métricas )
A4: DESCRIPCIÓN | B4: 2013 | C4: 2014 | D4: 2015 | E4: 2016 | F4: 2017 | G4: 2018 | H4: 2019 | I4: 2020 | J4: 2021 | K4: 2022 | L4: 2023(p) | M4: 2024(p) | N4: 2025(p)
A5: CEREALES | B5: 150173.18 | C5: 155508.32 | D5: 156861.73 | E5: 142969.41 | F5: 161155.34 | G5: 208686.45 | H5: 178488.37 | I5: 180543.86 | J5: 190589.22 | K5: 161450.71 | L5: 319754.99 | M5: 679520.39 | N5: 391517.28
A6: Arroz con cáscara | B6: 628.71 | C6: 646.12 | D6: 788 | E6: 606 | F6: 729.5 | G6: 712.62 | H6: 729.9 | I6: 725.79 | J6: 722.88 | K6: 724.14 | L6: 720.15 | M6: 722.83 | N6: 721.59
A7: Avena | B7: 1434.49 | C7: 1529.64 | D7: 1801.34 | E7: 534.14 | F7: 483 | G7: 510.77 | H7: 457.75 | I7: 671.69 | J7: 710.01 | K7: 565.68 | L7: 530.95 | M7: 603.2 | N7: 662.53
A8: Cebada en grano | B8: 846.9 | C8: 719.12 | D8: 560.49 | E8: 574 | F8: 518 | G8: 546 | H8: 503.32 | I8: 534.35 | J8: 539.34 | K8: 528.2 | L8: 531.36 | M8: 529.73 | N8: 532.61
A9: Centeno | B9: 4.27 | C9: 4.31 | D9: 4.36 | E9: 4.55 | F9: 3 | G9: 3.78 | H9: 3.76 | I9: 3.85 | J9: 3.88 | K9: 3.65 | L9: 3.79 | M9: 3.69 | N9: 3.77
A10: Maíz en grano | B10: 139729 | C10: 145957.75 | D10: 148009.8 | E10: 134955.14 | F10: 153666.53 | G10: 200499.55 | H10: 155143.96 | I10: 157861.86 | J10: 170266.69 | K10: 148902.84 | L10: 305503.28 | M10: 664036.33 | N10: 372677.49
A11: Quinua | B11: 8.19 | C11: 6.87 | D11: 6.16 | E11: 6.9 | F11: 6 | G11: 6.45 | H11: 5.82 | I11: 6.19 | J11: 6.19 | K11: 6.14 | L11: 6.21 | M11: 6.15 | N11: 6.19
A12: Sorgo en grano | B12: 6348.15 | C12: 5514.07 | D12: 4635.83 | E12: 4982 | F12: 4722 | G12: 4729.9 | H12: 4477.92 | I12: 4684.53 | J12: 4716.34 | K12: 4660.64 | L12: 4648.33 | M12: 4662.85 | N12: 6101.49
A13: Trigo | B13: 1173.47 | C13: 1130.44 | D13: 1055.75 | E13: 1306.68 | F13: 1027.31 | G13: 1677.38 | H13: 17165.94 | I13: 16055.6 | J13: 13623.89 | K13: 6059.42 | L13: 7810.92 | M13: 8955.61 | N13: 10811.61
A14: ESTIMULANTES | B14: 9.39 | C14: 9.6 | D14: 10 | E14: 10.4 | F14: 11 | G14: 12.5 | H14: 13.25 | I14: 11.74 | J14: 11.47 | K14: 11.99 | L14: 12.55 | M14: 12.02 | N14: 11.96
A15: Café | B15: 9.39 | C15: 9.6 | D15: 10 | E15: 10.4 | F15: 11 | G15: 12.5 | H15: 13.25 | I15: 11.74 | J15: 11.47 | K15: 11.99 | L15: 12.55 | M15: 12.02 | N15: 11.96
A16: FRUTALES | B16: 36751.26 | C16: 38713.57 | D16: 40887.27 | E16: 41904.5 | F16: 43349.3 | G16: 44316.65 | H16: 46036.89 | I16: 43742.67 | J16: 49440.88 | K16: 49299.46 | L16: 45287.42 | M16: 45794.62 | N16: 74867.86
... A76: Cebada berza | B76: 43.08 | C76: 118.86 | D76: 187.23 | E76: 192 | F76: 205 | G76: 198.5 | H76: 223.78 | I76: 205.47 | J76: 206.5 | K76: 207.85 | L76: 207.58 | M76: 207.31 | N76: 206.95
A77: Fuente: MDPRyA (OAP)-INE
A78: (p): preliminar

Sheet RENDIMIENTO
A2: TARIJA: RENDIMIENTO AÑO CIVIL, SEGÚN CULTIVO, 2013 - 2025 (p)
A3: (En kilogramos/hectárea)
A4: DESCRIPCIÓN | B4: 2013 | C4: 2014 | D4: 2015 | E4: 2016 | F4: 2017 | G4: 2018 | H4: 2019 | I4: 2020 | J4: 2021 | K4: 2022 | L4: 2023(p) | M4: 2024(p) | N4: 2025(p)
A5: CEREALES
A6: Arroz con cáscara | B6: 1995.588 | C6: 1972.8855 | D6: 2000 | E6: 1574.026 | F6: 2190.6907 | G6: 2192.6769 | H6: 2440.6474 | I6: 2139.7742 | J6: 2090.0338 | K6: 2204.9205 | L6: 2245.4166 | M6: =+[1]PRODUCCIÓN!M6/[1]SUPERFICIE!M6*1000 -> 1094.3396 | N6: =+[1]PRODUCCIÓN!N6/[1]SUPERFICIE!N6*1000 -> 1133.7121
A7: Avena | B7: 2573.1224 | C7: 2652.1717 | D7: 2660.7681 | E7: 915.1404 | F7: 901.96078 | G7: 965.1009 | H7: 871.57273 | I7: 1193.4154 | J7: 1247.9304 | K7: 1028.7335 | L7: 991.94784 | M7: =+[1]PRODUCCIÓN!M7/[1]SUPERFICIE!M7*1000 -> 1475.9822 | N7: =+[1]PRODUCCIÓN!N7/[1]SUPERFICIE!N7*1000 -> 1481.6123
A8: Cebada en grano | B8: 1475.4355 | C8: 1513.9368 | D8: 1494.9988 | E8: 1510.5263 | F8: 1400 | G8: 1495.8904 | H8: 1501.9546 | I8: 1484.2231 | J8: 1481.0116 | K8: 1471.8832 | L8: 1494.8938 | M8: =+[1]PRODUCCIÓN!M8/[1]SUPERFICIE!M8*1000 -> 566.82028 | N8: =+[1]PRODUCCIÓN!N8/[1]SUPERFICIE!N8*1000 -> 572.94833
A9: Centeno | B9: 598.03922 | C9: 602.7972 | D9: 609.79021 | E9: 635.47486 | F9: 500 | G9: 574.46809 | H9: 578.46154 | I9: 578.94737 | J9: 581.70915 | K9: 563.2716 | L9: 576.86454 | M9: =+[1]PRODUCCIÓN!M9/[1]SUPERFICIE!M9*1000 -> 3326.318 | N9: =+[1]PRODUCCIÓN!N9/[1]SUPERFICIE!N9*1000 -> 4455.0995
A10: Maíz en grano | B10: 2259.7804 | C10: 2416.6191 | D10: 2508.8903 | E10: 2326.457 | F10: 2690.052 | G10: 3408.9977 | H10: 2784.9089 | I10: 2750.5684 | J10: 3764.9889 | K10: 3111.6622 | L10: 3323.2019 | M10: =+[1]PRODUCCIÓN!M10/[1]SUPERFICIE!M10*1000 -> 443.08357 | N10: =+[1]PRODUCCIÓN!N10/[1]SUPERFICIE!N10*1000 -> 443.40974
A11: Quinua | B11: 409.5 | C11: 404.11765 | D11: 440 | E11: 460 | F11: 461.53846 | G11: 460.71429 | H11: 412.1813 | I11: 440.88319 | J11: 441.19743 | K11: 443.64162 | L11: 442.30769 | M11: =+[1]PRODUCCIÓN!M11/[1]SUPERFICIE!M11*1000 -> 1347.7925 | N11: =+[1]PRODUCCIÓN!N11/[1]SUPERFICIE!N11*1000 -> 3257.481
A12: Sorgo en grano | B12: 1179.5151 | C12: 1197.4093 | D12: 1208.5063 | E12: 1467.8845 | F12: 1306.7663 | G12: 1349.4491 | H12: 1386.5633 | I12: 1350.8261 | J12: 1344.7709 | K12: 1346.3287 | L12: 1359.3914 | M12: =+[1]PRODUCCIÓN!M12/[1]SUPERFICIE!M12*1000 -> 1257.3671 | N12: =+[1]PRODUCCIÓN!N12/[1]SUPERFICIE!N12*1000 -> 1059.674
A13: Trigo | B13: 722.76697 | C13: 756.65328 | D13: 684.89818 | E13: 1083.0066 | F13: 699.44987 | G13: 1211.9623 | H13: 1782.6853 | I13: 1747.9516 | J13: 1489.4234 | K13: 792.01375 | L13: 966.24838 | M13: =+[1]PRODUCCIÓN!M13/[1]SUPERFICIE!M13*1000 -> 853.0873 | N13: =+[1]PRODUCCIÓN!N13/[1]SUPERFICIE!N13*1000 -> 849.43182
A14: ESTIMULANTES
A15: Café | B15: 670.71429 | C15: 684.73609 | D15: 706.71378 | E15: 737.06591 | F15: 769.23077 | G15: 892.85714 | H15: 946.42857 | I15: 833.21505 | J15: 812.89865 | K15: 850.35461 | L15: 895.14979 | M15: =+[1]PRODUCCIÓN!M15/[1]SUPERFICIE!M15*1000 -> 7233.2802 | N15: =+[1]PRODUCCIÓN!N15/[1]SUPERFICIE!N15*1000 -> 10325.562
A16: FRUTALES
A17: Banano | B17: 12237.2 | C17: 12518.462 | D17: 12703.704 | E17: 13000 | F17: 11464.286 | G17: 12218.182 | H17: 12228.245 | I17: 12305.435 | J17: 12321.948 | K17: 12106.744 | L17: 12242.14 | M17: =+[1]PRODUCCIÓN!M17/[1]SUPERFICIE!M17*1000 -> 17373.891 | N17: =+[1]PRODUCCIÓN!N17/[1]SUPERFICIE!N17*1000 -> 17317.185
A18: Ciruelo | B18: 17159.033 | C18: 16949.889 | D18: 17441.912 | E18: 17357.143 | F18: 17300 | G18: 17371.021 | H18: 17419.593 | I18: 17386.199 | J18: 17378.034 | K18: 17370.682 | L18: 17388.785 | M18: =+[1]PRODUCCIÓN!M18/[1]SUPERFICIE!M18*1000 -> 4394.572 | N18: =+[1]PRODUCCIÓN!N18/[1]SUPERFICIE!N18*1000 -> 4422.6087
A19: Chirimoya | B19: 4356.0976 | C19: 4638.3495 | D19: 4714.2857 | E19: 4911.1111 | F19: 4000 | G19: 4431.5789 | H19: 4451.0204 | I19: 4490.4459 | J19: 4495.7265 | K19: 4367.9834 | L19: 4453.9749 | M19: =+[1]PRODUCCIÓN!M19/[1]SUPERFICIE!M19*1000 -> 6912.5389 | N19: =+[1]PRODUCCIÓN!N19/[1]SUPERFICIE!N19*1000 -> 9754.3144
A20: Durazno | B20: 6376.0336 | C20: 6522.182 | D20: 6626.0102 | E20: 6701.426 | F20: 6794.849 | G20: 6940.4609 | H20: 7059.3529 | I20: 6863.5836 | J20: 6830.9972 | K20: 6986.9817 | L20: 6957.9773 | M20: =+[1]PRODUCCIÓN!M20/[1]SUPERFICIE!M20*1000 -> 2873.5201 | N20: =+[1]PRODUCCIÓN!N20/[1]SUPERFICIE!N20*1000 -> 7372.1331
A21: Frutilla | B21: 2998.1555 | C21: 2923.2353 | D21: 2890.1132 | E21: 2911.7647 | F21: 2857.1429 | G21: 2884.058 | H21: 2861.1111 | I21: 2877.3558 | J21: 2880.2674 | K21: 2872.187 | L21: 2875.7943 | M21: =+[1]PRODUCCIÓN!M21/[1]SUPERFICIE!M21*1000 -> 1316.7271 | N21: =+[1]PRODUCCIÓN!N21/[1]SUPERFICIE!N21*1000 -> 1313.9921
A22: Guinda | B22: 1272 | C22: 1256 | D22: 1290.0406 | E22: 1291.2121 | F22: 1333.3333 | G22: 1312.1212 | H22: 1320.951 | I22: 1311.649 | J22: 1309.7694 | K22: 1317.537 | L22: 1314.8539 | M22: =+[1]PRODUCCIÓN!M22/[1]SUPERFICIE!M22*1000 -> 5782.5312 | N22: =+[1]PRODUCCIÓN!N22/[1]SUPERFICIE!N22*1000 -> 5766.0714
A23: Higo | B23: 5081.7308 | C23: 4969.697 | D23: 5396.9171 | E23: 5800 | F23: 5740.7407 | G23: 5769.2308 | H23: 5908.2426 | I23: 5752.2282 | J23: 5729.4333 | K23: 5786.4769 | L23: 5808.5106 | M23: =+[1]PRODUCCIÓN!M23/[1]SUPERFICIE!M23*1000 -> 6025.4289 | N23: =+[1]PRODUCCIÓN!N23/[1]SUPERFICIE!N23*1000 -> 6522.4451
A24: Lima | B24: 5409.6222 | C24: 5537.0968 | D24: 5605.8842 | E24: 5615.3846 | F24: 6307.6923 | G24: 5961.5385 | H24: 6087.0549 | I24: 5944.6149 | J24: 5920.3077 | K24: 6044.5704 | L24: 5994.0367 | M24: =+[1]PRODUCCIÓN!M24/[1]SUPERFICIE!M24*1000 -> 6529.7443 | N24: =+[1]PRODUCCIÓN!N24/[1]SUPERFICIE!N24*1000 -> 6424.1662
A25: Limón | B25: 5843.2398 | C25: 6033.6376 | D25: 6235.0158 | E25: 6303.2787 | F25: 6655.7377 | G25: 6479.5082 | H25: 6617.1645 | I25: 6484.723 | J25: 6463.0382 | K25: 6540.1475 | L25: 6519.774 | M25: =+[1]PRODUCCIÓN!M25/[1]SUPERFICIE!M25*1000 -> 6460.7747 | N25: =+[1]PRODUCCIÓN!N25/[1]SUPERFICIE!N25*1000 -> 6705.3521
A26: Mandarina | B26: 5302.5754 | C26: 5435.6874 | D26: 5645.004 | E26: 5716.6362 | F26: 5978.1022 | G26: 6683.105 | H26: 7002.4038 | I26: 6337.965 | J26: 6226.9764 | K26: 6446.6992 | L26: 6699.6032 | M26: =+[1]PRODUCCIÓN!M26/[1]SUPERFICIE!M26*1000 -> 8640.3743 | N26: =+[1]PRODUCCIÓN!N26/[1]SUPERFICIE!N26*1000 -> 8682.1809
A27: Manga | B27: 8026.699 | C27: 8289.375 | D27: 8480.7302 | E27: 8533.3333 | F27: 8675.4967 | G27: 8604.6512 | H27: 8722.1095 | I27: 8623.3244 | J27: 8607.7644 | K27: 8646.3904 | L27: 8640.8027 | M27: =+[1]PRODUCCIÓN!M27/[1]SUPERFICIE!M27*1000 -> 3700.9292 | N27: =+[1]PRODUCCIÓN!N27/[1]SUPERFICIE!N27*1000 -> 9827.1726
A28: Manzana | B28: 3293.7365 | C28: 3419.9092 | D28: 3539.233 | E28: 3617.6471 | F28: 3735.2941 | G28: 3676.4706 | H28: 3761.5688 | I28: 3681.172 | J28: 3669.0962 | K28: 3705.2846 | L28: 3702.4051 | M28: =+[1]PRODUCCIÓN!M28/[1]SUPERFICIE!M28*1000 -> 3898.1481 | N28: =+[1]PRODUCCIÓN!N28/[1]SUPERFICIE!N28*1000 -> 5676.9547
... A39: Uva | B39: 6906.2013 | C39: 7083.5714 | D39: 7367.9996 | E39: 7450.3546 | F39: 7409.0001 | G39: 7465.0021 | H39: 7582.1009 | I39: 6992.7769 | J39: 7474.9793 | K39: 7174.7612 | L39: 7452.9283 | M39: =+[1]PRODUCCIÓN!M39/[1]SUPERFICIE!M39*1000 -> 7565.3874 | N39: =+[1]PRODUCCIÓN!N39/[1]SUPERFICIE!N39*1000 -> 7519.1596
A40: HORTALIZAS
A41: Ají | B41: 1609.6677 | C41: 1647.4285 | D41: 1593.9394 | E41: 1610.7784 | F41: 1586.4198 | G41: 1598.7842 | H41: 1597.1734 | I41: 1597.3892 | J41: 1597.9475 | K41: 1595.5528 | L41: 1598.0565 | M41: =+[1]PRODUCCIÓN!M41/[1]SUPERFICIE!M41*1000 -> 5046.3956 | N41: =+[1]PRODUCCIÓN!N41/[1]SUPERFICIE!N41*1000 -> 8259.5571
A42: Ajo | B42: 4964.0736 | C42: 4933.127 | D42: 4956.754 | E42: 5091.9174 | F42: 5044.6983 | G42: 5038.1966 | H42: 5049.0543 | I42: 5034.2936 | J42: 5052.0455 | K42: 5058.9408 | L42: 5009.3075 | M42: =+[1]PRODUCCIÓN!M42/[1]SUPERFICIE!M42*1000 -> 1328.7415 | N42: =+[1]PRODUCCIÓN!N42/[1]SUPERFICIE!N42*1000 -> 2938.9965
A43: Arveja | B43: 1237.0426 | C43: 1467.8852 | D43: 1573.4753 | E43: 1357.6711 | F43: 1374.9023 | G43: 1388.0593 | H43: 1433.4029 | I43: 1425.3439 | J43: 1484.7522 | K43: 1466.849 | L43: 1433.7918 | M43: =+[1]PRODUCCIÓN!M43/[1]SUPERFICIE!M43*1000 -> 5567.5245 | N43: =+[1]PRODUCCIÓN!N43/[1]SUPERFICIE!N43*1000 -> 5564.5639
A44: Beterraga | B44: 5431.0131 | C44: 5358.6611 | D44: 5555.5556 | E44: 5511.6279 | F44: 5590.9091 | G44: 5551.7241 | H44: 5581.6742 | I44: 5562.5284 | J44: 5558.8168 | K44: 5568.6319 | L44: 5563.0137 | M44: =+[1]PRODUCCIÓN!M44/[1]SUPERFICIE!M44*1000 -> 15758.343 | N44: =+[1]PRODUCCIÓN!N44/[1]SUPERFICIE!N44*1000 -> 12238.33
A45: Cebolla | B45: 10430.328 | C45: 11190.444 | D45: 11016.547 | E45: 11289.025 | F45: 11186.74 | G45: 12489.143 | H45: 17643.031 | I45: 16370.886 | J45: 15795.65 | K45: 17807.228 | L45: 14309.431 | M45: =+[1]PRODUCCIÓN!M45/[1]SUPERFICIE!M45*1000 -> 4944.7236 | N45: =+[1]PRODUCCIÓN!N45/[1]SUPERFICIE!N45*1000 -> 4611.8421
A46: Coliflor | B46: 3866.6667 | C46: 4079.8319 | D46: 3096.1538 | E46: 4226.7206 | F46: 4287.6106 | G46: 4274.0899 | H46: 4107.7236 | I46: 4364.7295 | J46: 4366.3366 | K46: 5179.5511 | L46: 4235.9081 | M46: =+[1]PRODUCCIÓN!M46/[1]SUPERFICIE!M46*1000 -> 813.69785 | N46: =+[1]PRODUCCIÓN!N46/[1]SUPERFICIE!N46*1000 -> 814.11389
A47: Frijol/poroto | B47: 828.32164 | C47: 874.45709 | D47: 846.93173 | E47: 815.62953 | F47: 828.9877 | G47: 804.30263 | H47: 798.86545 | I47: 814.11163 | J47: 821.16726 | K47: 815.53826 | L47: 805.92373 | M47: =+[1]PRODUCCIÓN!M47/[1]SUPERFICIE!M47*1000 -> 496.46944 | N47: =+[1]PRODUCCIÓN!N47/[1]SUPERFICIE!N47*1000 -> 496.09756
A48: Garbanzo | B48: 481.32184 | C48: 505.77778 | D48: 500 | E48: 487.80488 | F48: 500 | G48: 493.9759 | H48: 496.5226 | I48: 495.83741 | J48: 496.94601 | K48: 496.83698 | L48: 495.36585 | M48: =+[1]PRODUCCIÓN!M48/[1]SUPERFICIE!M48*1000 -> 2012.9507 | N48: =+[1]PRODUCCIÓN!N48/[1]SUPERFICIE!N48*1000 -> 5829.586
A49: Haba verde | B49: 1890.3726 | C49: 1971.1647 | D49: 1991.0596 | E49: 2031.5299 | F49: 2000.1327 | G49: 2003.8078 | H49: 2030.5433 | I49: 2013.448 | J49: 2013.5176 | K49: 2023.8107 | L49: 2011.5518 | M49: =+[1]PRODUCCIÓN!M49/[1]SUPERFICIE!M49*1000 -> 6178.1441 | N49: =+[1]PRODUCCIÓN!N49/[1]SUPERFICIE!N49*1000 -> 6210.3489
A50: Lechuga | B50: 6413.9689 | C50: 6752.7782 | D50: 6475.0774 | E50: 6347.4002 | F50: 6055.4153 | G50: 6202.6771 | H50: 6159.7651 | I50: 6232.4245 | J50: 6246.0926 | K50: 6184.5437 | L50: 6197.5995 | M50: =+[1]PRODUCCIÓN!M50/[1]SUPERFICIE!M50*1000 -> 2119.8482 | N50: =+[1]PRODUCCIÓN!N50/[1]SUPERFICIE!N50*1000 -> 2125.3208
A51: Maíz choclo | B51: 2202.6834 | C51: 2247.9751 | D51: 2166.2499 | E51: 2186.3731 | F51: 2189.9593 | G51: 2090.2641 | H51: 2067.6893 | I51: 2128.3453 | J51: 2137.8136 | K51: 2121.6468 | L51: 2092.7723 | M51: =+[1]PRODUCCIÓN!M51/[1]SUPERFICIE!M51*1000 -> 14621.551 | N51: =+[1]PRODUCCIÓN!N51/[1]SUPERFICIE!N51*1000 -> 14839.059
...
