Workbook

Sheet SUPERFICIE
A2: BOLIVIA: SUPERFICIE CAMPAÑA INVIERNO, SEGÚN CULTIVO, 2012 - 2025(p)
A3: (En hectáreas)
A4: DESCRIPCIÓN | B4: 2012 | C4: 2013 | D4: 2014 | E4: 2015 | F4: 2016 | G4: 2017 | H4: 2018 | I4: 2019 | J4: 2020 | K4: 2021 | L4: 2022 | M4: 2023(p) | N4: 2024(p) | O4: 2025(p)
A5: CEREALES | B5: 304414.65 | C5: 378032.12 | D5: 499822.57 | E5: 511069.97 | F5: 438926.55 | G5: 565367.72 | H5: 565632.72 | I5: 627382.52 | J5: 669162.86 | K5: 660533.96 | L5: 642131.82 | M5: 773843.57 | N5: 690380.42 | O5: 719981.43
A6: Arroz con cáscara | B6: 742.88 | C6: 1082.86 | D6: 1077.14 | E6: 1504.18 | F6: 1817.27 | G6: 1840.96 | H6: 1714.08 | I6: 1789.53 | J6: 1733.21 | K6: 1779.01 | L6: 1838.64 | M6: 1701.48 | N6: 1559.03 | O6: 1487.86
A7: Avena | B7: 60.77 | C7: 34.41 | D7: 42.37 | E7: 39.03 | F7: 41.25 | G7: 45.65 | H7: 41.86 | I7: 41.26 | J7: 41.8 | K7: 42.37 | L7: 46.56 | M7: 41.12 | N7: 46.53 | O7: 43.67
A8: Cañahua | B8: 0 | C8: 0 | D8: 0 | E8: 0 | F8: 0 | G8: 0 | H8: 0 | I8: 0 | J8: 0 | K8: 0 | L8: 0 | M8: 0 | N8: 0 | O8: 0
A9: Cebada en grano | B9: 16.25 | C9: 16.05 | D9: 19.1 | E9: 21.62 | F9: 25.8 | G9: 23.16 | H9: 23.66 | I9: 26.56 | J9: 24.15 | K9: 24.68 | L9: 22.91 | M9: 22.54 | N9: 22.11 | O9: 23.28
A10: Centeno | B10: 0 | C10: 0 | D10: 0 | E10: 0 | F10: 0 | G10: 0 | H10: 0 | I10: 0 | J10: 0 | K10: 0 | L10: 0 | M10: 0 | N10: 0 | O10: 0
A11: Maíz en grano | B11: 69293.78 | C11: 91100.03 | D11: 120443.72 | E11: 86687.58 | F11: 102908.66 | G11: 115396.31 | H11: 105865.36 | I11: 107927.99 | J11: 100334.08 | K11: 74764.39 | L11: 76109.86 | M11: 75505.15 | N11: 71022.38 | O11: 61095.55
A12: Quinua | B12: 0 | C12: 0 | D12: 0 | E12: 0 | F12: 0 | G12: 0 | H12: 0 | I12: 0 | J12: 0 | K12: 0 | L12: 0 | M12: 0 | N12: 0 | O12: 0
A13: Sorgo en grano | B13: 167038 | C13: 236166.12 | D13: 262930.24 | E13: 261732.54 | F13: 227226 | G13: 325797.5 | H13: 331920.09 | I13: 385999.77 | J13: 439540.91 | K13: 446377.86 | L13: 428938.18 | M13: 571481.2 | N13: 485787.87 | O13: 546321.29
A14: Trigo | B14: 67262.97 | C14: 49632.65 | D14: 115310 | E14: 161085.02 | F14: 106907.57 | G14: 122264.14 | H14: 126067.67 | I14: 131597.41 | J14: 127488.71 | K14: 137545.65 | L14: 135175.67 | M14: 125092.08 | N14: 131942.5 | O14: 111009.78
A15: ESTIMULANTES | B15: 0 | C15: 0 | D15: 0 | E15: 0 | F15: 0 | G15: 0 | H15: 0 | I15: 0 | J15: 0 | K15: 0 | L15: 0 | M15: 0 | N15: 0 | O15: 0
A16: Cacao | B16: 0 | C16: 0 | D16: 0 | E16: 0 | F16: 0 | G16: 0 | H16: 0 | I16: 0 | J16: 0 | K16: 0 | L16: 0 | M16: 0 | N16: 0 | O16: 0
... A84: Cebada berza | B84: 0.48 | C84: 0.49 | D84: 0.61 | E84: 0.76 | F84: 0.96 | G84: 0.86 | H84: 0.91 | I84: 1.02 | J84: 0.9 | K84: 0.93 | L84: 0.83 | M84: 0.9 | N84: 0.81 | O84: 0.88
A85: Fuente: MDPRyA (OAP)-INE
A86: (p): preliminar

Sheet PRODUCCIÓN
A2: BOLIVIA: PRODUCCIÓN CAMPAÑA CAMPAÑA INVIERNO, SEGÚN CULTIVO, 2012 - 2024 2025(p)
A3: (En toneladas métricas )
A4: DESCRIPCIÓN | B4: 2012 | C4: 2013 | D4: 2014 | E4: 2015 | F4: 2016 | G4: 2017 | H4: 2018 | I4: 2019 | J4: 2020 | K4: 2021 | L4: 2022 | M4: 2023(p) | N4: 2024(p) | O4: 2025(p)
A5: CEREALES | B5: 733849.91 | C5: 863034.35 | D5: 1287198.7 | E5: 1299178 | F5: 641932.91 | G5: 1396650.1 | H5: 1138806.4 | I5: 1286469.7 | J5: 1843556.4 | K5: 874521.13 | L5: 1049734.7 | M5: 2107697.6 | N5: 998596.03 | O5: 1446573.7
A6: Arroz con cáscara | B6: 839.2 | C6: 1378.61 | D6: 1378.59 | E6: 5841.17 | F6: 2927.34 | G6: 3055.91 | H6: 2991.26 | I6: 3022.94 | J6: 3009.89 | K6: 3077 | L6: 3139.27 | M6: 3737.75 | N6: 2760.55 | O6: 2960.76
A7: Avena | B7: 155.67 | C7: 38.5 | D7: 36.02 | E7: 36.75 | F7: 32.59 | G7: 38.18 | H7: 36.64 | I7: 33.71 | J7: 34.14 | K7: 35.38 | L7: 34.41 | M7: 35 | N7: 58.91 | O7: 39.28
A8: Cañahua | B8: 0 | C8: 0 | D8: 0 | E8: 0 | F8: 0 | G8: 0 | H8: 0 | I8: 0 | J8: 0 | K8: 0 | L8: 0 | M8: 0 | N8: 0 | O8: 0
A9: Cebada en grano | B9: 26.93 | C9: 24.56 | D9: 25.85 | E9: 15.6 | F9: 28.98 | G9: 27.17 | H9: 27.97 | I9: 36.01 | J9: 27.15 | K9: 28.26 | L9: 30.48 | M9: 27.65 | N9: 28.1 | O9: 28.41
A10: Centeno | B10: 0 | C10: 0 | D10: 0 | E10: 0 | F10: 0 | G10: 0 | H10: 0 | I10: 0 | J10: 0 | K10: 0 | L10: 0 | M10: 0 | N10: 0 | O10: 0
A11: Maíz en grano | B11: 193426.02 | C11: 225708.98 | D11: 279991.28 | E11: 283198.69 | F11: 152767.08 | G11: 299750.05 | H11: 210342.32 | I11: 202128.94 | J11: 283504.53 | K11: 175562.72 | L11: 145153.46 | M11: 272631 | N11: 185355.76 | O11: 146342.96
A12: Quinua | B12: 0 | C12: 0 | D12: 0 | E12: 0 | F12: 0 | G12: 0 | H12: 0 | I12: 0 | J12: 0 | K12: 0 | L12: 0 | M12: 0 | N12: 0 | O12: 0
A13: Sorgo en grano | B13: 417004 | C13: 556786.31 | D13: 795924.87 | E13: 754672.64 | F13: 406032 | G13: 881921.28 | H13: 774309.7 | I13: 856919.6 | J13: 1308698 | K13: 468035.17 | L13: 716772.25 | M13: 1627228.6 | N13: 667768.1 | O13: 1165850.3
A14: Trigo | B14: 122398.09 | C14: 79097.39 | D14: 209842.06 | E14: 255413.19 | F14: 80144.92 | G14: 211857.51 | H14: 151098.5 | I14: 224328.52 | J14: 248282.66 | K14: 227782.6 | L14: 184604.83 | M14: 204037.6 | N14: 142624.61 | O14: 131352.07
A15: ESTIMULANTES | B15: 0 | C15: 0 | D15: 0 | E15: 0 | F15: 0 | G15: 0 | H15: 0 | I15: 0 | J15: 0 | K15: 0 | L15: 0 | M15: 0 | N15: 0 | O15: 0
A16: Cacao | B16: 0 | C16: 0 | D16: 0 | E16: 0 | F16: 0 | G16: 0 | H16: 0 | I16: 0 | J16: 0 | K16: 0 | L16: 0 | M16: 0 | N16: 0 | O16: 0
... A84: Cebada berza | B84: 0.7 | C84: 0.8 | D84: 1 | E84: 1.3 | F84: 1.3 | G84: 1.3 | H84: 1.3 | I84: 1.45 | J84: 1.33 | K84: 1.43 | L84: 1.4 | M84: 1.38 | N84: 1.25 | O84: 1.36
A85: Fuente: MDPRyA (OAP)-INE
A86: (p): preliminar

Sheet RENDIMIENTO
A2: BOLIVIA: RENDIMIENTO CAMPAÑA CAMPAÑA INVIERNO, SEGÚN CULTIVO, 2012 - 2025(p)
A3: (En kilogramos/hectárea)
A4: DESCRIPCIÓN | B4: 2012 | C4: 2013 | D4: 2014 | E4: 2015 | F4: 2016 | G4: 2017 | H4: 2018 | I4: 2019 | J4: 2020 | K4: 2021 | L4: 2022 | M4: 2023(p) | N4: 2024(p) | O4: 2025(p)
A5: CEREALES
A6: Arroz con cáscara | B6: =+PRODUCCIÓN!B6/SUPERFICIE!B6*1000 -> 1129.6575 | C6: =+PRODUCCIÓN!C6/SUPERFICIE!C6*1000 -> 1273.1193 | D6: =+PRODUCCIÓN!D6/SUPERFICIE!D6*1000 -> 1279.8615 | E6: =+PRODUCCIÓN!E6/SUPERFICIE!E6*1000 -> 3883.2919 | F6: =+PRODUCCIÓN!F6/SUPERFICIE!F6*1000 -> 1610.8448 | G6: =+PRODUCCIÓN!G6/SUPERFICIE!G6*1000 -> 1659.9546 | H6: =+PRODUCCIÓN!H6/SUPERFICIE!H6*1000 -> 1745.1111 | I6: =+PRODUCCIÓN!I6/SUPERFICIE!I6*1000 -> 1689.2368 | ... O6: =+PRODUCCIÓN!O6/SUPERFICIE!O6*1000 -> 1989.9453
A7: Avena | B7: =+PRODUCCIÓN!B7/SUPERFICIE!B7*1000 -> 2561.6258 | C7: =+PRODUCCIÓN!C7/SUPERFICIE!C7*1000 -> 1118.8608 | D7: =+PRODUCCIÓN!D7/SUPERFICIE!D7*1000 -> 850.12981 | E7: =+PRODUCCIÓN!E7/SUPERFICIE!E7*1000 -> 941.5834 | F7: =+PRODUCCIÓN!F7/SUPERFICIE!F7*1000 -> 790.06061 | G7: =+PRODUCCIÓN!G7/SUPERFICIE!G7*1000 -> 836.36364 | H7: =+PRODUCCIÓN!H7/SUPERFICIE!H7*1000 -> 875.29861 | I7: =+PRODUCCIÓN!I7/SUPERFICIE!I7*1000 -> 817.01406 | ... O7: =+PRODUCCIÓN!O7/SUPERFICIE!O7*1000 -> 899.47332
A8: Cañahua | B8: 0 | C8: 0 | D8: 0 | E8: 0 | F8: 0 | G8: 0 | H8: 0 | I8: 0 | J8: 0 | K8: 0 | L8: 0 | M8: 0 | N8: 0
A9: Cebada en grano | B9: =+PRODUCCIÓN!B9/SUPERFICIE!B9*1000 -> 1657.2308 | C9: =+PRODUCCIÓN!C9/SUPERFICIE!C9*1000 -> 1530.2181 | D9: =+PRODUCCIÓN!D9/SUPERFICIE!D9*1000 -> 1353.4031 | E9: =+PRODUCCIÓN!E9/SUPERFICIE!E9*1000 -> 721.55412 | F9: =+PRODUCCIÓN!F9/SUPERFICIE!F9*1000 -> 1123.2558 | G9: =+PRODUCCIÓN!G9/SUPERFICIE!G9*1000 -> 1173.1434 | H9: =+PRODUCCIÓN!H9/SUPERFICIE!H9*1000 -> 1182.164 | I9: =+PRODUCCIÓN!I9/SUPERFICIE!I9*1000 -> 1355.7982 | ... O9: =+PRODUCCIÓN!O9/SUPERFICIE!O9*1000 -> 1220.3608
A10: Centeno | B10: 0 | C10: 0 | D10: 0 | E10: 0 | F10: 0 | G10: 0 | H10: 0 | I10: 0 | J10: 0 | K10: 0 | L10: 0 | M10: 0 | N10: 0
A11: Maíz en grano | B11: =+PRODUCCIÓN!B11/SUPERFICIE!B11*1000 -> 2791.3908 | C11: =+PRODUCCIÓN!C11/SUPERFICIE!C11*1000 -> 2477.595 | D11: =+PRODUCCIÓN!D11/SUPERFICIE!D11*1000 -> 2324.6648 | E11: =+PRODUCCIÓN!E11/SUPERFICIE!E11*1000 -> 3266.8889 | F11: =+PRODUCCIÓN!F11/SUPERFICIE!F11*1000 -> 1484.492 | G11: =+PRODUCCIÓN!G11/SUPERFICIE!G11*1000 -> 2597.5705 | H11: =+PRODUCCIÓN!H11/SUPERFICIE!H11*1000 -> 1986.8852 | I11: =+PRODUCCIÓN!I11/SUPERFICIE!I11*1000 -> 1872.813 | ... O11: =+PRODUCCIÓN!O11/SUPERFICIE!O11*1000 -> 2395.3129
A12: Quinua | B12: 0 | C12: 0 | D12: 0 | E12: 0 | F12: 0 | G12: 0 | H12: 0 | I12: 0 | J12: 0 | K12: 0 | L12: 0 | M12: 0 | N12: 0
A13: Sorgo en grano | B13: =+PRODUCCIÓN!B13/SUPERFICIE!B13*1000 -> 2496.4619 | C13: =+PRODUCCIÓN!C13/SUPERFICIE!C13*1000 -> 2357.6045 | D13: =+PRODUCCIÓN!D13/SUPERFICIE!D13*1000 -> 3027.1332 | E13: =+PRODUCCIÓN!E13/SUPERFICIE!E13*1000 -> 2883.3734 | F13: =+PRODUCCIÓN!F13/SUPERFICIE!F13*1000 -> 1786.9082 | G13: =+PRODUCCIÓN!G13/SUPERFICIE!G13*1000 -> 2706.9615 | H13: =+PRODUCCIÓN!H13/SUPERFICIE!H13*1000 -> 2332.8196 | I13: =+PRODUCCIÓN!I13/SUPERFICIE!I13*1000 -> 2220.0003 | ... O13: =+PRODUCCIÓN!O13/SUPERFICIE!O13*1000 -> 2134.0011
A14: Trigo | B14: =+PRODUCCIÓN!B14/SUPERFICIE!B14*1000 -> 1819.695 | C14: =+PRODUCCIÓN!C14/SUPERFICIE!C14*1000 -> 1593.6564 | D14: =+PRODUCCIÓN!D14/SUPERFICIE!D14*1000 -> 1819.808 | E14: =+PRODUCCIÓN!E14/SUPERFICIE!E14*1000 -> 1585.58 | F14: =+PRODUCCIÓN!F14/SUPERFICIE!F14*1000 -> 749.66553 | G14: =+PRODUCCIÓN!G14/SUPERFICIE!G14*1000 -> 1732.7853 | H14: =+PRODUCCIÓN!H14/SUPERFICIE!H14*1000 -> 1198.5507 | I14: =+PRODUCCIÓN!I14/SUPERFICIE!I14*1000 -> 1704.6576 | ... O14: =+PRODUCCIÓN!O14/SUPERFICIE!O14*1000 -> 1183.2477
A15: ESTIMULANTES | B15: 0 | C15: 0 | D15: 0 | E15: 0 | F15: 0 | G15: 0 | H15: 0 | I15: 0 | J15: 0 | K15: 0 | L15: 0 | M15: 0 | N15: 0
A16: Cacao | B16: 0 | C16: 0 | D16: 0 | E16: 0 | F16: 0 | G16: 0 | H16: 0 | I16: 0 | J16: 0 | K16: 0 | L16: 0 | M16: 0 | N16: 0
A17: Café | B17: 0 | C17: 0 | D17: 0 | E17: 0 | F17: 0 | G17: 0 | H17: 0 | I17: 0 | J17: 0 | K17: 0 | L17: 0 | M17: 0 | N17: 0
A18: Té | B18: 0 | C18: 0 | D18: 0 | E18: 0 | F18: 0 | G18: 0 | H18: 0 | I18: 0 | J18: 0 | K18: 0 | L18: 0 | M18: 0 | N18: 0
A19: FRUTALES
A20: Banano | B20: 0 | C20: 0 | D20: 0 | E20: 0 | F20: 0 | G20: 0 | H20: 0 | I20: 0 | J20: 0 | K20: 0 | L20: 0 | M20: 0 | N20: 0
A21: Ciruelo | B21: 0 | C21: 0 | D21: 0 | E21: 0 | F21: 0 | G21: 0 | H21: 0 | I21: 0 | J21: 0 | K21: 0 | L21: 0 | M21: 0 | N21: 0
A22: Chirimoya | B22: 0 | C22: 0 | D22: 0 | E22: 0 | F22: 0 | G22: 0 | H22: 0 | I22: 0 | J22: 0 | K22: 0 | L22: 0 | M22: 0 | N22: 0
A23: Durazno | B23: 0 | C23: 0 | D23: 0 | E23: 0 | F23: 0 | G23: 0 | H23: 0 | I23: 0 | J23: 0 | K23: 0 | L23: 0 | M23: 0 | N23: 0
A24: Frutilla | B24: 0 | C24: 0 | D24: 0 | E24: 0 | F24: 0 | G24: 0 | H24: 0 | I24: 0 | J24: 0 | K24: 0 | L24: 0 | M24: 0 | N24: 0
A25: Guinda | B25: 0 | C25: 0 | D25: 0 | E25: 0 | F25: 0 | G25: 0 | H25: 0 | I25: 0 | J25: 0 | K25: 0 | L25: 0 | M25: 0 | N25: 0
A26: Higo | B26: 0 | C26: 0 | D26: 0 | E26: 0 | F26: 0 | G26: 0 | H26: 0 | I26: 0 | J26: 0 | K26: 0 | L26: 0 | M26: 0 | N26: 0
A27: Lima | B27: 0 | C27: 0 | D27: 0 | E27: 0 | F27: 0 | G27: 0 | H27: 0 | I27: 0 | J27: 0 | K27: 0 | L27: 0 | M27: 0 | N27: 0
A28: Limón | B28: 0 | C28: 0 | D28: 0 | E28: 0 | F28: 0 | G28: 0 | H28: 0 | I28: 0 | J28: 0 | K28: 0 | L28: 0 | M28: 0 | N28: 0
A29: Mandarina | B29: 0 | C29: 0 | D29: 0 | E29: 0 | F29: 0 | G29: 0 | H29: 0 | I29: 0 | J29: 0 | K29: 0 | L29: 0 | M29: 0 | N29: 0
A30: Manga | B30: 0 | C30: 0 | D30: 0 | E30: 0 | F30: 0 | G30: 0 | H30: 0 | I30: 0 | J30: 0 | K30: 0 | L30: 0 | M30: 0 | N30: 0
A31: Manzana | B31: 0 | C31: 0 | D31: 0 | E31: 0 | F31: 0 | G31: 0 | H31: 0 | I31: 0 | J31: 0 | K31: 0 | L31: 0 | M31: 0 | N31: 0
... A39: Pomelo/toronja | B39: 0 | C39: 0 | D39: 0 | E39: 0 | F39: 0 | G39: 0 | H39: 0 | I39: 0 | J39: 0 | K39: 0 | L39: 0 | M39: 0 | N39: 0
A40: Sandia | B40: =+PRODUCCIÓN!B40/SUPERFICIE!B40*1000 -> 5031.8433 | C40: =+PRODUCCIÓN!C40/SUPERFICIE!C40*1000 -> 4974.5169 | D40: =+PRODUCCIÓN!D40/SUPERFICIE!D40*1000 -> 6168.4034 | E40: =+PRODUCCIÓN!E40/SUPERFICIE!E40*1000 -> 9524.8957 | F40: =+PRODUCCIÓN!F40/SUPERFICIE!F40*1000 -> 8370.2595 | G40: =+PRODUCCIÓN!G40/SUPERFICIE!G40*1000 -> 8883.4059 | H40: =+PRODUCCIÓN!H40/SUPERFICIE!H40*1000 -> 8964.5469 | I40: =+PRODUCCIÓN!I40/SUPERFICIE!I40*1000 -> 9769.523 | ... O40: =+PRODUCCIÓN!O40/SUPERFICIE!O40*1000 -> 9637.4687
A41: Tuna | B41: 0 | C41: 0 | D41: 0 | E41: 0 | F41: 0 | G41: 0 | H41: 0 | I41: 0 | J41: 0 | K41: 0 | L41: 0 | M41: 0 | N41: 0
A42: Uva | B42: 0 | C42: 0 | D42: 0 | E42: 0 | F42: 0 | G42: 0 | H42: 0 | I42: 0 | J42: 0 | K42: 0 | L42: 0 | M42: 0 | N42: 0
A43: HORTALIZAS
A44: Ají | B44: =+PRODUCCIÓN!B44/SUPERFICIE!B44*1000 -> 390.84815 | C44: =+PRODUCCIÓN!C44/SUPERFICIE!C44*1000 -> 378.78788 | D44: =+PRODUCCIÓN!D44/SUPERFICIE!D44*1000 -> 461.43833 | E44: =+PRODUCCIÓN!E44/SUPERFICIE!E44*1000 -> 552.67559 | F44: =+PRODUCCIÓN!F44/SUPERFICIE!F44*1000 -> 419.21277 | G44: =+PRODUCCIÓN!G44/SUPERFICIE!G44*1000 -> 504.6652 | H44: =+PRODUCCIÓN!H44/SUPERFICIE!H44*1000 -> 499.42529 | I44: =+PRODUCCIÓN!I44/SUPERFICIE!I44*1000 -> 565.15242 | ... O44: =+PRODUCCIÓN!O44/SUPERFICIE!O44*1000 -> 510.66386
A45: Ajo | B45: =+PRODUCCIÓN!B45/SUPERFICIE!B45*1000 -> 2107.8391 | C45: =+PRODUCCIÓN!C45/SUPERFICIE!C45*1000 -> 2009.6057 | D45: =+PRODUCCIÓN!D45/SUPERFICIE!D45*1000 -> 1843.5437 | E45: =+PRODUCCIÓN!E45/SUPERFICIE!E45*1000 -> 3697.8978 | F45: =+PRODUCCIÓN!F45/SUPERFICIE!F45*1000 -> 1794.2397 | G45: =+PRODUCCIÓN!G45/SUPERFICIE!G45*1000 -> 1946.4071 | H45: =+PRODUCCIÓN!H45/SUPERFICIE!H45*1000 -> 2393.0737 | I45: =+PRODUCCIÓN!I45/SUPERFICIE!I45*1000 -> 2270.8678 | ... O45: =+PRODUCCIÓN!O45/SUPERFICIE!O45*1000 -> 3226.2397
A46: Arveja | B46: =+PRODUCCIÓN!B46/SUPERFICIE!B46*1000 -> 1325.7883 | C46: =+PRODUCCIÓN!C46/SUPERFICIE!C46*1000 -> 849.36517 | D46: =+PRODUCCIÓN!D46/SUPERFICIE!D46*1000 -> 1004.3149 | E46: =+PRODUCCIÓN!E46/SUPERFICIE!E46*1000 -> 1598.2145 | F46: =+PRODUCCIÓN!F46/SUPERFICIE!F46*1000 -> 1469.5271 | G46: =+PRODUCCIÓN!G46/SUPERFICIE!G46*1000 -> 1550.2577 | H46: =+PRODUCCIÓN!H46/SUPERFICIE!H46*1000 -> 1588.6514 | I46: =+PRODUCCIÓN!I46/SUPERFICIE!I46*1000 -> 1654.7726 | ... O46: =+PRODUCCIÓN!O46/SUPERFICIE!O46*1000 -> 1715.7805
A47: Beterraga | B47: =+PRODUCCIÓN!B47/SUPERFICIE!B47*1000 -> 155.57554 | C47: =+PRODUCCIÓN!C47/SUPERFICIE!C47*1000 -> 1337.1278 | D47: =+PRODUCCIÓN!D47/SUPERFICIE!D47*1000 -> 1874.6687 | E47: =+PRODUCCIÓN!E47/SUPERFICIE!E47*1000 -> 2148.8311 | F47: =+PRODUCCIÓN!F47/SUPERFICIE!F47*1000 -> 2156.3799 | G47: =+PRODUCCIÓN!G47/SUPERFICIE!G47*1000 -> 2246.4365 | H47: =+PRODUCCIÓN!H47/SUPERFICIE!H47*1000 -> 2237.3206 | I47: =+PRODUCCIÓN!I47/SUPERFICIE!I47*1000 -> 2498.2025 | ... O47: =+PRODUCCIÓN!O47/SUPERFICIE!O47*1000 -> 2311.4021
A48: Cebolla | B48: =+PRODUCCIÓN!B48/SUPERFICIE!B48*1000 -> 3590.6274 | C48: =+PRODUCCIÓN!C48/SUPERFICIE!C48*1000 -> 5426.2834 | D48: =+PRODUCCIÓN!D48/SUPERFICIE!D48*1000 -> 6519.6447 | E48: =+PRODUCCIÓN!E48/SUPERFICIE!E48*1000 -> 9288.9414 | F48: =+PRODUCCIÓN!F48/SUPERFICIE!F48*1000 -> 8015.1768 | G48: =+PRODUCCIÓN!G48/SUPERFICIE!G48*1000 -> 9500.0393 | H48: =+PRODUCCIÓN!H48/SUPERFICIE!H48*1000 -> 12412.868 | I48: =+PRODUCCIÓN!I48/SUPERFICIE!I48*1000 -> 12236.908 | ... O48: =+PRODUCCIÓN!O48/SUPERFICIE!O48*1000 -> 9945.7163
A49: Coliflor | B49: =+PRODUCCIÓN!B49/SUPERFICIE!B49*1000 -> 6335.5856 | C49: =+PRODUCCIÓN!C49/SUPERFICIE!C49*1000 -> 4895.9108 | D49: =+PRODUCCIÓN!D49/SUPERFICIE!D49*1000 -> 3529.5775 | E49: =+PRODUCCIÓN!E49/SUPERFICIE!E49*1000 -> 2236.9029 | F49: =+PRODUCCIÓN!F49/SUPERFICIE!F49*1000 -> 2537.5238 | G49: =+PRODUCCIÓN!G49/SUPERFICIE!G49*1000 -> 2516.5366 | H49: =+PRODUCCIÓN!H49/SUPERFICIE!H49*1000 -> 2462.8506 | I49: =+PRODUCCIÓN!I49/SUPERFICIE!I49*1000 -> 2468.968 | ... O49: =+PRODUCCIÓN!O49/SUPERFICIE!O49*1000 -> 2667.6056
A50: Frijol/poroto | B50: =+PRODUCCIÓN!B50/SUPERFICIE!B50*1000 -> 989.19826 | C50: =+PRODUCCIÓN!C50/SUPERFICIE!C50*1000 -> 1221.0599 | D50: =+PRODUCCIÓN!D50/SUPERFICIE!D50*1000 -> 1819.6755 | E50: =+PRODUCCIÓN!E50/SUPERFICIE!E50*1000 -> 1242.7443 | F50: =+PRODUCCIÓN!F50/SUPERFICIE!F50*1000 -> 1395.6876 | G50: =+PRODUCCIÓN!G50/SUPERFICIE!G50*1000 -> 1968.5527 | H50: =+PRODUCCIÓN!H50/SUPERFICIE!H50*1000 -> 1530.8954 | I50: =+PRODUCCIÓN!I50/SUPERFICIE!I50*1000 -> 1677.3035 | ... O50: =+PRODUCCIÓN!O50/SUPERFICIE!O50*1000 -> 1370.1772
A51: Garbanzo | B51: =+PRODUCCIÓN!B51/SUPERFICIE!B51*1000 -> 573.52941 | C51: =+PRODUCCIÓN!C51/SUPERFICIE!C51*1000 -> 622.95082 | D51: =+PRODUCCIÓN!D51/SUPERFICIE!D51*1000 -> 989.20863 | E51: =+PRODUCCIÓN!E51/SUPERFICIE!E51*1000 -> 777.77778 | F51: =+PRODUCCIÓN!F51/SUPERFICIE!F51*1000 -> 8454.5455 | G51: =+PRODUCCIÓN!G51/SUPERFICIE!G51*1000 -> 9192.3077 | H51: =+PRODUCCIÓN!H51/SUPERFICIE!H51*1000 -> 6117.5703 | I51: =+PRODUCCIÓN!I51/SUPERFICIE!I51*1000 -> 6000 | ... O51: =+PRODUCCIÓN!O51/SUPERFICIE!O51*1000 -> 5818.6407
A52: Haba verde | B52: =+PRODUCCIÓN!B52/SUPERFICIE!B52*1000 -> 1711.2698 | C52: =+PRODUCCIÓN!C52/SUPERFICIE!C52*1000 -> 1657.8655 | D52: =+PRODUCCIÓN!D52/SUPERFICIE!D52*1000 -> 1713.4484 | E52: =+PRODUCCIÓN!E52/SUPERFICIE!E52*1000 -> 2446.9325 | F52: =+PRODUCCIÓN!F52/SUPERFICIE!F52*1000 -> 2248.5072 | G52: =+PRODUCCIÓN!G52/SUPERFICIE!G52*1000 -> 2082.4183 | H52: =+PRODUCCIÓN!H52/SUPERFICIE!H52*1000 -> 2246.5197 | I52: =+PRODUCCIÓN!I52/SUPERFICIE!I52*1000 -> 2191.0939 | ... O52: =+PRODUCCIÓN!O52/SUPERFICIE!O52*1000 -> 2412.6034
A53: Lechuga | B53: =+PRODUCCIÓN!B53/SUPERFICIE!B53*1000 -> 2470.7112 | C53: =+PRODUCCIÓN!C53/SUPERFICIE!C53*1000 -> 2730.6679 | D53: =+PRODUCCIÓN!D53/SUPERFICIE!D53*1000 -> 3882.4701 | E53: =+PRODUCCIÓN!E53/SUPERFICIE!E53*1000 -> 3212.848 | F53: =+PRODUCCIÓN!F53/SUPERFICIE!F53*1000 -> 2823.3273 | G53: =+PRODUCCIÓN!G53/SUPERFICIE!G53*1000 -> 3051.9706 | H53: =+PRODUCCIÓN!H53/SUPERFICIE!H53*1000 -> 3079.2993 | I53: =+PRODUCCIÓN!I53/SUPERFICIE!I53*1000 -> 3136.1041 | ... O53: =+PRODUCCIÓN!O53/SUPERFICIE!O53*1000 -> 3212.2296
A54: Locoto | B54: 0 | C54: 0 | D54: 0 | E54: 0 | F54: 0 | G54: 0 | H54: 0 | I54: 0 | J54: 0 | K54: 0 | L54: 0 | M54: 0 | N54: 0
A55: Maíz choclo | B55: =+PRODUCCIÓN!B55/SUPERFICIE!B55*1000 -> 2255.9123 | C55: =+PRODUCCIÓN!C55/SUPERFICIE!C55*1000 -> 3089.5707 | D55: =+PRODUCCIÓN!D55/SUPERFICIE!D55*1000 -> 2351.2127 | E55: =+PRODUCCIÓN!E55/SUPERFICIE!E55*1000 -> 3880.9411 | F55: =+PRODUCCIÓN!F55/SUPERFICIE!F55*1000 -> 2958.7053 | G55: =+PRODUCCIÓN!G55/SUPERFICIE!G55*1000 -> 3061.2608 | H55: =+PRODUCCIÓN!H55/SUPERFICIE!H55*1000 -> 3099.9224 | I55: =+PRODUCCIÓN!I55/SUPERFICIE!I55*1000 -> 3330.8107 | ... O55: =+PRODUCCIÓN!O55/SUPERFICIE!O55*1000 -> 3097.6177
A56: Pepino | B56: =+PRODUCCIÓN!B56/SUPERFICIE!B56*1000 -> 1225.8684 | C56: =+PRODUCCIÓN!C56/SUPERFICIE!C56*1000 -> 1782.1229 | D56: =+PRODUCCIÓN!D56/SUPERFICIE!D56*1000 -> 2274.7973 | E56: =+PRODUCCIÓN!E56/SUPERFICIE!E56*1000 -> 2177.1357 | F56: =+PRODUCCIÓN!F56/SUPERFICIE!F56*1000 -> 2324.3313 | G56: =+PRODUCCIÓN!G56/SUPERFICIE!G56*1000 -> 2357.498 | H56: =+PRODUCCIÓN!H56/SUPERFICIE!H56*1000 -> 2339.3409 | I56: =+PRODUCCIÓN!I56/SUPERFICIE!I56*1000 -> 2350.2024 | ... O56: =+PRODUCCIÓN!O56/SUPERFICIE!O56*1000 -> 2291.1
A57: Rábano | B57: =+PRODUCCIÓN!B57/SUPERFICIE!B57*1000 -> 4869.7248 | C57: =+PRODUCCIÓN!C57/SUPERFICIE!C57*1000 -> 4042.1478 | D57: =+PRODUCCIÓN!D57/SUPERFICIE!D57*1000 -> 1528.6839 | E57: =+PRODUCCIÓN!E57/SUPERFICIE!E57*1000 -> 4840 | F57: =+PRODUCCIÓN!F57/SUPERFICIE!F57*1000 -> 4379.0614 | G57: =+PRODUCCIÓN!G57/SUPERFICIE!G57*1000 -> 4440.8876 | H57: =+PRODUCCIÓN!H57/SUPERFICIE!H57*1000 -> 4453.3127 | I57: =+PRODUCCIÓN!I57/SUPERFICIE!I57*1000 -> 4059.4739 | ... O57: =+PRODUCCIÓN!O57/SUPERFICIE!O57*1000 -> 4412.4559
A58: Repollo | B58: =+PRODUCCIÓN!B58/SUPERFICIE!B58*1000 -> 16806.624 | C58: =+PRODUCCIÓN!C58/SUPERFICIE!C58*1000 -> 12898.338 | D58: =+PRODUCCIÓN!D58/SUPERFICIE!D58*1000 -> 11468.112 | E58: =+PRODUCCIÓN!E58/SUPERFICIE!E58*1000 -> 7658.5805 | F58: =+PRODUCCIÓN!F58/SUPERFICIE!F58*1000 -> 8128.1582 | G58: =+PRODUCCIÓN!G58/SUPERFICIE!G58*1000 -> 7740.4744 | H58: =+PRODUCCIÓN!H58/SUPERFICIE!H58*1000 -> 7853.1517 | I58: =+PRODUCCIÓN!I58/SUPERFICIE!I58*1000 -> 7881.2716 | ... O58: =+PRODUCCIÓN!O58/SUPERFICIE!O58*1000 -> 8376.1181
A59: Tomate | B59: =+PRODUCCIÓN!B59/SUPERFICIE!B59*1000 -> 4440.5953 | C59: =+PRODUCCIÓN!C59/SUPERFICIE!C59*1000 -> 4319.4614 | D59: =+PRODUCCIÓN!D59/SUPERFICIE!D59*1000 -> 5816.8855 | E59: =+PRODUCCIÓN!E59/SUPERFICIE!E59*1000 -> 10560.577 | F59: =+PRODUCCIÓN!F59/SUPERFICIE!F59*1000 -> 6511.5973 | G59: =+PRODUCCIÓN!G59/SUPERFICIE!G59*1000 -> 8130.879 | H59: =+PRODUCCIÓN!H59/SUPERFICIE!H59*1000 -> 14861.525 | I59: =+PRODUCCIÓN!I59/SUPERFICIE!I59*1000 -> 15004.981 | ... O59: =+PRODUCCIÓN!O59/SUPERFICIE!O59*1000 -> 12944.582
A60: Vainitas | B60: =+PRODUCCIÓN!B60/SUPERFICIE!B60*1000 -> 1884.6966 | C60: =+PRODUCCIÓN!C60/SUPERFICIE!C60*1000 -> 1797.9768 | D60: =+PRODUCCIÓN!D60/SUPERFICIE!D60*1000 -> 1726.3739 | E60: =+PRODUCCIÓN!E60/SUPERFICIE!E60*1000 -> 2489.5382 | F60: =+PRODUCCIÓN!F60/SUPERFICIE!F60*1000 -> 2014.8141 | G60: =+PRODUCCIÓN!G60/SUPERFICIE!G60*1000 -> 2247.9025 | H60: =+PRODUCCIÓN!H60/SUPERFICIE!H60*1000 -> 2260.1905 | I60: =+PRODUCCIÓN!I60/SUPERFICIE!I60*1000 -> 2280.6712 | ... O60: =+PRODUCCIÓN!O60/SUPERFICIE!O60*1000 -> 2519.5098
A61: Zanahoria | B61: =+PRODUCCIÓN!B61/SUPERFICIE!B61*1000 -> 7494.3364 | C61: =+PRODUCCIÓN!C61/SUPERFICIE!C61*1000 -> 4387.9184 | D61: =+PRODUCCIÓN!D61/SUPERFICIE!D61*1000 -> 16391.651 | E61: =+PRODUCCIÓN!E61/SUPERFICIE!E61*1000 -> 14383.284 | F61: =+PRODUCCIÓN!F61/SUPERFICIE!F61*1000 -> 12606.645 | G61: =+PRODUCCIÓN!G61/SUPERFICIE!G61*1000 -> 13271.326 | H61: =+PRODUCCIÓN!H61/SUPERFICIE!H61*1000 -> 12509.583 | I61: =+PRODUCCIÓN!I61/SUPERFICIE!I61*1000 -> 12639.252 | ... O61: =+PRODUCCIÓN!O61/SUPERFICIE!O61*1000 -> 13514.103
A62: Zapallo | B62: =+PRODUCCIÓN!B62/SUPERFICIE!B62*1000 -> 5528.8487 | C62: =+PRODUCCIÓN!C62/SUPERFICIE!C62*1000 -> 4715.3924 | D62: =+PRODUCCIÓN!D62/SUPERFICIE!D62*1000 -> 4807.4409 | E62: =+PRODUCCIÓN!E62/SUPERFICIE!E62*1000 -> 6627.7635 | F62: =+PRODUCCIÓN!F62/SUPERFICIE!F62*1000 -> 6558.0754 | G62: =+PRODUCCIÓN!G62/SUPERFICIE!G62*1000 -> 6939.3882 | H62: =+PRODUCCIÓN!H62/SUPERFICIE!H62*1000 -> 7244.186 | I62: =+PRODUCCIÓN!I62/SUPERFICIE!I62*1000 -> 7168.362 | ... O62: =+PRODUCCIÓN!O62/SUPERFICIE!O62*1000 -> 7217.2106
A63: OLEAGINOSAS E INDUSTRIALES
A64: Achiote (urucú) | B64: 0 | C64: 0 | D64: 0 | E64: 0 | F64: 0 | G64: 0 | H64: 0 | I64: 0 | J64: 0 | K64: 0 | L64: 0 | M64: 0 | N64: 0
A65: Algodón | B65: =+PRODUCCIÓN!B65/SUPERFICIE!B65*1000 -> 812.8 | C65: =+PRODUCCIÓN!C65/SUPERFICIE!C65*1000 -> 626.39198 | D65: =+PRODUCCIÓN!D65/SUPERFICIE!D65*1000 -> 476.33178 | E65: =+PRODUCCIÓN!E65/SUPERFICIE!E65*1000 -> 647.86585 | F65: =+PRODUCCIÓN!F65/SUPERFICIE!F65*1000 -> 712.15505 | G65: =+PRODUCCIÓN!G65/SUPERFICIE!G65*1000 -> 719.96377 | H65: =+PRODUCCIÓN!H65/SUPERFICIE!H65*1000 -> 692.95474 | I65: =+PRODUCCIÓN!I65/SUPERFICIE!I65*1000 -> 689.01538 | ... O65: =+PRODUCCIÓN!O65/SUPERFICIE!O65*1000 -> 689.1416
A66: Caña de Azúcar | B66: 0 | C66: 0 | D66: 0 | E66: 0 | F66: 0 | G66: 0 | H66: 0 | I66: 0 | J66: 0 | K66: 0 | L66: 0 | M66: 0 | N66: 0
A67: Chía | B67: =+PRODUCCIÓN!B67/SUPERFICIE!B67*1000 -> 458.3276 | C67: =+PRODUCCIÓN!C67/SUPERFICIE!C67*1000 -> 374.44393 | D67: =+PRODUCCIÓN!D67/SUPERFICIE!D67*1000 -> 466.14557 | E67: =+PRODUCCIÓN!E67/SUPERFICIE!E67*1000 -> 493.26177 | F67: =+PRODUCCIÓN!F67/SUPERFICIE!F67*1000 -> 472.01274 | G67: =+PRODUCCIÓN!G67/SUPERFICIE!G67*1000 -> 472.00817 | H67: =+PRODUCCIÓN!H67/SUPERFICIE!H67*1000 -> 479.53844 | I67: =+PRODUCCIÓN!I67/SUPERFICIE!I67*1000 -> 497.98811 | ... O67: =+PRODUCCIÓN!O67/SUPERFICIE!O67*1000 -> 489.07435
A68: Girasol | B68: =+PRODUCCIÓN!B68/SUPERFICIE!B68*1000 -> 912.50841 | C68: =+PRODUCCIÓN!C68/SUPERFICIE!C68*1000 -> 1023.1412 | D68: =+PRODUCCIÓN!D68/SUPERFICIE!D68*1000 -> 1021.6802 | E68: =+PRODUCCIÓN!E68/SUPERFICIE!E68*1000 -> 694.77775 | F68: =+PRODUCCIÓN!F68/SUPERFICIE!F68*1000 -> 675.0975 | G68: =+PRODUCCIÓN!G68/SUPERFICIE!G68*1000 -> 1114.2222 | H68: =+PRODUCCIÓN!H68/SUPERFICIE!H68*1000 -> 1248.6595 | I68: =+PRODUCCIÓN!I68/SUPERFICIE!I68*1000 -> 1181.9999 | ... O68: =+PRODUCCIÓN!O68/SUPERFICIE!O68*1000 -> 1319.2929
A69: Maní | B69: =+PRODUCCIÓN!B69/SUPERFICIE!B69*1000 -> 810.87262 | C69: =+PRODUCCIÓN!C69/SUPERFICIE!C69*1000 -> 854.02713 | D69: =+PRODUCCIÓN!D69/SUPERFICIE!D69*1000 -> 1023.8218 | E69: =+PRODUCCIÓN!E69/SUPERFICIE!E69*1000 -> 433.80495 | F69: =+PRODUCCIÓN!F69/SUPERFICIE!F69*1000 -> 449.69143 | G69: =+PRODUCCIÓN!G69/SUPERFICIE!G69*1000 -> 452.82523 | H69: =+PRODUCCIÓN!H69/SUPERFICIE!H69*1000 -> 456.33581 | I69: =+PRODUCCIÓN!I69/SUPERFICIE!I69*1000 -> 465.35156 | ... O69: =+PRODUCCIÓN!O69/SUPERFICIE!O69*1000 -> 491.7537
A70: Sésamo | B70: =+PRODUCCIÓN!B70/SUPERFICIE!B70*1000 -> 718.65233 | C70: =+PRODUCCIÓN!C70/SUPERFICIE!C70*1000 -> 650.20991 | D70: =+PRODUCCIÓN!D70/SUPERFICIE!D70*1000 -> 932.38773 | E70: =+PRODUCCIÓN!E70/SUPERFICIE!E70*1000 -> 790.76495 | F70: =+PRODUCCIÓN!F70/SUPERFICIE!F70*1000 -> 724.31239 | G70: =+PRODUCCIÓN!G70/SUPERFICIE!G70*1000 -> 808.4607 | H70: =+PRODUCCIÓN!H70/SUPERFICIE!H70*1000 -> 773.73922 | I70: =+PRODUCCIÓN!I70/SUPERFICIE!I70*1000 -> 795.88799 | ... O70: =+PRODUCCIÓN!O70/SUPERFICIE!O70*1000 -> 780.07388
A71: Soya | B71: =+PRODUCCIÓN!B71/SUPERFICIE!B71*1000 -> 2016.8483 | C71: =+PRODUCCIÓN!C71/SUPERFICIE!C71*1000 -> 1998.4482 | D71: =+PRODUCCIÓN!D71/SUPERFICIE!D71*1000 -> 2300.048 | E71: =+PRODUCCIÓN!E71/SUPERFICIE!E71*1000 -> 2307.1182 | F71: =+PRODUCCIÓN!F71/SUPERFICIE!F71*1000 -> 2127.5629 | G71: =+PRODUCCIÓN!G71/SUPERFICIE!G71*1000 -> 2259.4622 | H71: =+PRODUCCIÓN!H71/SUPERFICIE!H71*1000 -> 2326.2811 | I71: =+PRODUCCIÓN!I71/SUPERFICIE!I71*1000 -> 2225.9631 | ... O71: =+PRODUCCIÓN!O71/SUPERFICIE!O71*1000 -> 1957.0767
A72: Tabaco | B72: 0 | C72: 0 | D72: 0 | E72: 0 | F72: 0 | G72: 0 | H72: 0 | I72: 0 | J72: 0 | K72: 0 | L72: 0 | M72: 0 | N72: 0
A73: TUBÉRCULOS Y RAICES
A74: Camote | B74: =+PRODUCCIÓN!B74/SUPERFICIE!B74*1000 -> 722.22222 | C74: =+PRODUCCIÓN!C74/SUPERFICIE!C74*1000 -> 732.10412 | D74: =+PRODUCCIÓN!D74/SUPERFICIE!D74*1000 -> 832.43824 | E74: =+PRODUCCIÓN!E74/SUPERFICIE!E74*1000 -> 1265.3517 | F74: =+PRODUCCIÓN!F74/SUPERFICIE!F74*1000 -> 994.89796 | G74: =+PRODUCCIÓN!G74/SUPERFICIE!G74*1000 -> 966.34986 | H74: =+PRODUCCIÓN!H74/SUPERFICIE!H74*1000 -> 1054.2702 | I74: =+PRODUCCIÓN!I74/SUPERFICIE!I74*1000 -> 1082.743 | ... O74: =+PRODUCCIÓN!O74/SUPERFICIE!O74*1000 -> 1052.6761
A75: Hualuza | B75: 0 | C75: 0 | D75: 0 | E75: 1182.7957 | F75: 1161.29 | G75: 1195.8529 | H75: 1184.3314 | I75: 1188.3043 | J75: 1182.5957 | K75: 1190.4286 | L75: 1186.6671 | M75: 1184.8743 | N75: 1185.8043 | O75: =+PRODUCCIÓN!O75/SUPERFICIE!O75*1000 -> 8306.7485
A76: Oca | B76: 0 | C76: 0 | D76: 0 | E76: 328.57143 | F76: 314.28571 | G76: 321.32714 | H76: 321.94857 | I76: 320.84 | J76: 321.35429 | K76: 320.41714 | L76: 320.87 | M76: 322.77143 | N76: 321.35143 | O76: =+PRODUCCIÓN!O76/SUPERFICIE!O76*1000 -> 2249.6743
A77: Papa | B77: =+PRODUCCIÓN!B77/SUPERFICIE!B77*1000 -> 5738.088 | C77: =+PRODUCCIÓN!C77/SUPERFICIE!C77*1000 -> 4985.4623 | D77: =+PRODUCCIÓN!D77/SUPERFICIE!D77*1000 -> 5321.8485 | E77: =+PRODUCCIÓN!E77/SUPERFICIE!E77*1000 -> 7341.3119 | F77: =+PRODUCCIÓN!F77/SUPERFICIE!F77*1000 -> 6056.3041 | G77: =+PRODUCCIÓN!G77/SUPERFICIE!G77*1000 -> 10626.845 | H77: =+PRODUCCIÓN!H77/SUPERFICIE!H77*1000 -> 11212.39 | I77: =+PRODUCCIÓN!I77/SUPERFICIE!I77*1000 -> 11321.913 | ... O77: =+PRODUCCIÓN!O77/SUPERFICIE!O77*1000 -> 12593.105
A78: Papaliza | B78: 0 | C78: 0 | D78: 0 | E78: 700.76714 | F78: 585.71429 | G78: 653.39429 | H78: 654.36571 | I78: 663.09714 | J78: 658.44714 | K78: 660.71429 | L78: 660.75 | M78: 673.06571 | N78: 663.44429 | O78: =+PRODUCCIÓN!O78/SUPERFICIE!O78*1000 -> 4643.0391
A79: Racacha | B79: 0 | C79: 715 | D79: 670.66667 | E79: 736 | F79: 715 | G79: 725.43667 | H79: 725.89333 | I79: 725.84 | J79: 725.60667 | K79: 731.33333 | L79: 727.61 | M79: 729.72 | N79: 728.56667 | O79: =+PRODUCCIÓN!O79/SUPERFICIE!O79*1000 -> 2185.8127
A80: Yuca | B80: =+PRODUCCIÓN!B80/SUPERFICIE!B80*1000 -> 5480.2116 | C80: =+PRODUCCIÓN!C80/SUPERFICIE!C80*1000 -> 5856.4849 | D80: =+PRODUCCIÓN!D80/SUPERFICIE!D80*1000 -> 6037.8595 | E80: =+PRODUCCIÓN!E80/SUPERFICIE!E80*1000 -> 6641.9607 | F80: =+PRODUCCIÓN!F80/SUPERFICIE!F80*1000 -> 6045.3878 | G80: =+PRODUCCIÓN!G80/SUPERFICIE!G80*1000 -> 5827.8308 | H80: =+PRODUCCIÓN!H80/SUPERFICIE!H80*1000 -> 6004.9318 | I80: =+PRODUCCIÓN!I80/SUPERFICIE!I80*1000 -> 6025.4828 | ... O80: =+PRODUCCIÓN!O80/SUPERFICIE!O80*1000 -> 5902.7324
A81: FORRAJES
A82: Alfalfa | B82: 0 | C82: 0 | D82: 0 | E82: 0 | F82: 0 | G82: 0 | H82: 0 | I82: 0 | J82: 0 | K82: 0 | L82: 0 | M82: 0 | N82: 0
A83: Avena berza | B83: 0 | C83: 0 | D83: 0 | E83: 0 | F83: 0 | G83: 0 | H83: 0 | I83: 0 | J83: 0 | K83: 0 | L83: 0 | M83: 0 | N83: 0
A84: Cebada berza | B84: =+PRODUCCIÓN!B84/SUPERFICIE!B84*1000 -> 1458.3333 | C84: =+PRODUCCIÓN!C84/SUPERFICIE!C84*1000 -> 1632.6531 | D84: =+PRODUCCIÓN!D84/SUPERFICIE!D84*1000 -> 1639.3443 | E84: =+PRODUCCIÓN!E84/SUPERFICIE!E84*1000 -> 1710.5263 | F84: =+PRODUCCIÓN!F84/SUPERFICIE!F84*1000 -> 1354.1667 | G84: =+PRODUCCIÓN!G84/SUPERFICIE!G84*1000 -> 1511.6279 | H84: =+PRODUCCIÓN!H84/SUPERFICIE!H84*1000 -> 1428.5714 | I84: =+PRODUCCIÓN!I84/SUPERFICIE!I84*1000 -> 1421.5686 | ... O84: =+PRODUCCIÓN!O84/SUPERFICIE!O84*1000 -> 1545.4545
A85: Fuente: MDPRyA (OAP)-INE
A86: (p): preliminar
