Workbook

Sheet SUPERFICIE
A2: BOLIVIA: SUPERFICIE CAMPAÑA VERANO, SEGÚN CULTIVO, 2013 - 2025(p)
A3: (En hectáreas)
A4: DESCRIPCIÓN | B4: 2012-2013 | C4: 2013-2014 | D4: 2014-2015 | E4: 2015-2016 | F4: 2016-2017 | G4: 2017-2018(p) | H4: 2018-2019 | I4: 2019-2020 | J4: 2020-2021 | K4: 2021-2022 | L4: 2022-2023(p) | M4: 2023-2024(p) | N4: 2024-2025(p)
A5: CEREALES | B5: 877993.88 | C5: 872877.69 | D5: 787324.02 | E5: 749221.18 | F5: 795890.57 | G5: 834765.08 | H5: 868807.04 | I5: 812542.57 | J5: 813681.45 | K5: 863077.87 | L5: 957392.26 | M5: 1041109.8 | N5: 952634.43
A6: Arroz con cáscara | B6: 181530.72 | C6: 173840.59 | D6: 165280.2 | E6: 162399.54 | F6: 171006.25 | G6: 167935.49 | H6: 185567.16 | I6: 174726.54 | J6: 177011.28 | K6: 201437.54 | L6: 206387.77 | M6: 207666.73 | N6: 190254.47
A7: Avena | B7: 15352.92 | C7: 15322.63 | D7: 17107.61 | E7: 15912.52 | F7: 14305.5 | G7: 14233.03 | H7: 14136.99 | I7: 14972.1 | J7: 15111.3 | K7: 14551.78 | L7: 14822.79 | M7: 14643.82 | N7: 14872.37
A8: Cañahua | B8: 1105.32 | C8: 1172.29 | D8: 1239.7 | E8: 1254.53 | F8: 1176.5 | G8: 1211.86 | H8: 1238.71 | I8: 1226.66 | J8: 1224.66 | K8: 1215.68 | L8: 1228.23 | M8: 1218.3 | N8: 4524.52
A9: Cebada en grano | B9: 57969.44 | C9: 56235.45 | D9: 55270.11 | E9: 55343.62 | F9: 53017.6 | G9: 53403.36 | H9: 53592.03 | I9: 54036.46 | J9: 54110.52 | K9: 53631.99 | L9: 53715.33 | M9: 53690.09 | N9: 49661.81
A10: Centeno | B10: 395.83 | C10: 383.79 | D10: 418.45 | E10: 349.46 | F10: 346.6 | G10: 348.68 | H10: 350.12 | I10: 360.58 | J10: 362.31 | K10: 353.66 | L10: 355.81 | M10: 354.79 | N10: 357.44
A11: Maíz en grano | B11: 386029.22 | C11: 372378.69 | D11: 321101.71 | E11: 307626.34 | F11: 321998.48 | G11: 346790.84 | H11: 362214.93 | I11: 314931.11 | J11: 309528.27 | K11: 333428.59 | L11: 412205.46 | M11: 490048.84 | N11: 351556.98
A12: Quinua | B12: 105397.06 | C12: 113505.94 | D12: 121186.06 | E12: 118913.48 | F12: 110639.18 | G12: 111604.81 | H12: 116746.32 | I12: 115972.69 | J12: 121119.18 | K12: 123626.5 | L12: 126286.98 | M12: 118056.33 | N12: 148622.2
A13: Sorgo en grano | B13: 67493.74 | C13: 39768.88 | D13: 24842.61 | E13: 18684.42 | F13: 55922 | G13: 61932.06 | H13: 63314.97 | I13: 63368.13 | J13: 61478.95 | K13: 57415.95 | L13: 62277.8 | M13: 77361.17 | N13: 114073.81
A14: Trigo | B14: 62719.63 | C14: 100269.43 | D14: 80877.57 | E14: 68737.27 | F14: 67478.46 | G14: 77304.95 | H14: 71645.81 | I14: 72948.3 | J14: 73734.98 | K14: 77416.18 | L14: 80112.09 | M14: 78069.72 | N14: 78710.83
A15: ESTIMULANTES | B15: 33086 | C15: 33340.09 | D15: 33592.36 | E15: 33889.78 | F15: 34186.8 | G15: 35211.08 | H15: 36160.91 | I15: 36166.96 | J15: 36246.83 | K15: 36749.49 | L15: 36694.63 | M15: 36372.1 | N15: 37793.14
A16: Cacao | B16: 10125.82 | C16: 10198 | D16: 10270.11 | E16: 10291.67 | F16: 10342 | G16: 10340.83 | H16: 10386.6 | I16: 10336.3 | J16: 10336.15 | K16: 10348.38 | L16: 10639.3 | M16: 10548.92 | N16: 11473.66
... A84: Cebada berza | B84: 40804.08 | C84: 45852.88 | D84: 49087.06 | E84: 45220.75 | F84: 45824.94 | G84: 45883.78 | H84: 44038.5 | I84: 45682.26 | J84: 45958.51 | K84: 45467.58 | L84: 45418.66 | M84: 45514.58 | N84: 51314.24
A85: Fuente: MDPRyA (OAP)-INE
A86: (p): preliminar

Sheet PRODUCCIÓN
A2: BOLIVIA: PRODUCCIÓN CAMPAÑA VERANO, SEGÚN CULTIVO, 2013 - 2025(p)
A3: (En toneladas métricas )
A4: DESCRIPCIÓN | B4: 2012-2013 | C4: 2013-2014 | D4: 2014-2015 | E4: 2015-2016 | F4: 2016-2017 | G4: 2017-2018(p) | H4: 2018-2019 | I4: 2019-2020 | J4: 2020-2021 | K4: 2021-2022 | L4: 2022-2023(p) | M4: 2023-2024(p) | N4: 2024-2025(p)
A5: CEREALES | B5: 1539221.5 | C5: 1586358 | D5: 1647721.2 | E5: 1361316.2 | F5: 1637201.3 | G5: 1870775.2 | H5: 1776581.8 | I5: 1627989.5 | J5: 1897606.9 | K5: 1741120.1 | L5: 2172190.2 | M5: 2032346 | N5: 2171743.2
A6: Arroz con cáscara | B6: 475676.62 | C6: 482678.09 | D6: 525962.64 | E6: 401112.7 | F6: 475651.09 | G6: 538101.1 | H6: 597053.06 | I6: 484404.45 | J6: 547171.64 | K6: 605603.69 | L6: 695404.33 | M6: 430290.47 | N6: 593336.85
A7: Avena | B7: 23553.33 | C7: 28957.87 | D7: 27356.8 | E7: 24647.02 | F7: 20988.12 | G7: 21867.37 | H7: 22166.99 | I7: 23169.48 | J7: 23360.43 | K7: 22310.48 | L7: 21442.88 | M7: 22292.52 | N7: 22694.18
A8: Cañahua | B8: 713.68 | C8: 770.73 | D8: 756.15 | E8: 773.91 | F8: 779.64 | G8: 777 | H8: 793.3 | I8: 779.73 | J8: 780.11 | K8: 781.94 | L8: 716.94 | M8: 772.45 | N8: 3382.05
A9: Cebada en grano | B9: 44893.37 | C9: 44773.32 | D9: 51379.37 | E9: 45980.61 | F9: 45453.53 | G9: 46592.63 | H9: 47923.21 | I9: 47531.22 | J9: 48152.43 | K9: 47130.6 | L9: 47454.16 | M9: 47218.58 | N9: 45461.64
A10: Centeno | B10: 231.07 | C10: 274.05 | D10: 318.42 | E10: 269.46 | F10: 268.57 | G10: 274.52 | H10: 286.25 | I10: 284.22 | J10: 283.94 | K10: 279.5 | L10: 285.26 | M10: 280.7 | N10: 282.74
A11: Maíz en grano | B11: 757898.14 | C11: 780912.93 | D11: 776565.37 | E11: 701429.59 | F11: 802141.82 | G11: 961175.73 | H11: 777160.89 | I11: 752704.09 | J11: 966825.69 | K11: 810058.07 | L11: 1107633.9 | M11: 1248700.2 | N11: 1040291.1
A12: Quinua | B12: 64239.5 | C12: 67711.07 | D12: 75449.31 | E12: 65548.17 | F12: 66792.1 | G12: 70762.65 | H12: 70440.45 | I12: 70169.5 | J12: 49582.78 | K12: 44707.16 | L12: 41380.22 | M12: 50261.88 | N12: 55866.13
A13: Sorgo en grano | B13: 108390.72 | C13: 99707.46 | D13: 62176.14 | E13: 47530.6 | F13: 150836.34 | G13: 141392.89 | H13: 174729.43 | I13: 161965.67 | J13: 172633.94 | K13: 127301.58 | L13: 169671.01 | M13: 143856.34 | N13: 308698.29
A14: Trigo | B14: 63625.11 | C14: 80572.46 | D14: 127757 | E14: 74024.09 | F14: 74290.08 | G14: 89831.34 | H14: 86028.2 | I14: 86981.1 | J14: 88815.97 | K14: 82947.05 | L14: 88201.5 | M14: 88672.88 | N14: 101730.24
A15: ESTIMULANTES | B15: 27011.07 | C15: 27664.05 | D15: 28261.68 | E15: 28821.58 | F15: 27876 | G15: 29159.41 | H15: 31879.37 | I15: 30486.92 | J15: 30619.66 | K15: 30389.71 | L15: 31015.08 | M15: 30491.52 | N15: 31786.8
A16: Cacao | B16: 5970.41 | C16: 5971.15 | D16: 6065.35 | E16: 6143.03 | F16: 5518 | G16: 5845.98 | H16: 5835.24 | I16: 5874.53 | J16: 5883.98 | K16: 5791.55 | L16: 5971.17 | M16: 5831.97 | N16: 6716.04
... A84: Cebada berza | B84: 65366.73 | C84: 72229.36 | D84: 79027.9 | E84: 75240.75 | F84: 78969.95 | G84: 79714.9 | H84: 76825.04 | I84: 77815.7 | J84: 81911.99 | K84: 79047.53 | L84: 78348.51 | M84: 78897.29 | N84: 91384.09
A85: Fuente: MDPRyA (OAP)-INE
A86: (p): preliminar

Sheet RENDIMIENTO
A2: BOLIVIA: RENDIMIENTO CAMPAÑA VERANO , SEGÚN CULTIVO 2013 - 2025(p)
A3: (En kilogramos/hectárea)
A4: DESCRIPCIÓN | B4: 2012-2013 | C4: 2013-2014 | D4: 2014-2015 | E4: 2015-2016 | F4: 2016-2017 | G4: 2017-2018(p) | H4: 2018-2019 | I4: 2019-2020 | J4: 2020-2021 | K4: 2021-2022 | L4: 2022-2023(p) | M4: 2023-2024(p) | N4: 2024-2025(p)
A5: CEREALES | B5: =+PRODUCCIÓN!B5/SUPERFICIE!B5*1000 -> 1753.1119 | C5: =+PRODUCCIÓN!C5/SUPERFICIE!C5*1000 -> 1817.3886 | D5: =+PRODUCCIÓN!D5/SUPERFICIE!D5*1000 -> 2092.8121 | E5: =+PRODUCCIÓN!E5/SUPERFICIE!E5*1000 -> 1816.975 | F5: =+PRODUCCIÓN!F5/SUPERFICIE!F5*1000 -> 2057.0683 | G5: =+PRODUCCIÓN!G5/SUPERFICIE!G5*1000 -> 2241.0799 | H5: =+PRODUCCIÓN!H5/SUPERFICIE!H5*1000 -> 2044.852 | I5: =+PRODUCCIÓN!I5/SUPERFICIE!I5*1000 -> 2003.5744 | ... N5: =+PRODUCCIÓN!N5/SUPERFICIE!N5*1000 -> 2279.7236
A6: Arroz con cáscara | B6: =+PRODUCCIÓN!B6/SUPERFICIE!B6*1000 -> 2620.3643 | C6: =+PRODUCCIÓN!C6/SUPERFICIE!C6*1000 -> 2776.5558 | D6: =+PRODUCCIÓN!D6/SUPERFICIE!D6*1000 -> 3182.2483 | E6: =+PRODUCCIÓN!E6/SUPERFICIE!E6*1000 -> 2469.9128 | F6: =+PRODUCCIÓN!F6/SUPERFICIE!F6*1000 -> 2781.4837 | G6: =+PRODUCCIÓN!G6/SUPERFICIE!G6*1000 -> 3204.2131 | H6: =+PRODUCCIÓN!H6/SUPERFICIE!H6*1000 -> 3217.45 | I6: =+PRODUCCIÓN!I6/SUPERFICIE!I6*1000 -> 2772.3576 | ... N6: =+PRODUCCIÓN!N6/SUPERFICIE!N6*1000 -> 3118.6487
A7: Avena | B7: =+PRODUCCIÓN!B7/SUPERFICIE!B7*1000 -> 1534.1271 | C7: =+PRODUCCIÓN!C7/SUPERFICIE!C7*1000 -> 1889.876 | D7: =+PRODUCCIÓN!D7/SUPERFICIE!D7*1000 -> 1599.1012 | E7: =+PRODUCCIÓN!E7/SUPERFICIE!E7*1000 -> 1548.9074 | F7: =+PRODUCCIÓN!F7/SUPERFICIE!F7*1000 -> 1467.1364 | G7: =+PRODUCCIÓN!G7/SUPERFICIE!G7*1000 -> 1536.3819 | H7: =+PRODUCCIÓN!H7/SUPERFICIE!H7*1000 -> 1568.0134 | I7: =+PRODUCCIÓN!I7/SUPERFICIE!I7*1000 -> 1547.5104 | ... N7: =+PRODUCCIÓN!N7/SUPERFICIE!N7*1000 -> 1525.929
A8: Cañahua | B8: =+PRODUCCIÓN!B8/SUPERFICIE!B8*1000 -> 645.67727 | C8: =+PRODUCCIÓN!C8/SUPERFICIE!C8*1000 -> 657.45677 | D8: =+PRODUCCIÓN!D8/SUPERFICIE!D8*1000 -> 609.94595 | E8: =+PRODUCCIÓN!E8/SUPERFICIE!E8*1000 -> 616.89238 | F8: =+PRODUCCIÓN!F8/SUPERFICIE!F8*1000 -> 662.67743 | G8: =+PRODUCCIÓN!G8/SUPERFICIE!G8*1000 -> 641.16317 | H8: =+PRODUCCIÓN!H8/SUPERFICIE!H8*1000 -> 640.42431 | I8: =+PRODUCCIÓN!I8/SUPERFICIE!I8*1000 -> 635.65291 | ... N8: =+PRODUCCIÓN!N8/SUPERFICIE!N8*1000 -> 747.49366
A9: Cebada en grano | B9: =+PRODUCCIÓN!B9/SUPERFICIE!B9*1000 -> 774.43167 | C9: =+PRODUCCIÓN!C9/SUPERFICIE!C9*1000 -> 796.17608 | D9: =+PRODUCCIÓN!D9/SUPERFICIE!D9*1000 -> 929.60499 | E9: =+PRODUCCIÓN!E9/SUPERFICIE!E9*1000 -> 830.82043 | F9: =+PRODUCCIÓN!F9/SUPERFICIE!F9*1000 -> 857.32908 | G9: =+PRODUCCIÓN!G9/SUPERFICIE!G9*1000 -> 872.46626 | H9: =+PRODUCCIÓN!H9/SUPERFICIE!H9*1000 -> 894.2227 | I9: =+PRODUCCIÓN!I9/SUPERFICIE!I9*1000 -> 879.61388 | ... N9: =+PRODUCCIÓN!N9/SUPERFICIE!N9*1000 -> 915.42455
A10: Centeno | B10: =+PRODUCCIÓN!B10/SUPERFICIE!B10*1000 -> 583.76071 | C10: =+PRODUCCIÓN!C10/SUPERFICIE!C10*1000 -> 714.06238 | D10: =+PRODUCCIÓN!D10/SUPERFICIE!D10*1000 -> 760.95113 | E10: =+PRODUCCIÓN!E10/SUPERFICIE!E10*1000 -> 771.07537 | F10: =+PRODUCCIÓN!F10/SUPERFICIE!F10*1000 -> 774.87017 | G10: =+PRODUCCIÓN!G10/SUPERFICIE!G10*1000 -> 787.31215 | H10: =+PRODUCCIÓN!H10/SUPERFICIE!H10*1000 -> 817.57683 | I10: =+PRODUCCIÓN!I10/SUPERFICIE!I10*1000 -> 788.23007 | ... N10: =+PRODUCCIÓN!N10/SUPERFICIE!N10*1000 -> 791.01388
A11: Maíz en grano | B11: =+PRODUCCIÓN!B11/SUPERFICIE!B11*1000 -> 1963.3181 | C11: =+PRODUCCIÓN!C11/SUPERFICIE!C11*1000 -> 2097.0935 | D11: =+PRODUCCIÓN!D11/SUPERFICIE!D11*1000 -> 2418.4405 | E11: =+PRODUCCIÓN!E11/SUPERFICIE!E11*1000 -> 2280.135 | F11: =+PRODUCCIÓN!F11/SUPERFICIE!F11*1000 -> 2491.1354 | G11: =+PRODUCCIÓN!G11/SUPERFICIE!G11*1000 -> 2771.6295 | H11: =+PRODUCCIÓN!H11/SUPERFICIE!H11*1000 -> 2145.5794 | I11: =+PRODUCCIÓN!I11/SUPERFICIE!I11*1000 -> 2390.0595 | ... N11: =+PRODUCCIÓN!N11/SUPERFICIE!N11*1000 -> 2959.0967
A12: Quinua | B12: =+PRODUCCIÓN!B12/SUPERFICIE!B12*1000 -> 609.49992 | C12: =+PRODUCCIÓN!C12/SUPERFICIE!C12*1000 -> 596.54208 | D12: =+PRODUCCIÓN!D12/SUPERFICIE!D12*1000 -> 622.59067 | E12: =+PRODUCCIÓN!E12/SUPERFICIE!E12*1000 -> 551.22573 | F12: =+PRODUCCIÓN!F12/SUPERFICIE!F12*1000 -> 603.69301 | G12: =+PRODUCCIÓN!G12/SUPERFICIE!G12*1000 -> 634.0466 | H12: =+PRODUCCIÓN!H12/SUPERFICIE!H12*1000 -> 603.36334 | I12: =+PRODUCCIÓN!I12/SUPERFICIE!I12*1000 -> 605.05193 | ... N12: =+PRODUCCIÓN!N12/SUPERFICIE!N12*1000 -> 375.89357
A13: Sorgo en grano | B13: =+PRODUCCIÓN!B13/SUPERFICIE!B13*1000 -> 1605.9374 | C13: =+PRODUCCIÓN!C13/SUPERFICIE!C13*1000 -> 2507.1729 | D13: =+PRODUCCIÓN!D13/SUPERFICIE!D13*1000 -> 2502.8022 | E13: =+PRODUCCIÓN!E13/SUPERFICIE!E13*1000 -> 2543.8627 | F13: =+PRODUCCIÓN!F13/SUPERFICIE!F13*1000 -> 2697.263 | G13: =+PRODUCCIÓN!G13/SUPERFICIE!G13*1000 -> 2283.0322 | H13: =+PRODUCCIÓN!H13/SUPERFICIE!H13*1000 -> 2759.6859 | I13: =+PRODUCCIÓN!I13/SUPERFICIE!I13*1000 -> 2555.9484 | ... N13: =+PRODUCCIÓN!N13/SUPERFICIE!N13*1000 -> 2706.1276
A14: Trigo | B14: =+PRODUCCIÓN!B14/SUPERFICIE!B14*1000 -> 1014.4369 | C14: =+PRODUCCIÓN!C14/SUPERFICIE!C14*1000 -> 803.55957 | D14: =+PRODUCCIÓN!D14/SUPERFICIE!D14*1000 -> 1579.6345 | E14: =+PRODUCCIÓN!E14/SUPERFICIE!E14*1000 -> 1076.9134 | F14: =+PRODUCCIÓN!F14/SUPERFICIE!F14*1000 -> 1100.9451 | G14: =+PRODUCCIÓN!G14/SUPERFICIE!G14*1000 -> 1162.0387 | H14: =+PRODUCCIÓN!H14/SUPERFICIE!H14*1000 -> 1200.7429 | I14: =+PRODUCCIÓN!I14/SUPERFICIE!I14*1000 -> 1192.3664 | ... N14: =+PRODUCCIÓN!N14/SUPERFICIE!N14*1000 -> 1292.4554
A15: ESTIMULANTES | B15: =+PRODUCCIÓN!B15/SUPERFICIE!B15*1000 -> 816.38971 | C15: =+PRODUCCIÓN!C15/SUPERFICIE!C15*1000 -> 829.75331 | D15: =+PRODUCCIÓN!D15/SUPERFICIE!D15*1000 -> 841.31273 | E15: =+PRODUCCIÓN!E15/SUPERFICIE!E15*1000 -> 850.45049 | F15: =+PRODUCCIÓN!F15/SUPERFICIE!F15*1000 -> 815.40244 | G15: =+PRODUCCIÓN!G15/SUPERFICIE!G15*1000 -> 828.13166 | H15: =+PRODUCCIÓN!H15/SUPERFICIE!H15*1000 -> 881.59756 | I15: =+PRODUCCIÓN!I15/SUPERFICIE!I15*1000 -> 842.94948 | ... N15: =+PRODUCCIÓN!N15/SUPERFICIE!N15*1000 -> 841.07327
A16: Cacao | B16: =+PRODUCCIÓN!B16/SUPERFICIE!B16*1000 -> 589.62237 | C16: =+PRODUCCIÓN!C16/SUPERFICIE!C16*1000 -> 585.52167 | D16: =+PRODUCCIÓN!D16/SUPERFICIE!D16*1000 -> 590.58277 | E16: =+PRODUCCIÓN!E16/SUPERFICIE!E16*1000 -> 596.89341 | F16: =+PRODUCCIÓN!F16/SUPERFICIE!F16*1000 -> 533.5525 | G16: =+PRODUCCIÓN!G16/SUPERFICIE!G16*1000 -> 565.32986 | H16: =+PRODUCCIÓN!H16/SUPERFICIE!H16*1000 -> 561.80463 | I16: =+PRODUCCIÓN!I16/SUPERFICIE!I16*1000 -> 568.33973 | ... N16: =+PRODUCCIÓN!N16/SUPERFICIE!N16*1000 -> 585.34417
... A66: Caña de Azúcar | B66: =+PRODUCCIÓN!B66/SUPERFICIE!B66*1000 -> 53606.522 | C66: =+PRODUCCIÓN!C66/SUPERFICIE!C66*1000 -> 51080.639 | D66: =+PRODUCCIÓN!D66/SUPERFICIE!D66*1000 -> 49450.398 | E66: =+PRODUCCIÓN!E66/SUPERFICIE!E66*1000 -> 50508.827 | F66: =+PRODUCCIÓN!F66/SUPERFICIE!F66*1000 -> 55589.708 | G66: =+PRODUCCIÓN!G66/SUPERFICIE!G66*1000 -> 55913.194 | H66: =+PRODUCCIÓN!H66/SUPERFICIE!H66*1000 -> 54735.598 | I66: =+PRODUCCIÓN!I66/SUPERFICIE!I66*1000 -> 56059.938 | ... N66: =+PRODUCCIÓN!N66/SUPERFICIE!N66*1000 -> 59528.245
A67: Chía | B67: -12 | C67: -11 | D67: -10 | E67: -9 | F67: -8 | G67: -7 | H67: -6 | I67: -5 | J67: -4 | K67: -3 | L67: -2 | M67: -1 | N67: 0
A68: Girasol | B68: =+PRODUCCIÓN!B68/SUPERFICIE!B68*1000 -> 578.7234 | C68: =+PRODUCCIÓN!C68/SUPERFICIE!C68*1000 -> 445.6601 | D68: =+PRODUCCIÓN!D68/SUPERFICIE!D68*1000 -> 1429.6724 | E68: =+PRODUCCIÓN!E68/SUPERFICIE!E68*1000 -> 1299.5924 | F68: =+PRODUCCIÓN!F68/SUPERFICIE!F68*1000 -> 1382.199 | G68: =+PRODUCCIÓN!G68/SUPERFICIE!G68*1000 -> 1355.3611 | H68: =+PRODUCCIÓN!H68/SUPERFICIE!H68*1000 -> 1292.868 | I68: =+PRODUCCIÓN!I68/SUPERFICIE!I68*1000 -> 1345.2381 | ... N68: =+PRODUCCIÓN!N68/SUPERFICIE!N68*1000 -> 1318.1647
A69: Maní | B69: =+PRODUCCIÓN!B69/SUPERFICIE!B69*1000 -> 1216.7588 | C69: =+PRODUCCIÓN!C69/SUPERFICIE!C69*1000 -> 1301.4813 | D69: =+PRODUCCIÓN!D69/SUPERFICIE!D69*1000 -> 1338.4444 | E69: =+PRODUCCIÓN!E69/SUPERFICIE!E69*1000 -> 1364.4952 | F69: =+PRODUCCIÓN!F69/SUPERFICIE!F69*1000 -> 1342.6864 | G69: =+PRODUCCIÓN!G69/SUPERFICIE!G69*1000 -> 1375.5208 | H69: =+PRODUCCIÓN!H69/SUPERFICIE!H69*1000 -> 1493.6472 | I69: =+PRODUCCIÓN!I69/SUPERFICIE!I69*1000 -> 1402.6061 | ... N69: =+PRODUCCIÓN!N69/SUPERFICIE!N69*1000 -> 1720.7029
A70: Sésamo | B70: =+PRODUCCIÓN!B70/SUPERFICIE!B70*1000 -> 515.26751 | C70: =+PRODUCCIÓN!C70/SUPERFICIE!C70*1000 -> 537.10845 | D70: =+PRODUCCIÓN!D70/SUPERFICIE!D70*1000 -> 557.55577 | E70: =+PRODUCCIÓN!E70/SUPERFICIE!E70*1000 -> 566.25371 | F70: =+PRODUCCIÓN!F70/SUPERFICIE!F70*1000 -> 574.91238 | G70: =+PRODUCCIÓN!G70/SUPERFICIE!G70*1000 -> 625.81085 | H70: =+PRODUCCIÓN!H70/SUPERFICIE!H70*1000 -> 649.20239 | I70: =+PRODUCCIÓN!I70/SUPERFICIE!I70*1000 -> 506.14623 | ... N70: =+PRODUCCIÓN!N70/SUPERFICIE!N70*1000 -> 527.94447
A71: Soya | B71: =+PRODUCCIÓN!B71/SUPERFICIE!B71*1000 -> 2088.4255 | C71: =+PRODUCCIÓN!C71/SUPERFICIE!C71*1000 -> 2249.9746 | D71: =+PRODUCCIÓN!D71/SUPERFICIE!D71*1000 -> 2360.5879 | E71: =+PRODUCCIÓN!E71/SUPERFICIE!E71*1000 -> 2424.4248 | F71: =+PRODUCCIÓN!F71/SUPERFICIE!F71*1000 -> 2110.6736 | G71: =+PRODUCCIÓN!G71/SUPERFICIE!G71*1000 -> 2110.4909 | H71: =+PRODUCCIÓN!H71/SUPERFICIE!H71*1000 -> 2104.6374 | I71: =+PRODUCCIÓN!I71/SUPERFICIE!I71*1000 -> 2100.1217 | ... N71: =+PRODUCCIÓN!N71/SUPERFICIE!N71*1000 -> 2289.7698
A72: Tabaco | B72: =+PRODUCCIÓN!B72/SUPERFICIE!B72*1000 -> 932.35098 | C72: =+PRODUCCIÓN!C72/SUPERFICIE!C72*1000 -> 958.06105 | D72: =+PRODUCCIÓN!D72/SUPERFICIE!D72*1000 -> 991.12684 | E72: =+PRODUCCIÓN!E72/SUPERFICIE!E72*1000 -> 1018.4454 | F72: =+PRODUCCIÓN!F72/SUPERFICIE!F72*1000 -> 991.78883 | G72: =+PRODUCCIÓN!G72/SUPERFICIE!G72*1000 -> 1005.4092 | H72: =+PRODUCCIÓN!H72/SUPERFICIE!H72*1000 -> 1026.1053 | I72: =+PRODUCCIÓN!I72/SUPERFICIE!I72*1000 -> 1010.3874 | ... N72: =+PRODUCCIÓN!N72/SUPERFICIE!N72*1000 -> 999.73283
A73: TUBÉRCULOS Y RAICES | B73: =+PRODUCCIÓN!B73/SUPERFICIE!B73*1000 -> 5896.0163 | C73: =+PRODUCCIÓN!C73/SUPERFICIE!C73*1000 -> 6088.5109 | D73: =+PRODUCCIÓN!D73/SUPERFICIE!D73*1000 -> 5985.4404 | E73: =+PRODUCCIÓN!E73/SUPERFICIE!E73*1000 -> 5767.8919 | F73: =+PRODUCCIÓN!F73/SUPERFICIE!F73*1000 -> 5833.0808 | G73: =+PRODUCCIÓN!G73/SUPERFICIE!G73*1000 -> 6020.5649 | H73: =+PRODUCCIÓN!H73/SUPERFICIE!H73*1000 -> 6538.8263 | I73: =+PRODUCCIÓN!I73/SUPERFICIE!I73*1000 -> 6640.2198 | ... N73: =+PRODUCCIÓN!N73/SUPERFICIE!N73*1000 -> 7903.5983
A74: Camote | B74: =+PRODUCCIÓN!B74/SUPERFICIE!B74*1000 -> 4228.311 | C74: =+PRODUCCIÓN!C74/SUPERFICIE!C74*1000 -> 4273.6855 | D74: =+PRODUCCIÓN!D74/SUPERFICIE!D74*1000 -> 4334.6936 | E74: =+PRODUCCIÓN!E74/SUPERFICIE!E74*1000 -> 4176.8652 | F74: =+PRODUCCIÓN!F74/SUPERFICIE!F74*1000 -> 4323.184 | G74: =+PRODUCCIÓN!G74/SUPERFICIE!G74*1000 -> 4291.8722 | H74: =+PRODUCCIÓN!H74/SUPERFICIE!H74*1000 -> 4299.685 | I74: =+PRODUCCIÓN!I74/SUPERFICIE!I74*1000 -> 4288.7701 | ... N74: =+PRODUCCIÓN!N74/SUPERFICIE!N74*1000 -> 4308.5349
A75: Hualuza | B75: =+PRODUCCIÓN!B75/SUPERFICIE!B75*1000 -> 2844.2908 | C75: =+PRODUCCIÓN!C75/SUPERFICIE!C75*1000 -> 2817.1612 | D75: =+PRODUCCIÓN!D75/SUPERFICIE!D75*1000 -> 2950.3733 | E75: =+PRODUCCIÓN!E75/SUPERFICIE!E75*1000 -> 2968.4233 | F75: =+PRODUCCIÓN!F75/SUPERFICIE!F75*1000 -> 2961.605 | G75: =+PRODUCCIÓN!G75/SUPERFICIE!G75*1000 -> 3014.7907 | H75: =+PRODUCCIÓN!H75/SUPERFICIE!H75*1000 -> 3051.7156 | I75: =+PRODUCCIÓN!I75/SUPERFICIE!I75*1000 -> 2999.6702 | ... N75: =+PRODUCCIÓN!N75/SUPERFICIE!N75*1000 -> 2944.3394
A76: Oca | B76: =+PRODUCCIÓN!B76/SUPERFICIE!B76*1000 -> 3137.6648 | C76: =+PRODUCCIÓN!C76/SUPERFICIE!C76*1000 -> 3248.836 | D76: =+PRODUCCIÓN!D76/SUPERFICIE!D76*1000 -> 3166.3886 | E76: =+PRODUCCIÓN!E76/SUPERFICIE!E76*1000 -> 3030.9931 | F76: =+PRODUCCIÓN!F76/SUPERFICIE!F76*1000 -> 2835.578 | G76: =+PRODUCCIÓN!G76/SUPERFICIE!G76*1000 -> 2940.6828 | H76: =+PRODUCCIÓN!H76/SUPERFICIE!H76*1000 -> 2929.9646 | I76: =+PRODUCCIÓN!I76/SUPERFICIE!I76*1000 -> 2971.8516 | ... N76: =+PRODUCCIÓN!N76/SUPERFICIE!N76*1000 -> 3063.7163
A77: Papa | B77: =+PRODUCCIÓN!B77/SUPERFICIE!B77*1000 -> 5821.7176 | C77: =+PRODUCCIÓN!C77/SUPERFICIE!C77*1000 -> 6045.2814 | D77: =+PRODUCCIÓN!D77/SUPERFICIE!D77*1000 -> 5903.2337 | E77: =+PRODUCCIÓN!E77/SUPERFICIE!E77*1000 -> 5796.2105 | F77: =+PRODUCCIÓN!F77/SUPERFICIE!F77*1000 -> 5853.4202 | G77: =+PRODUCCIÓN!G77/SUPERFICIE!G77*1000 -> 6081.2005 | H77: =+PRODUCCIÓN!H77/SUPERFICIE!H77*1000 -> 6753.9608 | I77: =+PRODUCCIÓN!I77/SUPERFICIE!I77*1000 -> 6830.0235 | ... N77: =+PRODUCCIÓN!N77/SUPERFICIE!N77*1000 -> 8099.1117
A78: Papaliza | B78: =+PRODUCCIÓN!B78/SUPERFICIE!B78*1000 -> 3318.4421 | C78: =+PRODUCCIÓN!C78/SUPERFICIE!C78*1000 -> 3314.5569 | D78: =+PRODUCCIÓN!D78/SUPERFICIE!D78*1000 -> 3473.7521 | E78: =+PRODUCCIÓN!E78/SUPERFICIE!E78*1000 -> 3265.9019 | F78: =+PRODUCCIÓN!F78/SUPERFICIE!F78*1000 -> 3509.1611 | G78: =+PRODUCCIÓN!G78/SUPERFICIE!G78*1000 -> 3590.0834 | H78: =+PRODUCCIÓN!H78/SUPERFICIE!H78*1000 -> 3670.7785 | I78: =+PRODUCCIÓN!I78/SUPERFICIE!I78*1000 -> 3529.4941 | ... N78: =+PRODUCCIÓN!N78/SUPERFICIE!N78*1000 -> 3559.183
A79: Racacha | B79: =+PRODUCCIÓN!B79/SUPERFICIE!B79*1000 -> 5475.4564 | C79: =+PRODUCCIÓN!C79/SUPERFICIE!C79*1000 -> 8130.6911 | D79: =+PRODUCCIÓN!D79/SUPERFICIE!D79*1000 -> 7659.3038 | E79: =+PRODUCCIÓN!E79/SUPERFICIE!E79*1000 -> 5220.8209 | F79: =+PRODUCCIÓN!F79/SUPERFICIE!F79*1000 -> 7908.012 | G79: =+PRODUCCIÓN!G79/SUPERFICIE!G79*1000 -> 8107.6205 | H79: =+PRODUCCIÓN!H79/SUPERFICIE!H79*1000 -> 8756.1119 | I79: =+PRODUCCIÓN!I79/SUPERFICIE!I79*1000 -> 7740.4786 | ... N79: =+PRODUCCIÓN!N79/SUPERFICIE!N79*1000 -> 7899.8336
... A84: Cebada berza | B84: =+PRODUCCIÓN!B84/SUPERFICIE!B84*1000 -> 1601.9655 | C84: =+PRODUCCIÓN!C84/SUPERFICIE!C84*1000 -> 1575.2415 | D84: =+PRODUCCIÓN!D84/SUPERFICIE!D84*1000 -> 1609.9538 | E84: =+PRODUCCIÓN!E84/SUPERFICIE!E84*1000 -> 1663.8545 | F84: =+PRODUCCIÓN!F84/SUPERFICIE!F84*1000 -> 1723.2963 | G84: =+PRODUCCIÓN!G84/SUPERFICIE!G84*1000 -> 1737.322 | H84: =+PRODUCCIÓN!H84/SUPERFICIE!H84*1000 -> 1744.4972 | I84: =+PRODUCCIÓN!I84/SUPERFICIE!I84*1000 -> 1703.4118 | ... N84: =+PRODUCCIÓN!N84/SUPERFICIE!N84*1000 -> 1780.8719
A85: Fuente: MDPRyA (OAP)-INE
A86: (p): preliminar
